Workbook
Name _2010: #REF!
Name _2011: #REF!
Name _2012: #REF!
Name _2013: #REF!
Name _2014: #REF!
Name _2015: #REF!
Name _2016: #REF!
Name _3.1_Total_variaciones_anuales_de_salarios_por_región: Índice!$B$14
Name _3.1_Total_variaciones_de_salarios_por_región: '3.1 V.A Salarios'!$A$8
Name _3.2_Total_variaciones_año_corrido_salarios_año_corrido: Índice!$B$15
Name _3.3_Total_variaciones_salarios_12_meses: '3.3 V.12Meses Salarios'!$A$8
Name _4.2_VAR_Trienales: Índice!#REF!
Name _fechaActualiza: #REF!
Name _fechaActualiza: #REF!
Name _fechaActualiza: #REF!
Name _fechaActualiza: #REF!
Name _fechaActualiza: #REF!
Name _fechaActualiza: #REF!
Name _fechaActualiza: #REF!
Name _fechaActualiza: #REF!
Name _fechaActualiza: #REF!
Name _fechaActualiza: #REF!
Name _fechaActualiza: #REF!
Name _fechaActualiza: #REF!
Name _fechaActualiza: #REF!
Name _fechaActualiza: #REF!
Name _fechaActualiza: #REF!
Name _fechaActualiza: #REF!
Name _fechaActualiza: #REF!
Name _FileSalida: #REF!
Name _FileSalida: #REF!
Name _FileSalida: #REF!
Name _FileSalida: #REF!
Name _FileSalida: #REF!
Name _FileSalida: #REF!
Name _FileSalida: #REF!
Name _FileSalida: #REF!
Name _FileSalida: #REF!
Name _FileSalida: #REF!
Name _FileSalida: #REF!
Name _FileSalida: #REF!
Name _FileSalida: #REF!
Name _FileSalida: #REF!
Name _FileSalida: #REF!
Name _FileSalida: #REF!
Name _FileSalida: #REF!
Name _um: #REF!
Name _um: #REF!
Name _um: #REF!
Name _um: #REF!
Name _um: #REF!
Name _um: #REF!
Name _um: #REF!
Name _um: #REF!
Name _um: #REF!
Name _um: #REF!
Name _um: #REF!
Name _um: #REF!
Name _um: #REF!
Name _um: #REF!

Sheet Índice
A3: ENCUESTA MENSUAL DE ALOJAMIENTO - EMA Agosto 2026ᵖ
A5: Temática de Servicios
A8: 1.1 | B8: Variaciones anuales de los ingresos reales
A9: 1.2 | B9: Variaciones año corrido de los ingresos reales
A10: 1.3 | B10: Variaciones 12 meses de los ingresos reales
A11: 2.1 | B11: Variaciones anuales del personal total y por categoría
A12: 2.2 | B12: Variaciones año corrido del personal total y por categoría
A13: 2.3 | B13: Variaciones 12 meses del personal total y por categoría
A14: 3.1 | B14: Variaciones anuales de los salarios reales
A15: 3.2 | B15: Variaciones año corrido de los salarios reales
A16: 3.3 | B16: Variaciones 12 meses de los salarios reales
A17: 4.1 | B17: Porcentaje de ocupación por escala de habitación
A18: 4.2 | B18: Porcentaje de ocupación mensual
A19: 4.3 | B19: Porcentaje de ocupación año corrido
... A31: 9.2 | B31: Coeficientes de variación estimado porcentual Total regional
A32: ᵖ: Cifra provisional Actualizado el 16 de octubre de 2026

Sheet 1.1 V.A Ing.real
L4: Inicio
A7: ENCUESTA MENSUAL DE ALOJAMIENTO - EMA
A9: 1.1 Variaciones anuales de los ingresos reales
A10: Total nacional y 12 regiones
A11: Enero 2020 - agosto 2026ᵖ
A13: Año | B13: Meses | C13: Total nacional | D13: Bogotá, D. C. | E13: Cartagena | F13: Central | G13: Caribe | H13: Eje Cafetero | I13: Antioquia | J13: San Andrés y Providencia | K13: Pacífico | L13: Santanderes | M13: Llanos Orinoquía | N13: Golfo Morrosquillo y Sabana | O13: Amazonía
A14: 2020 | B14: Enero | C14: 8.2597033 | D14: 4.1461737 | E14: 10.435386 | F14: 3.8402207 | G14: 11.935972 | H14: 17.277027 | I14: 10.440741 | J14: 1.9024447 | K14: 9.3417746 | L14: 13.013758 | M14: -0.30359756 | N14: 11.290652 | O14: 13.939336
B15: Febrero | C15: 10.466708 | D15: 6.9181175 | E15: 9.6225244 | F15: 6.2427469 | G15: 29.292752 | H15: 6.4131496 | I15: 14.181376 | J15: 10.424189 | K15: 7.5626006 | L15: 4.6640269 | M15: -3.9854901 | N15: 5.3558662 | O15: 5.583209
B16: Marzo | C16: -45.224366 | D16: -42.931537 | E16: -49.876296 | F16: -52.698019 | G16: -51.419937 | H16: -51.854045 | I16: -42.881486 | J16: -32.224108 | K16: -42.149961 | L16: -40.523194 | M16: -42.111602 | N16: -46.79958 | O16: -50.241951
B17: Abril | C17: -94.992609 | D17: -88.311354 | E17: -98.941402 | F17: -97.3459 | G17: -96.455385 | H17: -97.66027 | I17: -94.591778 | J17: -100 | K17: -95.287343 | L17: -93.465935 | M17: -94.958358 | N17: -98.51314 | O17: -95.553793
B18: Mayo | C18: -94.690663 | D18: -91.069859 | E18: -98.547285 | F18: -93.072227 | G18: -95.622782 | H18: -96.068577 | I18: -93.921235 | J18: -100 | K18: -93.622562 | L18: -93.066548 | M18: -92.321244 | N18: -98.10239 | O18: -95.167462
B19: Junio | C19: -92.945435 | D19: -86.700889 | E19: -98.222479 | F19: -96.315872 | G19: -94.038236 | H19: -97.044528 | I19: -90.96832 | J19: -100 | K19: -91.491983 | L19: -88.874922 | M19: -81.441244 | N19: -93.603459 | O19: -92.535065
B20: Julio | C20: -91.893936 | D20: -88.653052 | E20: -98.41146 | F20: -93.593544 | G20: -92.254628 | H20: -92.471152 | I20: -86.571791 | J20: -100 | K20: -87.690868 | L20: -84.298955 | M20: -73.012089 | N20: -88.495859 | O20: -90.887485
B21: Agosto | C21: -91.519508 | D21: -88.189672 | E21: -98.650947 | F21: -90.510208 | G21: -92.765256 | H21: -86.099874 | I21: -88.54371 | J21: -99.992703 | K21: -86.540338 | L21: -82.690815 | M21: -71.887608 | N21: -87.094503 | O21: -89.147814
B22: Septiembre | C22: -83.201945 | D22: -85.298468 | E22: -93.025059 | F22: -74.868862 | G22: -80.486685 | H22: -60.781924 | I22: -76.333773 | J22: -99.997769 | K22: -73.141548 | L22: -66.650978 | M22: -49.614658 | N22: -70.519577 | O22: -86.372203
B23: Octubre | C23: -64.62042 | D23: -78.056257 | E23: -66.745619 | F23: -43.930629 | G23: -47.209012 | H23: -31.629532 | I23: -59.387867 | J23: -87.182079 | K23: -58.990568 | L23: -49.14422 | M23: -14.087563 | N23: -51.990111 | O23: -85.249431
B24: Noviembre | C24: -58.52513 | D24: -69.279397 | E24: -65.518921 | F24: -41.503957 | G24: -44.176751 | H24: -30.770898 | I24: -54.15455 | J24: -76.115859 | K24: -47.265661 | L24: -39.128458 | M24: -17.853408 | N24: -33.430884 | O24: -81.663434
B25: Diciembre | C25: -49.210413 | D25: -61.3674 | E25: -57.744202 | F25: -32.386539 | G25: -33.654236 | H25: -23.927143 | I25: -44.06187 | J25: -59.861954 | K25: -44.4446 | L25: -36.278678 | M25: -20.439927 | N25: -23.29827 | O25: -79.003701
A26: 2021 | B26: Enero | C26: -45.63107 | D26: -67.120622 | E26: -50.675983 | F26: -33.503713 | G26: -19.987423 | H26: -31.415671 | I26: -46.967551 | J26: -49.320007 | K26: -49.349177 | L26: -26.936172 | M26: -18.304446 | N26: -19.629106 | O26: -70.801847
B27: Febrero | C27: -52.237015 | D27: -70.516092 | E27: -60.941559 | F27: -26.294812 | G27: -35.634633 | H27: -27.959966 | I27: -47.512491 | J27: -44.452965 | K27: -48.181735 | L27: -29.007899 | M27: -18.981262 | N27: -10.455199 | O27: -77.813801
B28: Marzo | C28: 14.987629 | D28: -34.816903 | E28: 18.362192 | F28: 114.82226 | G28: 58.954767 | H28: 84.868615 | I28: 19.51917 | J28: 4.7572936 | K28: 24.979728 | L28: 47.482545 | M28: 64.738131 | N28: 72.774889 | O28: -49.699243
B29: Abril | C29: 1001.3294 | D29: 185.49313 | E29: 5550.7855 | F29: 2526.2643 | G29: 1440.011 | H29: 3116.2162 | I29: 859.53295 | J29: - | K29: 1316.0423 | L29: 1092.9945 | M29: 1376.723 | N29: 4712.1939 | O29: 430.22793
B30: Mayo | C30: 816.71485 | D30: 228.51608 | E30: 3453.3624 | F30: 839.25605 | G30: 1489.1371 | H30: 1025.375 | I30: 739.45384 | J30: - | K30: 504.32238 | L30: 874.95341 | M30: 800.87442 | N30: 3594.5239 | O30: 314.58067
B31: Junio | C31: 873.80879 | D31: 206.42671 | E31: 4447.1262 | F31: 2028.038 | G31: 1519.6119 | H31: 2374.9697 | I31: 616.33977 | J31: - | K31: 541.22041 | L31: 566.53853 | M31: 532.76088 | N31: 1275.795 | O31: 252.08288
B32: Julio | C32: 888.63954 | D32: 289.43019 | E32: 5644.6571 | F32: 1469.5531 | G32: 1321.7703 | H32: 1222.2118 | I32: 500.65797 | J32: - | K32: 483.24652 | L32: 475.69546 | M32: 379.43036 | N32: 880.81863 | O32: 318.78266
B33: Agosto | C33: 826.51612 | D33: 315.72586 | E33: 6234.4442 | F33: 907.33197 | G33: 1275.2712 | H33: 536.59049 | I33: 581.22927 | J33: * | K33: 481.66932 | L33: 435.42597 | M33: 368.29154 | N33: 735.78348 | O33: 432.82194
B34: Septiembre | C34: 392.73397 | D34: 257.65387 | E34: 1246.6095 | F34: 310.38406 | G34: 443.31513 | H34: 166.19494 | I34: 265.33787 | J34: * | K34: 217.68287 | L34: 188.6674 | M34: 145.34615 | N34: 264.701 | O34: 314.84657
B35: Octubre | C35: 173.95844 | D35: 179.60344 | E35: 234.45396 | F35: 117.20735 | G35: 170.32639 | H35: 68.836453 | I35: 147.12768 | J35: 662.95363 | K35: 115.01056 | L35: 117.4761 | M35: 54.992986 | N35: 139.64101 | O35: 354.68383
B36: Noviembre | C36: 132.14787 | D36: 127.62322 | E36: 202.41419 | F36: 72.115261 | G36: 112.63862 | H36: 55.449844 | I36: 121.90765 | J36: 323.43631 | K36: 108.27034 | L36: 74.782636 | M36: 52.190821 | N36: 95.874224 | O36: 301.34132
B37: Diciembre | C37: 102.89509 | D37: 95.232383 | E37: 163.39863 | F37: 62.085883 | G37: 80.169149 | H37: 55.204167 | I37: 95.674176 | J37: 148.52618 | K37: 93.026454 | L37: 78.189739 | M37: 43.472174 | N37: 78.080978 | O37: 284.65644
A38: 2022 | B38: Enero | C38: 79.764096 | D38: 97.015328 | E38: 109.81857 | F38: 61.795559 | G38: 47.479183 | H38: 45.147079 | I38: 92.416544 | J38: 102.07787 | K38: 67.792068 | L38: 51.59347 | M38: 39.505276 | N38: 50.616838 | O38: 149.34764
B39: Febrero | C39: 85.392327 | D39: 120.4622 | E39: 147.03643 | F39: 38.742098 | G39: 51.982596 | H39: 41.29432 | I39: 82.305302 | J39: 75.417589 | K39: 60.366528 | L39: 42.931334 | M39: 24.271361 | N39: 28.050761 | O39: 284.09106
B40: Marzo | C40: 68.804305 | D40: 139.46511 | E40: 92.904757 | F40: 6.802379 | G40: 56.98634 | H40: 23.650867 | I40: 69.412635 | J40: 45.774959 | K40: 38.914005 | L40: 33.375852 | M40: 8.6370282 | N40: 22.851626 | O40: 328.76079
B41: Abril | C41: 109.41139 | D41: 152.02888 | E41: 125.6119 | F41: 75.412511 | G41: 161.56026 | H41: 75.574233 | I41: 151.89537 | J41: 43.182737 | K41: 55.557471 | L41: 52.19909 | M41: 51.886129 | N41: 91.686063 | O41: 360.28477
B42: Mayo | C42: 113.43087 | D42: 171.9583 | E42: 143.86269 | F42: 71.391241 | G42: 89.949891 | H42: 160.1098 | I42: 121.76887 | J42: 29.282043 | K42: 139.01206 | L42: 72.513765 | M42: 50.827219 | N42: 47.82459 | O42: 416.52136
B43: Junio | C43: 57.600283 | D43: 115.37142 | E43: 73.982818 | F43: 26.236991 | G43: 31.014327 | H43: 47.320527 | I43: 74.816725 | J43: 6.7693774 | K43: 60.710612 | L43: 45.363096 | M43: 22.386599 | N43: 34.491591 | O43: 286.23112
B44: Julio | C44: 46.358962 | D44: 94.515789 | E44: 58.41376 | F44: 24.445647 | G44: 27.962263 | H44: 39.779813 | I44: 49.684977 | J44: 2.061225 | K44: 59.659924 | L44: 34.658835 | M44: 21.091465 | N44: 27.571143 | O44: 120.16724
B45: Agosto | C45: 36.545684 | D45: 71.78733 | E45: 52.525218 | F45: 8.517734 | G45: 17.861511 | H45: 31.284736 | I45: 47.139081 | J45: -3.1474402 | K45: 35.472861 | L45: 15.059601 | M45: 14.27145 | N45: 25.028131 | O45: 52.216582
B46: Septiembre | C46: 31.27843 | D46: 70.428933 | E46: 48.739873 | F46: 5.0774058 | G46: 10.679367 | H46: 18.52476 | I46: 31.545399 | J46: -1.5683666 | K46: 16.018201 | L46: 7.4892983 | M46: 6.9064708 | N46: 16.969169 | O46: 45.381567
B47: Octubre | C47: 15.437077 | D47: 58.722944 | E47: 15.903149 | F47: -6.7520961 | G47: -8.3176224 | H47: 4.3067277 | I47: 26.523493 | J47: -12.361956 | K47: 16.889179 | L47: -1.565935 | M47: 1.542283 | N47: 4.769652 | O47: 34.561123
B48: Noviembre | C48: 9.1712976 | D48: 34.376601 | E48: 8.0013122 | F48: -4.9974794 | G48: -1.2140103 | H48: 7.7153499 | I48: 25.818431 | J48: -15.384897 | K48: -13.725577 | L48: 1.3310598 | M48: -2.2152075 | N48: -9.0666604 | O48: 31.131323
B49: Diciembre | C49: 5.0359868 | D49: 16.85205 | E49: 8.0483873 | F49: 0.074179824 | G49: -0.056375685 | H49: 4.0198559 | I49: 14.694462 | J49: -12.827521 | K49: -3.4463261 | L49: -1.750358 | M49: -0.53094487 | N49: -7.8049914 | O49: 5.7582073
A50: 2023p | B50: Enero | C50: 8.8869858 | D50: 44.639878 | E50: 15.042782 | F50: -5.7529947 | G50: -2.4443874 | H50: -2.5757198 | I50: 15.916586 | J50: -14.294732 | K50: 12.576584 | L50: -6.244577 | M50: -5.9564456 | N50: -5.0386372 | O50: 25.191565
B51: Febrero | C51: 15.488295 | D51: 39.429955 | E51: 22.063344 | F51: 0.92202039 | G51: 22.251415 | H51: 7.1196279 | I51: 14.918825 | J51: -21.545555 | K51: -1.1126137 | L51: -3.8139673 | M51: 4.0868977 | N51: -8.4120893 | O51: 18.383603
B52: Marzo | C52: 2.7946332 | D52: 20.733579 | E52: 8.867485 | F52: -0.65340669 | G52: -8.4403652 | H52: 0.23644811 | I52: 7.0871691 | J52: -32.845876 | K52: -2.0691467 | L52: -10.547773 | M52: -4.6705688 | N52: -7.018044 | O52: -9.6709018
B53: Abril | C53: -9.0645465 | D53: 7.4755753 | E53: -5.4135819 | F53: -8.110074 | G53: -16.677933 | H53: -15.881234 | I53: -3.0845871 | J53: -43.132218 | K53: -10.435811 | L53: -17.207642 | M53: -14.201053 | N53: -17.207674 | O53: -3.4949191
B54: Mayo | C54: -2.0524338 | D54: 3.4515612 | E54: 0.6607762 | F54: 4.1960795 | G54: -8.6304669 | H54: -10.291257 | I54: 9.7692614 | J54: -32.224763 | K54: -3.0638509 | L54: -7.523755 | M54: 14.548875 | N54: -1.9209964 | O54: -11.064383
B55: Junio | C55: -2.8327393 | D55: 11.43751 | E55: 0.88491286 | F55: -2.3582188 | G55: -13.162501 | H55: -5.0567601 | I55: -0.54862732 | J55: -31.05512 | K55: -1.4668743 | L55: -12.631103 | M55: -1.0669756 | N55: -7.8873431 | O55: -9.1656638
B56: Julio | C56: -8.4882547 | D56: -1.900709 | E56: -4.758047 | F56: -5.542743 | G56: -14.657328 | H56: -7.8548104 | I56: -0.6119537 | J56: -22.586091 | K56: -23.084978 | L56: -17.253311 | M56: -18.65397 | N56: -23.973927 | O56: 4.5479923
B57: Agosto | C57: -6.1497564 | D57: 3.8398972 | E57: -4.5297156 | F57: 2.4517264 | G57: -8.8154045 | H57: -5.1867159 | I57: -4.0616578 | J57: -23.185615 | K57: -22.598214 | L57: -12.551409 | M57: -27.031767 | N57: -13.157092 | O57: 3.031663
B58: Septiembre | C58: -11.642217 | D58: -7.0057477 | E58: -13.924423 | F58: -1.9615593 | G58: -4.7731965 | H58: -8.6937828 | I58: -8.9886094 | J58: -38.806291 | K58: -15.290366 | L58: -4.5218714 | M58: -19.435335 | N58: -19.188225 | O58: 1.6079709
B59: Octubre | C59: -15.158302 | D59: -13.517461 | E59: -14.219291 | F59: -5.3958203 | G59: -12.105861 | H59: -11.440085 | I59: -15.497152 | J59: -34.586724 | K59: -17.412982 | L59: -16.889053 | M59: -14.244846 | N59: -22.543426 | O59: -14.283459
B60: Noviembre | C60: -3.3363515 | D60: -3.8592687 | E60: -1.41668 | F60: 5.1391131 | G60: -2.8959984 | H60: 23.695466 | I60: -4.2081576 | J60: -25.090581 | K60: -0.60001191 | L60: -8.4460353 | M60: -4.7504699 | N60: -13.314892 | O60: -8.4535354
B61: Diciembre | C61: -7.472755 | D61: 4.8003132 | E61: -9.0297045 | F61: -2.2392717 | G61: -12.684033 | H61: 1.3461668 | I61: -15.429294 | J61: -12.840157 | K61: -12.551721 | L61: -9.3327993 | M61: -12.328078 | N61: -19.617283 | O61: -4.5656289
A62: 2024p | B62: Enero | C62: -10.485101 | D62: -5.1974225 | E62: -12.679271 | F62: 4.8841541 | G62: -15.046781 | H62: -7.2147149 | I62: -12.523538 | J62: -11.205875 | K62: -15.431802 | L62: -12.945153 | M62: -22.292257 | N62: -8.3955276 | O62: -9.0629161
B63: Febrero | C63: -4.7134371 | D63: -2.8366057 | E63: -5.1520648 | F63: -3.991572 | G63: -8.2736056 | H63: 5.1359299 | I63: -8.3208305 | J63: -7.4343147 | K63: 5.7242019 | L63: -5.0277759 | M63: -9.5404874 | N63: -0.2595191 | O63: -11.516272
B64: Marzo | C64: -5.3710796 | D64: -20.112012 | E64: -3.2805973 | F64: 19.991495 | G64: -1.7242449 | H64: 20.289202 | I64: -11.588864 | J64: 6.6897166 | K64: -0.24067148 | L64: -1.677893 | M64: -4.6768826 | N64: 7.3890909 | O64: 29.0568
B65: Abril | C65: -5.3112366 | D65: 11.470597 | E65: -8.0654481 | F65: -31.966392 | G65: -13.937889 | H65: -16.457059 | I65: -9.8203365 | J65: 9.9551879 | K65: 0.064719921 | L65: -4.057738 | M65: -16.465794 | N65: -11.992662 | O65: -10.136157
B66: Mayo | C66: -4.3592486 | D66: -5.0341701 | E66: -5.5234347 | F66: -2.4660306 | G66: 6.7429911 | H66: 4.2784921 | I66: -14.047454 | J66: 7.0821092 | K66: -8.1719778 | L66: -9.099467 | M66: -18.077333 | N66: -2.0387704 | O66: 2.3836774
B67: Junio | C67: -3.1850996 | D67: -5.5629941 | E67: -5.6757553 | F67: 0.80317578 | G67: 3.5000845 | H67: 0.95341998 | I67: -8.5795247 | J67: 11.090073 | K67: -3.6301903 | L67: -1.0752999 | M67: -12.934658 | N67: -8.9374559 | O67: -5.9510459
B68: Julio | C68: -7.6895239 | D68: 1.8515258 | E68: -11.442935 | F68: -12.194775 | G68: -8.4534203 | H68: -13.685247 | I68: -14.136834 | J68: 2.7620572 | K68: -6.9801389 | L68: -11.854683 | M68: -10.032033 | N68: -8.6613562 | O68: -13.80534
B69: Agosto | C69: -2.3658563 | D69: -1.6820773 | E69: -2.905129 | F69: -6.0493374 | G69: -3.3487839 | H69: -6.6163907 | I69: -4.3943428 | J69: 6.0796901 | K69: 3.3882712 | L69: -3.1192033 | M69: 7.0735139 | N69: -6.7340339 | O69: -14.518788
B70: Septiembre | C70: -0.28038552 | D70: 3.2271487 | E70: -1.7971773 | F70: -11.533863 | G70: 2.3377044 | H70: -2.8358856 | I70: -6.7743339 | J70: 19.618586 | K70: 3.8296894 | L70: -9.731071 | M70: -4.1167317 | N70: -9.4526296 | O70: -11.774185
B71: Octubre | C71: 6.465095 | D71: -0.42735036 | E71: 5.9260584 | F71: -5.5952757 | G71: 3.4331926 | H71: 2.6325506 | I71: -1.6611054 | J71: 25.771672 | K71: 66.136559 | L71: 9.2333136 | M71: -2.8229391 | N71: 8.0417553 | O71: -1.9677373
B72: Noviembre | C72: -1.971072 | D72: 1.7287115 | E72: 1.7838212 | F72: 2.0752802 | G72: -7.3660318 | H72: -13.169008 | I72: -12.834286 | J72: 4.4058416 | K72: 3.3429145 | L72: -0.89792281 | M72: -10.354711 | N72: 8.2589726 | O72: -9.5489236
B73: Diciembre | C73: -2.5293183 | D73: -6.4957371 | E73: -1.0986891 | F73: -6.1313819 | G73: -3.7801653 | H73: -13.649392 | I73: 4.8914933 | J73: 2.3145183 | K73: -3.2864583 | L73: 5.5767275 | M73: -8.6135189 | N73: 13.641658 | O73: -11.605019
A74: 2025p | B74: Enero | C74: 1.300571 | D74: 0.38239364 | E74: 3.3356302 | F74: -3.3172378 | G74: 1.9000979 | H74: 4.2434943 | I74: -2.7829506 | J74: 4.0587242 | K74: -0.11141618 | L74: -2.8110326 | M74: 21.756723 | N74: -0.77247584 | O74: -21.475331
B75: Febrero | C75: -4.287661 | D75: -4.2725546 | E75: -3.4887577 | F75: -4.4765851 | G75: -5.7009204 | H75: -11.98591 | I75: -4.9684621 | J75: 4.6657028 | K75: -10.522614 | L75: -6.199634 | M75: 2.2120971 | N75: 1.4935612 | O75: -17.093542
B76: Marzo | C76: -2.7563609 | D76: 4.9094987 | E76: -3.9378088 | F76: -18.876418 | G76: 2.4299354 | H76: -16.313341 | I76: -0.42563796 | J76: -1.8988832 | K76: -11.738044 | L76: -3.9878567 | M76: -4.4839138 | N76: 2.0699969 | O76: -29.651996
B77: Abril | C77: -1.6009238 | D77: -16.264393 | E77: -0.95679911 | F77: 34.414457 | G77: 0.4807328 | H77: 19.934997 | I77: 1.264307 | J77: 12.085234 | K77: -8.2735421 | L77: -8.5100413 | M77: 6.671844 | N77: 20.477511 | O77: -13.272195
B78: Mayo | C78: -1.1095932 | D78: 0.97401646 | E78: -6.494459 | F78: 13.368904 | G78: -4.5807172 | H78: -2.2226185 | I78: -0.78254482 | J78: 2.7819587 | K78: 2.4345253 | L78: 0.33895779 | M78: 0.80321228 | N78: 2.6166326 | O78: -26.603516
B79: Junio | C79: -4.1384923 | D79: -5.9672167 | E79: -6.3090083 | F79: -1.2088433 | G79: -1.5496565 | H79: -2.1001673 | I79: -5.3395755 | J79: -4.2640683 | K79: 1.2236731 | L79: -5.2971253 | M79: 3.8028197 | N79: 14.437102 | O79: -15.963221
B80: Julio | C80: 0.16740282 | D80: -1.1759523 | E80: -4.153704 | F80: 1.0897443 | G80: 3.5137237 | H80: 0.35491939 | I80: 2.6464658 | J80: -3.2774274 | K80: 10.096848 | L80: 5.0318202 | M80: 8.3560576 | N80: 21.287396 | O80: -17.601922
B81: Agosto | C81: -4.1225729 | D81: -6.8809359 | E81: -8.5547492 | F81: 1.737758 | G81: -0.15607174 | H81: 8.3872951 | I81: -4.7799831 | J81: -6.0238149 | K81: -0.12456741 | L81: -1.0088698 | M81: 6.8815123 | N81: 12.848175 | O81: -8.5815933
B82: Septiembre | C82: -5.0305664 | D82: -7.7954978 | E82: -6.2769511 | F82: 7.0586236 | G82: -8.178642 | H82: 2.8273464 | I82: -2.5579835 | J82: -5.3541888 | K82: -8.7409702 | L82: 0.74969431 | M82: 4.1548641 | N82: 10.568148 | O82: -19.347512
B83: Octubre | C83: -3.3763848 | D83: 2.088266 | E83: -3.1506073 | F83: 6.2517613 | G83: -2.9433224 | H83: 7.0568051 | I83: -0.47550884 | J83: -10.822489 | K83: -32.947974 | L83: -0.32845521 | M83: -5.0045534 | N83: 10.522479 | O83: -5.2906182
B84: Noviembre | C84: -5.0078748 | D84: -4.6786422 | E84: -7.9626753 | F84: -4.076111 | G84: 3.6393872 | H84: -11.211113 | I84: -3.5012289 | J84: -6.4125692 | K84: -9.5776086 | L84: -2.3458821 | M84: -8.3025971 | N84: 0.08917814 | O84: -12.671469
B85: Diciembre | C85: -3.2343007 | D85: -4.4241155 | E85: -0.9731745 | F85: 3.4304807 | G85: 2.6804005 | H85: -3.2679419 | I85: -14.11789 | J85: -8.767104 | K85: 2.026194 | L85: -9.1507671 | M85: 5.046963 | N85: -0.32060645 | O85: -4.0040719
A86: 2026p | B86: Enero | C86: -4.0865528 | D86: -9.3060987 | E86: -6.6475525 | F86: 2.4242412 | G86: 0.62209726 | H86: -2.741626 | I86: 0.86171796 | J86: -8.3056107 | K86: -6.6389313 | L86: -2.3892575 | M86: -6.7232081 | N86: 20.075963 | O86: 4.5024833
B87: Febrero | C87: -5.1287189 | D87: -7.1158496 | E87: -4.3395478 | F87: -6.294008 | G87: -5.7498207 | H87: 5.5500781 | I87: -8.3434978 | J87: -8.7888179 | K87: 6.7974531 | L87: -1.1028135 | M87: -6.6194845 | N87: -3.8167085 | O87: -4.8650208
B88: Marzo | C88: -5.3814511 | D88: -5.7146576 | E88: -6.2519056 | F88: -0.91471172 | G88: -11.213871 | H88: 4.9287014 | I88: -9.052548 | J88: -0.16726662 | K88: -1.5552082 | L88: -2.2952848 | M88: 2.9192223 | N88: -4.8693518 | O88: 4.7912583
B89: Abril | C89: -5.7658127 | D89: -0.73248423 | E89: -8.7668544 | F89: -11.477217 | G89: -0.14530575 | H89: -7.5268617 | I89: -14.618038 | J89: -7.7690622 | K89: 1.9203499 | L89: 3.5882745 | M89: -0.748826 | N89: -6.730461 | O89: -11.453015
B90: Mayo | C90: -7.3342759 | D90: -7.6694554 | E90: -6.5230759 | F90: -16.986864 | G90: -6.6140684 | H90: -0.4283789 | I90: -10.412107 | J90: -4.122341 | K90: -12.692377 | L90: -3.3539965 | M90: 3.6817841 | N90: 7.3114161 | O90: 18.57923
B91: Junio | C91: -12.996479 | D91: -15.107342 | E91: -17.620565 | F91: -8.7332772 | G91: -8.3604591 | H91: -8.5502578 | I91: -17.234404 | J91: -3.4233111 | K91: -14.791799 | L91: -10.955197 | M91: -6.2820103 | N91: -5.1118645 | O91: 4.4921779
B92: Julio | C92: -7.3727235 | D92: -11.401809 | E92: -8.5690364 | F92: 6.0315366 | G92: -3.9499377 | H92: 3.0198207 | I92: -14.614874 | J92: -8.3843216 | K92: -10.842086 | L92: 3.6680914 | M92: -3.0840415 | N92: -2.7992881 | O92: 10.915643
B93: Agosto | C93: -11.828826 | D93: -10.122312 | E93: -7.259664 | F93: -6.3130458 | G93: -11.007488 | H93: -44.873891 | I93: -13.259798 | J93: -10.605513 | K93: -26.793649 | L93: -4.5835312 | M93: -4.2302066 | N93: -1.6955481 | O93: 0.49306836
B95: Fuente: DANE, EMA. ᵖ: Cifra provisional Nota metodológica: Variación anual = ((Valor mes año actual − valor mes año anterior) / valor mes año anterior) × 100 Regiones: Bogotá, D. C.; Cartagena; Región Central (Boyacá, Cundinamarca, Huila y Tolima); Región Costa Caribe (Atlántico, Cesar, La Guajira y Magdalena); Región Eje Cafetero (Caldas, Quindío y Risaralda); Antioquia; San Andrés y Providencia; Región Pacífico (Valle del Cauca, Cauca, Nariño y Chocó); Región Santanderes (Santander y Norte de Santander); Región Llanos Orinoquía (Meta, Casanare, Arauca y Vichada); Región Golfo Morrosquillo y Sabana (Bolívar, Córdoba y Sucre); y Región Amazonía (Amazonas, Caquetá, Guainía, Putumayo, Guaviare y Vaupés). Nota 1: San Andrés y Providencia no presenta variación anual en ingresos reales, dado que para los meses de abril hasta agosto de 2020 no se presentó oferta de alojamiento en los establecimientos de la muestra. Nota 2: Como parte del proceso de producción estadística algunas fuentes de información presentaron actualización en la información; como consecuencia de este proceso se presentan cambios en la serie histórica. * Variación anual superior a 10.000 %.
B96: Actualizado el 16 de octubre de 2026

Sheet 1.2 V.A.C Ing.real
L4: Inicio
A7: ENCUESTA MENSUAL DE ALOJAMIENTO - EMA
A9: 1.2 Variaciones año corrido de los ingresos reales
A10: Total nacional y 12 regiones
A11: Enero 2020 - agosto 2026ᵖ
A13: Año | B13: Meses | C13: Total nacional | D13: Bogotá, D. C. | E13: Cartagena | F13: Central | G13: Caribe | H13: Eje Cafetero | I13: Antioquia | J13: San Andrés y Providencia | K13: Pacífico | L13: Santanderes | M13: Llanos Orinoquía | N13: Golfo Morrosquillo y Sabana | O13: Amazonía
A14: 2020 | B14: Enero | C14: 8.2597033 | D14: 4.1461737 | E14: 10.435386 | F14: 3.8402207 | G14: 11.935972 | H14: 17.277027 | I14: 10.440741 | J14: 1.9024447 | K14: 9.3417746 | L14: 13.013758 | M14: -0.30359756 | N14: 11.290652 | O14: 13.939336
B15: Febrero | C15: 9.3118569 | D15: 5.7297639 | E15: 10.065934 | F15: 4.7753594 | G15: 19.244872 | H15: 12.989189 | I15: 12.259207 | J15: 5.6603985 | K15: 8.4175018 | L15: 8.7832884 | M15: -1.958833 | N15: 8.689924 | O15: 10.361868
B16: Marzo | C16: -9.4407134 | D16: -12.778853 | E16: -9.6006242 | F16: -12.442493 | G16: -5.6892461 | H16: -7.1066814 | I16: -6.7493797 | J16: -6.5067107 | K16: -9.5317997 | L16: -8.5652701 | M16: -15.384345 | N16: -10.036244 | O16: -7.5331662
B17: Abril | C17: -30.050036 | D17: -32.033573 | E17: -29.309804 | F17: -33.579826 | G17: -27.33557 | H17: -29.08668 | I17: -27.712971 | J17: -28.509035 | K17: -31.304044 | L17: -31.129608 | M17: -36.38728 | N17: -31.85613 | O17: -28.519684
B18: Mayo | C18: -42.944135 | D18: -46.151395 | E18: -41.15142 | F18: -43.962151 | G18: -39.228096 | H18: -41.286881 | I18: -41.489295 | J18: -42.015027 | K18: -45.343925 | L18: -43.932423 | M18: -46.469559 | N18: -44.596745 | O18: -41.875343
B19: Junio | C19: -51.320553 | D19: -53.055633 | E19: -49.111336 | F19: -54.581523 | G19: -48.593498 | H19: -51.405463 | I19: -50.203124 | J19: -52.017432 | K19: -53.695969 | L19: -52.388675 | M19: -51.119737 | N19: -53.323545 | O19: -51.27248
B20: Julio | C20: -57.482038 | D20: -58.559808 | E20: -55.96245 | F20: -60.803178 | G20: -55.25877 | H20: -57.647814 | I20: -56.199808 | J20: -59.213782 | K20: -59.100793 | L20: -57.312602 | M20: -53.803462 | N20: -58.581419 | O20: -59.056619
B21: Agosto | C21: -62.203987 | D21: -62.700033 | E21: -61.634274 | F21: -64.778996 | G21: -60.611837 | H21: -61.614896 | I21: -61.074478 | J21: -64.546983 | K21: -63.187963 | L21: -60.977535 | M21: -55.749402 | N21: -62.360197 | O21: -63.600603
B22: Septiembre | C22: -64.6426 | D22: -65.631628 | E22: -64.857411 | F22: -65.84807 | G22: -62.841604 | H22: -61.53058 | I22: -62.902628 | J22: -68.566873 | K22: -64.439617 | L22: -61.693773 | M22: -55.089619 | N22: -63.267081 | O22: -66.481875
B23: Octubre | C23: -64.640269 | D23: -67.057532 | E23: -65.0346 | F23: -63.42375 | G23: -61.319322 | H23: -58.404745 | I23: -62.544522 | J23: -70.484252 | K23: -63.830267 | L23: -60.266386 | M23: -50.816351 | N23: -62.01026 | O23: -68.71777
B24: Noviembre | C24: -64.025123 | D24: -67.293481 | E24: -65.082217 | F24: -61.116904 | G24: -59.611598 | H24: -55.786449 | I24: -61.723384 | J24: -71.008069 | K24: -62.150691 | L24: -58.074804 | M24: -47.548219 | N24: -59.302487 | O24: -70.054592
B25: Diciembre | C25: -62.618959 | D25: -66.810266 | E25: -64.31366 | F25: -58.083242 | G25: -56.918899 | H25: -52.630856 | I25: -60.117003 | J25: -69.963031 | K25: -60.492024 | L25: -55.935039 | M25: -44.618819 | N25: -55.960983 | O25: -70.945247
A26: 2021 | B26: Enero | C26: -45.63107 | D26: -67.120622 | E26: -50.675983 | F26: -33.503713 | G26: -19.987423 | H26: -31.415671 | I26: -46.967551 | J26: -49.320007 | K26: -49.349177 | L26: -26.936172 | M26: -18.304446 | N26: -19.629106 | O26: -70.801847
B27: Febrero | C27: -48.813619 | D27: -69.08223 | E27: -55.322979 | F27: -30.658485 | G27: -27.131634 | H27: -30.131128 | I27: -47.237003 | J27: -47.076952 | K27: -48.747478 | L27: -27.946085 | M27: -18.602426 | N27: -15.732256 | O27: -73.673855
B28: Marzo | C28: -35.543973 | D28: -60.554774 | E28: -41.918397 | F28: -7.1132125 | G28: -11.484952 | H28: -11.659109 | I28: -33.141058 | J28: -35.008895 | K28: -32.013012 | L28: -10.682458 | M28: 0.46150864 | N28: 1.9307196 | O28: -69.864412
B29: Abril | C29: -17.6633 | D29: -49.76797 | E29: -23.442209 | F29: 18.089206 | G29: 5.4009146 | H29: 13.39099 | I29: -17.202518 | J29: -11.660917 | K29: -8.5338072 | L29: 17.146979 | M29: 29.25125 | N29: 27.276811 | O29: -62.447736
B30: Mayo | C30: -2.1755497 | D30: -38.731737 | E30: -8.7632759 | F30: 35.805656 | G30: 24.012645 | H30: 25.733337 | I30: -0.84566068 | J30: 11.835549 | K30: 4.9480508 | L30: 39.074157 | M30: 49.202883 | N30: 50.774979 | O30: -56.166161
B31: Junio | C31: 19.091046 | D31: -26.906326 | E31: 12.944772 | F31: 68.584488 | G31: 53.64987 | H31: 51.662077 | I31: 18.868124 | J31: 42.657921 | K31: 22.781456 | L31: 62.264469 | M31: 73.615646 | N31: 80.669387 | O31: -47.406522
B32: Julio | C32: 44.266399 | D32: -13.513248 | E32: 41.175927 | F32: 105.10214 | G32: 87.163214 | H32: 83.292985 | I32: 43.222865 | J32: 77.680307 | K32: 44.814627 | L32: 85.729058 | M32: 95.516641 | N32: 113.89241 | O32: -31.392113
B33: Agosto | C33: 68.615585 | D33: 1.053384 | E33: 70.11053 | F33: 134.03032 | G33: 118.30974 | H33: 106.1804 | I33: 67.087225 | J33: 112.26845 | K33: 68.606416 | L33: 108.12961 | M33: 114.16388 | N33: 142.1509 | O33: -10.492478
B34: Septiembre | C34: 86.498904 | D34: 15.292623 | E34: 94.086428 | F34: 147.78036 | G34: 137.45761 | H34: 112.37352 | I34: 82.239506 | J34: 145.35422 | K34: 82.765275 | L34: 116.98125 | M34: 117.92633 | N34: 153.08257 | O34: 6.2443376
B35: Octubre | C35: 95.693473 | D35: 27.853719 | E35: 106.61393 | F35: 142.59636 | G35: 141.82592 | H35: 104.89245 | I35: 89.407906 | J35: 168.50671 | K35: 86.853649 | L35: 117.05329 | M35: 106.46934 | N35: 151.18938 | O35: 25.818453
B36: Noviembre | C36: 99.921205 | D36: 37.805344 | E36: 115.91492 | F36: 131.43749 | G36: 137.80714 | H36: 97.557248 | I36: 93.217673 | J36: 180.37845 | K36: 89.879215 | L36: 110.69012 | M36: 98.041213 | N36: 142.61686 | O36: 43.240324
B37: Diciembre | C37: 100.30473 | D37: 43.255883 | E37: 121.80372 | F37: 119.62536 | G37: 128.5992 | H37: 90.820289 | I37: 93.531043 | J37: 176.38775 | K37: 90.293794 | L37: 106.07624 | M37: 89.569803 | N37: 132.1851 | O37: 60.603183
A38: 2022 | B38: Enero | C38: 79.764096 | D38: 97.015328 | E38: 109.81857 | F38: 61.795559 | G38: 47.479183 | H38: 45.147079 | I38: 92.416544 | J38: 102.07787 | K38: 67.792068 | L38: 51.59347 | M38: 39.505276 | N38: 50.616838 | O38: 149.34764
B39: Febrero | C39: 82.294262 | D39: 109.9327 | E39: 124.5475 | F39: 52.124169 | G39: 49.295419 | H39: 43.670442 | I39: 87.443021 | J39: 89.181852 | K39: 63.922707 | L39: 47.433131 | M39: 32.829487 | N39: 40.431056 | O39: 195.858
B40: Marzo | C40: 77.288983 | D40: 122.07788 | E40: 112.81686 | F40: 35.160078 | G40: 51.805701 | H40: 36.941082 | I40: 80.637116 | J40: 72.892282 | K40: 53.487789 | L40: 42.120606 | M40: 23.754822 | N40: 34.484495 | O40: 231.10636
B41: Abril | C41: 84.6985 | D41: 129.54064 | E41: 115.93684 | F41: 44.065667 | G41: 70.461316 | H41: 45.716884 | I41: 95.381735 | J41: 65.040064 | K41: 54.045867 | L41: 44.708611 | M41: 30.478254 | N41: 46.122207 | O41: 258.15687
B42: Mayo | C42: 89.696357 | D42: 138.56051 | E42: 120.52872 | F42: 48.143043 | G42: 73.59392 | H42: 58.204228 | I42: 100.21097 | J42: 57.527362 | K42: 66.907456 | L42: 49.691213 | M42: 33.655146 | N42: 46.396988 | O42: 283.11154
B43: Junio | C43: 83.324762 | D43: 133.8713 | E43: 111.39939 | F43: 43.593379 | G43: 64.699809 | H43: 56.243921 | I43: 95.322835 | J43: 46.560698 | K43: 65.831253 | L43: 48.909559 | M43: 31.581727 | N43: 44.184608 | O43: 283.705
B44: Julio | C44: 75.99053 | D44: 126.36862 | E44: 100.59128 | F44: 39.773957 | G44: 57.324565 | H44: 53.034585 | I44: 85.6475 | J44: 37.789452 | K44: 64.641933 | L44: 46.402527 | M44: 29.739541 | N44: 41.021444 | O44: 240.04959
B45: Agosto | C45: 69.243936 | D45: 116.43408 | E45: 92.229217 | F45: 34.922645 | G45: 50.807386 | H45: 49.643938 | I45: 78.68335 | J45: 31.118055 | K45: 59.161501 | L45: 41.237507 | M45: 27.427386 | N45: 38.513136 | O45: 189.7094
B46: Septiembre | C46: 63.709545 | D46: 108.51459 | E46: 86.080101 | F46: 31.068589 | G46: 45.39806 | H46: 45.618808 | I46: 71.460872 | J46: 26.710097 | K46: 52.038998 | L46: 36.302925 | M46: 24.639796 | N46: 35.743816 | O46: 160.71805
B47: Octubre | C47: 56.605068 | D47: 100.1903 | E47: 75.941706 | F47: 25.326812 | G47: 37.41781 | H47: 39.769268 | I47: 64.983666 | J47: 21.744024 | K47: 46.910789 | L47: 30.779313 | M47: 21.483255 | N47: 31.58179 | O47: 135.10678
B48: Noviembre | C48: 50.217274 | D48: 89.346964 | E48: 66.703026 | F48: 21.756353 | G48: 32.661584 | H48: 36.027394 | I48: 59.710824 | J48: 17.447317 | K48: 37.514911 | L48: 27.101852 | M48: 18.655407 | N48: 26.495927 | O48: 116.68564
B49: Diciembre | C49: 44.315194 | D49: 79.969833 | E49: 58.064712 | F49: 19.03091 | G49: 28.542073 | H49: 31.886349 | I49: 53.904597 | J49: 14.036614 | K49: 32.041688 | L49: 23.56015 | M49: 16.401166 | N49: 22.243419 | O49: 97.577746
A50: 2023p | B50: Enero | C50: 8.8869858 | D50: 44.639878 | E50: 15.042782 | F50: -5.7529947 | G50: -2.4443874 | H50: -2.5757198 | I50: 15.916586 | J50: -14.294732 | K50: 12.576584 | L50: -6.244577 | M50: -5.9564456 | N50: -5.0386372 | O50: 25.191565
B51: Febrero | C51: 11.905033 | D51: 41.62566 | E51: 18.099422 | F51: -3.199029 | G51: 7.6947513 | H51: 1.0787361 | I51: 15.439259 | J51: -17.546892 | K51: 5.5980551 | L51: -5.1128248 | M51: -1.8388287 | N51: -6.4270924 | O51: 22.14079
B52: Marzo | C52: 8.6865072 | D52: 32.361121 | E52: 14.997168 | F52: -2.446107 | G52: 2.248596 | H52: 0.8230878 | I52: 12.482507 | J52: -22.387733 | K52: 2.7026658 | L52: -7.0404175 | M52: -2.7712662 | N52: -6.6097012 | O52: 11.215347
B53: Abril | C53: 4.0441029 | D53: 25.553021 | E53: 9.7971578 | F53: -3.9718849 | G53: -2.6877307 | H53: -3.7489147 | I53: 8.3296964 | J53: -27.144373 | K53: -0.87481359 | L53: -9.7863501 | M53: -5.9512081 | N53: -9.4382051 | O53: 7.2565843
B54: Mayo | C54: 2.8509565 | D54: 20.195322 | E54: 8.1358945 | F54: -2.561841 | G54: -3.7329717 | H54: -4.9231168 | I54: 8.6215266 | J54: -28.020369 | K54: -1.3493239 | L54: -9.3190831 | M54: -2.339523 | N54: -8.2130216 | O54: 3.3642918
B55: Junio | C55: 1.8809763 | D55: 18.564438 | E55: 6.9654343 | F55: -2.5246624 | G55: -5.2997832 | H55: -4.945813 | I55: 7.0416812 | J55: -28.498033 | K55: -1.3691085 | L55: -9.9029849 | M55: -2.1217363 | N55: -8.1565693 | O55: 0.96492402
B56: Julio | C56: 0.17005067 | D56: 15.211971 | E56: 5.0768816 | F56: -3.0606621 | G56: -6.8277485 | H56: -5.4637479 | I56: 5.7334105 | J56: -27.634893 | K56: -5.4274885 | L56: -11.092352 | M56: -4.8314286 | N56: -10.880918 | O56: 1.5842019
B57: Agosto | C57: -0.70204267 | D57: 13.569078 | E57: 3.7508106 | F57: -2.3725196 | G57: -7.0842911 | H57: -5.4258591 | I57: 4.2747178 | J57: -27.099293 | K57: -8.1734541 | L57: -11.288226 | M57: -7.8073043 | N57: -11.203147 | O57: 1.7880231
B58: Septiembre | C58: -1.9809065 | D58: 10.674177 | E58: 1.7531465 | F58: -2.3299741 | G58: -6.8471422 | H58: -5.7699042 | I58: 2.7156008 | J58: -28.325713 | K58: -9.0700196 | L58: -10.508011 | M58: -9.1621366 | N58: -12.087607 | O58: 1.7678554
B59: Octubre | C59: -3.4104642 | D59: 7.4675203 | E59: 0.23304588 | F59: -2.676282 | G59: -7.3683827 | H59: -6.3690633 | I59: 0.70240605 | J59: -28.898557 | K59: -10.038484 | L59: -11.20856 | M59: -9.7427299 | N59: -13.20628 | O59: -0.097171071
B60: Noviembre | C60: -3.4032107 | D60: 6.1431213 | E60: 0.087707879 | F60: -1.9582764 | G60: -6.9583612 | H60: -3.5899024 | I60: 0.18158898 | J60: -28.581072 | K60: -9.1209158 | L60: -10.933527 | M60: -9.251803 | N60: -13.216048 | O60: -0.99311205
B61: Diciembre | C61: -3.7901282 | D61: 6.0303463 | E61: -0.83016298 | F61: -1.9879723 | G61: -7.5188871 | H61: -3.0862217 | I61: -1.3189316 | J61: -27.225487 | K61: -9.4561312 | L61: -10.777283 | M61: -9.5606644 | N61: -13.814577 | O61: -1.3225125
A62: 2024p | B62: Enero | C62: -10.485101 | D62: -5.1974225 | E62: -12.679271 | F62: 4.8841541 | G62: -15.046781 | H62: -7.2147149 | I62: -12.523538 | J62: -11.205875 | K62: -15.431802 | L62: -12.945153 | M62: -22.292257 | N62: -8.3955276 | O62: -9.0629161
B63: Febrero | C63: -7.7618654 | D63: -3.8527399 | E63: -9.2920483 | F63: 1.3435862 | G63: -11.890108 | H63: -2.2811798 | I63: -10.522034 | J63: -9.5962818 | K63: -5.3321946 | L63: -9.208163 | M63: -16.748624 | N63: -5.1179216 | O63: -10.128492
B64: Marzo | C64: -6.9630342 | D64: -10.429482 | E64: -7.3796654 | F64: 6.9604583 | G64: -8.8174877 | H64: 4.5294439 | I64: -10.88159 | J64: -5.1375131 | K64: -3.4988014 | L64: -6.638197 | M64: -12.851281 | N64: -1.2700528 | O64: 0.80196521
B65: Abril | C65: -6.5854695 | D65: -5.3007853 | E65: -7.5301768 | F65: -3.0738944 | G65: -9.9609698 | H65: -0.49057035 | I65: -10.628311 | J65: -2.4362442 | K65: -2.6220795 | L65: -5.9986058 | M65: -13.768683 | N65: -3.8863044 | O65: -1.8465831
B66: Mayo | C66: -6.1705497 | D66: -5.2451575 | E66: -7.1905154 | F66: -2.9616803 | G66: -7.1724527 | H66: 0.31704099 | I66: -11.328768 | J66: -0.8908896 | K66: -3.8042041 | L66: -6.6516686 | M66: -14.659047 | N66: -3.5645445 | O66: -1.0733163
B67: Junio | C67: -5.6846253 | D67: -5.3007874 | E67: -6.959901 | F67: -2.2730965 | G67: -5.5463396 | H67: 0.42498942 | I67: -10.888711 | J67: 0.92745043 | K67: -3.7749454 | L67: -5.6983352 | M67: -14.360751 | N67: -4.4986008 | O67: -1.913636
B68: Julio | C68: -5.9868402 | D68: -4.3031689 | E68: -7.6144853 | F68: -3.9900329 | G68: -5.9811384 | H68: -2.0237379 | I68: -11.410607 | J68: 1.2139896 | K68: -4.2621103 | L68: -6.6254719 | M68: -13.754307 | N68: -5.1102488 | O68: -4.0288977
B69: Agosto | C69: -5.5145806 | D69: -3.956946 | E69: -7.0163004 | F69: -4.2598107 | G69: -5.6477157 | H69: -2.6534496 | I69: -10.44927 | J69: 1.8311623 | K69: -3.2308406 | L69: -6.1614676 | M69: -11.544591 | N69: -5.3350634 | O69: -5.5240565
B70: Septiembre | C70: -4.9630316 | D70: -3.1076102 | E70: -6.517316 | F70: -5.015712 | G70: -4.8100624 | H70: -2.6720604 | I70: -10.066503 | J70: 3.4220883 | K70: -2.4022243 | L70: -6.600604 | M70: -10.777017 | N70: -5.7543046 | O70: -6.2230332
B71: Octubre | C71: -3.8740353 | D71: -2.8217094 | E71: -5.5038294 | F71: -5.0793483 | G71: -4.0347841 | H71: -2.1418886 | I71: -9.2868522 | J71: 5.3033484 | K71: 4.9016722 | L71: -4.973472 | M71: -9.9137507 | N71: -4.4370491 | O71: -5.7988134
B72: Noviembre | C72: -3.6876624 | D72: -2.3397847 | E72: -4.8714501 | F72: -4.3744648 | G72: -4.3535223 | H72: -3.4497225 | I72: -9.6466087 | J72: 5.2248629 | K72: 4.7359284 | L72: -4.5563835 | M72: -9.9592646 | N72: -3.2964316 | O72: -6.1705901
B73: Diciembre | C73: -3.5817468 | D73: -2.6847712 | E73: -4.5230412 | F73: -4.5596614 | G73: -4.3005273 | H73: -4.5381062 | I73: -8.4490183 | J73: 4.9246851 | K73: 3.97888 | L73: -3.5512979 | M73: -9.8282847 | N73: -1.8193156 | O73: -6.6551981
A74: 2025p | B74: Enero | C74: 1.300571 | D74: 0.38239364 | E74: 3.3356302 | F74: -3.3172378 | G74: 1.9000979 | H74: 4.2434943 | I74: -2.7829506 | J74: 4.0587242 | K74: -0.11141618 | L74: -2.8110326 | M74: 21.756723 | N74: -0.77247584 | O74: -21.475331
B75: Febrero | C75: -1.4232578 | D75: -2.2970099 | E75: 0.12451312 | F75: -3.7553604 | G75: -1.7877985 | H75: -2.7315039 | I75: -3.8493871 | J75: 4.32396 | K75: -5.6620637 | L75: -4.4840902 | M75: 12.524333 | N75: 0.18714491 | O75: -19.601559
B76: Marzo | C76: -1.8763081 | D76: 0.30285658 | E76: -1.2250001 | F76: -8.8648062 | G76: -0.41382412 | H76: -7.4477289 | I76: -2.7046294 | J76: 2.4078631 | K76: -7.9238159 | L76: -4.3057354 | M76: 6.5181923 | N76: 0.81722264 | O76: -23.190878
B77: Abril | C77: -1.8125026 | D77: -4.2640878 | E77: -1.1664777 | F77: -1.0340681 | G77: -0.22287638 | H77: -1.9486864 | I77: -1.7488388 | J77: 4.3598885 | K77: -8.012232 | L77: -5.3693283 | M77: 6.555971 | N77: 5.2096292 | O77: -20.992012
B78: Mayo | C78: -1.6789664 | D78: -3.1687528 | E78: -2.0844912 | F78: 1.638359 | G78: -1.0594183 | H78: -1.996907 | I78: -1.5569503 | J78: 4.0830941 | K78: -5.8881129 | L78: -4.1986483 | M78: 5.4148045 | N78: 4.7508973 | O78: -22.053607
B79: Junio | C79: -2.0898985 | D79: -3.6572025 | E79: -2.7365291 | F79: 1.1012198 | G79: -1.141267 | H79: -2.0145151 | I79: -2.1781051 | J79: 2.6886914 | K79: -4.6905387 | L79: -4.3956499 | M79: 5.1313092 | N79: 6.3565331 | O79: -21.047563
B80: Julio | C80: -1.7557993 | D80: -3.2888543 | E80: -2.934881 | F80: 1.0994037 | G80: -0.46334902 | H80: -1.6522596 | I80: -1.4267666 | J80: 1.7426173 | K80: -2.5067783 | L80: -3.0553973 | M80: 5.6025877 | N80: 8.468275 | O80: -20.497098
B81: Agosto | C81: -2.0747679 | D81: -3.7745749 | E81: -3.6802812 | F81: 1.1814678 | G81: -0.42347995 | H81: -0.33174663 | I81: -1.9172741 | J81: 0.71641161 | K81: -2.1636917 | L81: -2.7757885 | M81: 5.7668338 | N81: 9.0657147 | O81: -18.960436
B82: Septiembre | C82: -2.4015792 | D82: -4.2810259 | E82: -3.9410761 | F82: 1.7502961 | G82: -1.298065 | H82: -0.010021492 | I82: -1.9864509 | J82: 0.088419863 | K82: -2.9848824 | L82: -2.3566164 | M82: 5.5878227 | N82: 9.2126861 | O82: -19.001162
B83: Octubre | C83: -2.5044603 | D83: -3.5848798 | E83: -3.8689066 | F83: 2.241872 | G83: -1.464843 | H83: 0.73073552 | I83: -1.8345205 | J83: -1.0085154 | K83: -8.0418206 | L83: -2.1170383 | M83: 4.3477321 | N83: 9.3540764 | O83: -17.57874
B84: Noviembre | C84: -2.7540103 | D84: -3.7055435 | E84: -4.2489921 | F84: 1.5774325 | G84: -0.99184557 | H84: -0.54301188 | I84: -1.9975835 | J84: -1.4774124 | K84: -8.2029501 | L84: -2.1413557 | M84: 3.0477579 | N84: 8.4222513 | O84: -17.109761
B85: Diciembre | C85: -2.798406 | D85: -3.7628564 | E85: -3.9356252 | F85: 1.7695455 | G85: -0.65057669 | H85: -0.80603057 | I85: -3.1414925 | J85: -2.2105794 | K85: -7.3051049 | L85: -2.9024065 | M85: 3.2449596 | N85: 7.5397505 | O85: -16.003051
A86: 2026p | B86: Enero | C86: -4.0865528 | D86: -9.3060987 | E86: -6.6475525 | F86: 2.4242412 | G86: 0.62209726 | H86: -2.741626 | I86: 0.86171796 | J86: -8.3056107 | K86: -6.6389313 | L86: -2.3892575 | M86: -6.7232081 | N86: 20.075963 | O86: 4.5024833
B87: Febrero | C87: -4.5797672 | D87: -8.0708757 | E87: -5.6007455 | F87: -0.84573576 | G87: -2.3462801 | H87: 0.48289591 | I87: -3.5777566 | J87: -8.5174529 | K87: 0.15548739 | L87: -1.7655081 | M87: -6.6787019 | N87: 9.8259643 | O87: 0.37172405
B88: Marzo | C88: -4.849773 | D88: -7.181791 | E88: -5.8111214 | F88: -0.86648252 | G88: -5.3174872 | H88: 1.8788001 | I88: -5.4511741 | J88: -6.0544472 | K88: -0.4549311 | L88: -1.9565514 | M88: -3.639455 | N88: 4.8472151 | O88: 1.8173057
B89: Abril | C89: -5.0624732 | D89: -5.6268152 | E89: -6.4574409 | F89: -3.4740079 | G89: -4.2056733 | H89: -0.43162699 | I89: -7.7264185 | J89: -6.425905 | K89: 0.14386991 | L89: -0.60039261 | M89: -2.9279573 | N89: 1.8852187 | O89: -1.4120321
B90: Mayo | C90: -5.4965614 | D90: -6.072224 | E90: -6.4682405 | F90: -6.2706519 | G90: -4.6515407 | H90: -0.43105655 | I90: -8.2639433 | J90: -6.026874 | K90: -2.6969082 | L90: -1.1918615 | M90: -1.6741521 | N90: 2.8256187 | O90: 2.1491893
B91: Junio | C91: -6.7234125 | D91: -7.6114203 | E91: -8.126335 | F91: -6.7246233 | G91: -5.2682131 | H91: -1.8143466 | I91: -9.689399 | J91: -5.6213937 | K91: -4.8599842 | L91: -2.926314 | M91: -2.4742831 | N91: 1.4098936 | O91: 2.5611409
B92: Julio | C92: -6.8213972 | D92: -8.186407 | E92: -8.1875187 | F92: -4.7060174 | G92: -5.0685584 | H92: -1.0601818 | I92: -10.488147 | J92: -6.0379059 | K92: -5.8576103 | L92: -1.9106165 | M92: -2.5657193 | N92: 0.74421205 | O92: 3.9444352
B93: Agosto | C93: -7.4821328 | D93: -8.4397292 | E93: -8.0706793 | F93: -4.9137459 | G93: -5.8412007 | H93: -7.3271829 | I93: -10.88175 | J93: -6.6010495 | K93: -8.9356669 | L93: -2.282443 | M93: -2.7817342 | N93: 0.39987532 | O93: 3.4423314
B95: Fuente: DANE, EMA.
B96: ᵖ: Cifra provisional
B97: Nota metodológica: Variación año corrido=((valor de los meses transcurridos del año de referencia-valor de los mismos meses transcurridos del año anterior)/(valor de los meses transcurridos del año anterior))*100 Regiones: Bogotá, D. C.; Cartagena; Región Central (Boyacá, Cundinamarca, Huila y Tolima); Región Costa Caribe (Atlántico, Cesar, La Guajira y Magdalena); Región Eje Cafetero (Caldas, Quindío y Risaralda); Antioquia; San Andrés y Providencia; Región Pacífico (Valle del Cauca, Cauca, Nariño y Chocó); Región Santanderes (Santander y Norte de Santander); Región Llanos Orinoquía (Meta, Casanare, Arauca y Vichada); Región Golfo Morrosquillo y Sabana (Bolívar, Córdoba y Sucre); y Región Amazonía (Amazonas, Caquetá, Guainía, Putumayo, Guaviare y Vaupés).
B100: Nota: como parte del proceso de producción estadística algunas fuentes de información presentaron actualización en la información; como consecuencia de este proceso se presentan cambios en la serie histórica.
B101: ='1.1 V.A Ing.real'!B96 -> Actualizado el 16 de octubre de 2026

Sheet 1.3 V.12Meses Ing.real
L4: Inicio
A7: ENCUESTA MENSUAL DE ALOJAMIENTO - EMA
A9: 1.3 Variaciones 12 meses de los ingresos reales
A10: Total nacional y 12 regiones
A11: Diciembre 2020 - agosto 2026ᵖ
A13: Año | B13: Meses | C13: Total nacional | D13: Bogotá, D. C. | E13: Cartagena | F13: Central | G13: Caribe | H13: Eje Cafetero | I13: Antioquia | J13: San Andrés y Providencia | K13: Pacífico | L13: Santanderes | M13: Llanos Orinoquía | N13: Golfo Morrosquillo y Sabana | O13: Amazonía
A14: 2020 | B14: Diciembre | C14: -62.618959 | D14: -66.810266 | E14: -64.31366 | F14: -58.083242 | G14: -56.918899 | H14: -52.630856 | I14: -60.117003 | J14: -69.963031 | K14: -60.492024 | L14: -55.935039 | M14: -44.618819 | N14: -55.960983 | O14: -70.945247
A15: 2021 | B15: Enero | C15: -66.878201 | D15: -70.897089 | E15: -70.213066 | F15: -61.635207 | G15: -59.416481 | H15: -57.119561 | I15: -64.392208 | J15: -74.735684 | K15: -64.297199 | L15: -58.390548 | M15: -46.362443 | N15: -58.326091 | O15: -78.039071
B16: Febrero | C16: -71.365949 | D16: -76.780277 | E16: -75.905574 | F16: -63.514122 | G16: -63.170876 | H16: -59.223516 | I16: -68.629035 | J16: -78.537249 | K16: -68.167301 | L16: -60.634958 | M16: -47.633479 | N16: -59.234074 | O16: -83.247727
B17: Marzo | C17: -69.594966 | D17: -77.618174 | E17: -73.957515 | F17: -58.321901 | G17: -59.000678 | H17: -54.475228 | I17: -66.661669 | J17: -77.716756 | K17: -66.003468 | L17: -57.242566 | M17: -42.175325 | N17: -54.451184 | O17: -84.276596
B18: Abril | C18: -63.007384 | D18: -74.235603 | E18: -66.694237 | F18: -49.222253 | G18: -51.381756 | H18: -44.399863 | I18: -60.569332 | J18: -69.882045 | K18: -58.439233 | L18: -47.745614 | M18: -28.691474 | N18: -44.432718 | O18: -81.836799
B19: Mayo | C19: -55.646936 | D19: -69.375993 | E19: -59.451513 | F19: -41.112464 | G19: -42.44089 | H19: -36.413639 | I19: -52.902082 | J19: -60.605071 | K19: -51.303959 | L19: -37.838121 | M19: -16.138899 | N19: -33.174586 | O19: -79.209633
B20: Junio | C20: -44.96222 | D20: -63.781596 | E20: -48.750389 | F20: -24.58141 | G20: -27.388541 | H20: -21.202302 | I20: -42.531315 | J20: -46.68215 | K20: -41.499192 | L20: -24.62336 | M20: -1.0892096 | N20: -16.681602 | O20: -75.38709
B21: Julio | C21: -29.80421 | D21: -55.76283 | E21: -32.489106 | F21: -2.8017988 | G21: -6.7248675 | H21: -0.20761775 | I21: -27.153102 | J21: -27.603274 | K21: -27.598191 | L21: -8.1410712 | M21: 16.653558 | N21: 5.2825207 | O21: -67.64651
B22: Agosto | C22: -9.7868249 | D22: -44.589232 | E22: -10.416108 | F22: 22.420773 | G22: 20.414304 | H22: 24.458292 | I22: -5.9500418 | J22: -3.0297698 | K22: -7.5970476 | L22: 13.982405 | M22: 36.832677 | N22: 32.223864 | O22: -55.887173
B23: Septiembre | C23: 12.765739 | D23: -29.243102 | E23: 13.918905 | F23: 46.501837 | G23: 48.056148 | H23: 43.365477 | I23: 16.177293 | J23: 28.873006 | K23: 13.879303 | L23: 36.491931 | M23: 54.934561 | N23: 58.028527 | O23: -42.056237
B24: Octubre | C24: 37.030461 | D24: -9.4070241 | E24: 38.478119 | F24: 69.884618 | G24: 72.916347 | H24: 58.411418 | I24: 38.262472 | J24: 68.587939 | K24: 35.567853 | L24: 59.227273 | M24: 64.710414 | N24: 85.855318 | O24: -20.072852
B25: Noviembre | C25: 66.260233 | D25: 16.632755 | E25: 72.333387 | F25: 93.282096 | G25: 99.615658 | H25: 73.365487 | I25: 64.769458 | J25: 117.19534 | K25: 61.065993 | L25: 80.395663 | M25: 75.809202 | N25: 109.288 | O25: 10.285103
B26: Diciembre | C26: 100.30473 | D26: 43.255883 | E26: 121.80372 | F26: 119.62536 | G26: 128.5992 | H26: 90.820289 | I26: 93.531043 | J26: 176.38775 | K26: 90.293794 | L26: 106.07624 | M26: 89.569803 | N26: 132.1851 | O26: 60.603183
A27: 2022 | B27: Enero | C27: 136.04973 | D27: 69.529166 | E27: 182.84084 | F27: 149.91305 | G27: 149.54947 | H27: 115.60685 | I27: 126.63805 | J27: 247.60523 | K27: 116.21778 | L27: 123.25926 | M27: 101.57451 | N27: 152.50022 | O27: 128.94497
B28: Febrero | C28: 182.49217 | D28: 123.79522 | E28: 268.26383 | F28: 166.91738 | G28: 177.37955 | H28: 130.81564 | I28: 165.87439 | J28: 321.88141 | K28: 148.70524 | L28: 140.85423 | M28: 109.96595 | N28: 161.626 | O28: 223.89668
B29: Marzo | C29: 188.03768 | D29: 160.22504 | E29: 275.74505 | F29: 143.52989 | G29: 169.80363 | H29: 118.49191 | I29: 170.13065 | J29: 328.74331 | K29: 146.92271 | L29: 133.89859 | M29: 98.795001 | N29: 147.03869 | O29: 289.03333
B30: Abril | C30: 169.08904 | D30: 158.42312 | E30: 238.16771 | F30: 125.09332 | G30: 161.23654 | H30: 102.67681 | I30: 160.87309 | J30: 252.42333 | K30: 124.5483 | L30: 113.28093 | M30: 83.683228 | N30: 130.17834 | O30: 293.17081
B31: Mayo | C31: 156.07507 | D31: 157.5953 | E31: 217.63725 | F31: 114.06321 | G31: 146.25411 | H31: 101.22087 | I31: 149.927 | J31: 198.7451 | K31: 120.70428 | L31: 101.56116 | M31: 74.53747 | N31: 113.22786 | O31: 302.38078
B32: Junio | C32: 133.75238 | D32: 150.81628 | E32: 184.03747 | F32: 90.820797 | G32: 118.58768 | H32: 85.61533 | I32: 133.30821 | J32: 146.50522 | K32: 108.03118 | L32: 87.716356 | M32: 61.223273 | N32: 93.501808 | O32: 302.18086
B33: Julio | C33: 110.64061 | D33: 139.48346 | E33: 149.41507 | F33: 69.7278 | G33: 93.3439 | H33: 68.874751 | I33: 112.23472 | J33: 105.20608 | K33: 94.008237 | L33: 73.583773 | M33: 49.220101 | N33: 73.842996 | O33: 269.15793
B34: Agosto | C34: 90.996494 | D34: 125.19826 | E34: 122.45703 | F34: 53.394705 | G34: 73.097142 | H34: 56.740265 | I34: 94.257371 | J34: 75.409973 | K34: 77.368314 | L34: 58.593698 | M34: 38.540399 | N34: 58.769773 | O34: 218.80495
B35: Septiembre | C35: 76.799323 | D35: 112.90223 | E35: 103.93515 | F35: 42.309472 | G35: 59.008331 | H35: 48.984197 | I35: 80.854432 | J35: 54.113861 | K35: 63.898209 | L35: 47.601448 | M35: 30.847527 | N35: 48.697327 | O35: 186.05897
B36: Octubre | C36: 64.435764 | D36: 101.82529 | E36: 87.661367 | F36: 31.543403 | G36: 45.078199 | H36: 42.288363 | I36: 70.749888 | J36: 37.03648 | K36: 55.166004 | L36: 37.478214 | M36: 25.711989 | N36: 39.244223 | O36: 151.85787
B37: Noviembre | C37: 53.849485 | D37: 89.763155 | E37: 72.653185 | F37: 25.042168 | G37: 36.178658 | H37: 37.703069 | I37: 62.240941 | J37: 23.818107 | K37: 41.622098 | L37: 30.82161 | M37: 20.762717 | N37: 30.293614 | O37: 125.30661
B38: Diciembre | C38: 44.315194 | D38: 79.969833 | E38: 58.064712 | F38: 19.03091 | G38: 28.542073 | H38: 31.886349 | I38: 53.904597 | J38: 14.036614 | K38: 32.041688 | L38: 23.56015 | M38: 16.401166 | N38: 22.243419 | O38: 97.577746
A39: 2023p | B39: Enero | C39: 38.258893 | D39: 76.521737 | E39: 48.989149 | F39: 13.207551 | G39: 23.353595 | H39: 26.398059 | I39: 47.724721 | J39: 6.0140558 | K39: 28.802159 | L39: 19.142877 | M39: 12.45693 | N39: 17.035953 | O39: 84.709605
B40: Febrero | C40: 33.983252 | D40: 70.725591 | E40: 42.501023 | F40: 11.08668 | G40: 21.75453 | H40: 24.176513 | I40: 42.879133 | J40: 0.15128419 | K40: 24.827676 | L40: 16.060784 | M40: 11.215087 | N40: 14.392483 | O40: 72.462822
B41: Marzo | C41: 28.71807 | D41: 60.53954 | E41: 36.084748 | F41: 10.503222 | G41: 16.698416 | H41: 22.184046 | I41: 37.594836 | J41: -5.4845305 | K41: 21.386989 | L41: 12.505524 | M41: 10.098467 | N41: 12.042505 | O41: 56.760389
B42: Abril | C42: 21.337226 | D42: 51.327049 | E42: 27.726094 | F42: 5.472688 | G42: 8.3063718 | H42: 15.292448 | I42: 29.0555 | J42: -11.245703 | K42: 16.593415 | L42: 7.4412743 | M42: 5.246858 | N42: 5.4249758 | O42: 43.061637
B43: Mayo | C43: 15.623021 | D43: 40.993994 | E43: 21.355271 | F43: 2.7677152 | G43: 3.8344585 | H43: 9.0648562 | I43: 23.562627 | J43: -15.007299 | K43: 10.494759 | L43: 2.9962411 | M43: 3.7768751 | N43: 3.0211014 | O43: 30.41462
B44: Junio | C44: 11.681547 | D44: 34.579315 | E44: 16.944677 | F44: 0.71628131 | G44: 0.70569717 | H44: 5.6585181 | I44: 18.817748 | J44: -17.831528 | K44: 7.126074 | L44: -0.81466279 | M44: 2.150124 | N44: 0.13955522 | O44: 19.515152
B45: Julio | C45: 7.3799418 | D45: 27.838712 | E45: 12.173521 | F45: -1.8236179 | G45: -2.7895587 | H45: 1.6714032 | I45: 14.706237 | J45: -19.868872 | K45: 0.663467 | L45: -4.7086822 | M45: -1.1831465 | N45: -4.3615644 | O45: 13.088803
B46: Agosto | C46: 4.1427631 | D46: 22.930897 | E46: 8.0391927 | F46: -2.2441742 | G46: -4.800556 | H46: -1.020465 | I46: 10.557352 | J46: -21.494149 | K46: -4.3069913 | L46: -6.8667287 | M46: -4.5477132 | N46: -7.3566896 | O46: 9.6171392
B47: Septiembre | C47: 0.96552517 | D47: 16.73303 | E47: 3.8002047 | F47: -2.7374042 | G47: -5.8490556 | H47: -2.8998535 | I47: 7.3978856 | J47: -24.380547 | K47: -6.8825767 | L47: -7.783308 | M47: -6.6884982 | N47: -9.9875231 | O47: 6.8563741
B48: Octubre | C48: -1.6035315 | D48: 10.402805 | E48: 1.5486919 | F48: -2.586951 | G48: -6.1382309 | H48: -4.2435494 | I48: 3.8906873 | J48: -26.166486 | K48: -9.7512745 | L48: -9.1582892 | M48: -8.1359972 | N48: -12.301836 | O48: 2.813081
B49: Noviembre | C49: -2.6358141 | D49: 6.9222353 | E49: 0.8350352 | F49: -1.743627 | G49: -6.282334 | H49: -2.8404489 | I49: 1.4130109 | J49: -27.044238 | K49: -8.5486715 | L49: -10.022791 | M49: -8.3720168 | N49: -12.671581 | O49: -0.40153652
B50: Diciembre | C50: -3.7901282 | D50: 6.0303463 | E50: -0.83016298 | F50: -1.9879723 | G50: -7.5188871 | H50: -3.0862217 | I50: -1.3189316 | J50: -27.225487 | K50: -9.4561312 | L50: -10.777283 | M50: -9.5606644 | N50: -13.814577 | O50: -1.3225125
A51: 2024p | B51: Enero | C51: -5.3761158 | D51: 3.5943333 | E51: -3.4853539 | F51: -0.95930363 | G51: -8.7107094 | H51: -3.5376425 | I51: -3.4987578 | J51: -27.141402 | K51: -11.230281 | L51: -11.281262 | M51: -10.964483 | N51: -14.164776 | O51: -4.030289
B52: Febrero | C52: -6.7069757 | D52: 0.92691046 | E52: -5.3706155 | F52: -1.2667155 | G52: -10.71492 | H52: -3.6196015 | I52: -5.0681531 | J52: -26.281055 | K52: -10.803492 | L52: -11.378655 | M52: -11.812027 | N52: -13.69087 | O52: -5.9086936
B53: Marzo | C53: -7.3486406 | D53: -2.7179063 | E53: -6.3144086 | F53: 0.13419922 | G53: -10.224572 | H53: -2.2250677 | I53: -6.4966063 | J53: -23.618776 | K53: -10.680284 | L53: -10.752345 | M53: -11.837514 | N53: -12.732627 | O53: -3.4137535
B54: Abril | C54: -7.064196 | D54: -2.3734982 | E54: -6.5205425 | F54: -1.6883728 | G54: -9.9313129 | H54: -2.0780279 | I54: -7.0066334 | J54: -20.120618 | K54: -9.9633883 | L54: -9.7387398 | M54: -11.980532 | N54: -12.281557 | O54: -3.8998384
B55: Mayo | C55: -7.2396556 | D55: -3.0550682 | E55: -6.9547537 | F55: -2.1318178 | G55: -8.9297478 | H55: -1.1001957 | I55: -8.789714 | J55: -17.537509 | K55: -10.365454 | L55: -9.8717546 | M55: -14.249889 | N55: -12.301928 | O55: -2.9216511
B56: Junio | C56: -7.2762239 | D56: -4.3407341 | E56: -7.4417702 | F56: -1.8662618 | G56: -7.6928218 | H56: -0.62521803 | I56: -9.3900369 | J56: -14.401148 | K56: -10.530088 | L56: -8.9754368 | M56: -15.193639 | N56: -12.412261 | O56: -2.6206645
B57: Julio | C57: -7.2000729 | D57: -4.0559508 | E57: -8.0186983 | F57: -2.4872676 | G57: -7.0734771 | H57: -1.1220412 | I57: -10.597848 | J57: -12.149522 | K57: -8.9752656 | L57: -8.412321 | M57: -14.484774 | N57: -10.925193 | O57: -4.3869589
B58: Agosto | C58: -6.8894402 | D58: -4.4932401 | E58: -7.8951917 | F58: -3.1904677 | G58: -6.6125281 | H58: -1.2278776 | I58: -10.651609 | J58: -9.6309205 | K58: -6.5145862 | L58: -7.6004287 | M58: -11.953219 | N58: -10.337528 | O58: -5.9684075
B59: Septiembre | C59: -5.9750953 | D59: -3.6030403 | E59: -6.9614775 | F59: -3.9041704 | G59: -6.0793061 | H59: -0.7474622 | I59: -10.497001 | J59: -4.8464558 | K59: -4.8126085 | L59: -8.0619593 | M59: -10.716969 | N59: -9.4806542 | O59: -7.0360587
B60: Octubre | C60: -4.1770035 | D60: -2.3228412 | E60: -5.5349063 | F60: -3.9143177 | G60: -4.8356939 | H60: 0.49562192 | I60: -9.3898062 | J60: 0.18630081 | K60: 2.5189132 | L60: -5.7848524 | M60: -9.6809911 | N60: -6.8423182 | O60: -5.943609
B61: Noviembre | C61: -4.0589702 | D61: -1.7720735 | E61: -5.2897412 | F61: -4.1447934 | G61: -5.2236749 | H61: -2.9440449 | I61: -10.201531 | J61: 3.1191125 | K61: 2.8953184 | L61: -5.0736335 | M61: -10.218688 | N61: -5.0301732 | O61: -6.02126
B62: Diciembre | C62: -3.5817468 | D62: -2.6847712 | E62: -4.5230412 | F62: -4.5596614 | G62: -4.3005273 | H62: -4.5381062 | I62: -8.4490183 | J62: 4.9246851 | K62: 3.97888 | L62: -3.5512979 | M62: -9.8282847 | N62: -1.8193156 | O62: -6.6551981
A63: 2025p | B63: Enero | C63: -2.551291 | D63: -2.3486533 | E63: -2.9120255 | F63: -5.3377258 | G63: -2.65814 | H63: -3.4492975 | I63: -7.6666249 | J63: 6.8265901 | K63: 5.2268087 | L63: -2.7369585 | M63: -6.305588 | N63: -1.0150675 | O63: -7.7351678
B64: Febrero | C64: -2.5096825 | D64: -2.4622727 | E64: -2.7627634 | F64: -5.3707528 | G64: -2.4034104 | H64: -4.6201524 | I64: -7.4186035 | J64: 7.9645285 | K64: 4.0063421 | L64: -2.8095799 | M64: -5.4990759 | N64: -0.88928287 | O64: -8.0751738
B65: Marzo | C65: -2.2795156 | D65: -0.10698222 | E65: -2.819482 | F65: -8.1882235 | G65: -2.0616769 | H65: -7.3910255 | I65: -6.5336215 | J65: 7.2104192 | K65: 3.0447904 | L65: -2.992799 | M65: -5.4872682 | N65: -1.2920988 | O65: -12.364588
B66: Abril | C66: -1.9929541 | D66: -2.3259718 | E66: -2.2518991 | F66: -3.9590786 | G66: -0.92588377 | H66: -4.9992107 | I66: -5.7067442 | J66: 7.3791299 | K66: 2.4102461 | L66: -3.3204643 | M66: -3.6542667 | N66: 1.2065483 | O66: -12.596532
B67: Marzo | C67: -1.7411123 | D67: -1.8306079 | E67: -2.3079175 | F67: -2.8725243 | G67: -1.7602473 | H67: -5.4060102 | I67: -4.6056958 | J67: 7.0575743 | K67: 3.3033364 | L67: -2.5551584 | M67: -2.0192764 | N67: 1.5416636 | O67: -14.656918
B68: Junio | C68: -1.813046 | D68: -1.8456917 | E68: -2.3408371 | F68: -3.0433082 | G68: -2.1507214 | H68: -5.6382023 | I68: -4.334745 | J68: 5.795842 | K68: 3.6984291 | L68: -2.9004773 | M68: -0.5381664 | N68: 3.5017887 | O68: -15.455583
B69: Julio | C69: -1.1191593 | D69: -2.0872442 | E69: -1.651276 | F69: -1.7787283 | G69: -1.1160208 | H69: -4.3642612 | I69: -2.7631414 | J69: 5.2145921 | K69: 5.1278474 | L69: -1.5243635 | M69: 1.0021631 | N69: 6.003396 | O69: -15.813989
B70: Agosto | C70: -1.2705331 | D70: -2.5353215 | E70: -2.1520714 | F70: -1.1224098 | G70: -0.83917797 | H70: -3.1075312 | I70: -2.7924677 | J70: 4.1213152 | K70: 4.8036312 | L70: -1.3408289 | M70: 1.0187731 | N70: 7.8569795 | O70: -15.339765
B71: Septiembre | C71: -1.6550036 | D71: -3.5270412 | E71: -2.4895165 | F71: 0.24343006 | G71: -1.7037138 | H71: -2.7026262 | I71: -2.4385244 | J71: 2.3675126 | K71: 3.6732192 | L71: -0.37738545 | M71: 1.6771883 | N71: 9.4375529 | O71: -15.954722
B72: Octubre | C72: -2.4577889 | D72: -3.3039758 | E72: -3.134358 | F72: 1.306239 | G72: -2.2161718 | H72: -2.3279377 | I72: -2.3430272 | J72: -0.27305312 | K72: -6.5557151 | L72: -1.204833 | M72: 1.4868135 | N72: 9.6490511 | O72: -16.258137
B73: Noviembre | C73: -2.7327528 | D73: -3.9422364 | E73: -3.9446077 | F73: 0.73175232 | G73: -1.26017 | H73: -1.9860323 | I73: -1.3749761 | J73: -1.103813 | K73: -7.7580764 | L73: -1.3430464 | M73: 1.800666 | N73: 8.8915395 | O73: -16.589651
B74: Diciembre | C74: -2.798406 | D74: -3.7628564 | E74: -3.9356252 | F74: 1.7695455 | G74: -0.65057669 | H74: -0.80603057 | I74: -3.1414925 | J74: -2.2105794 | K74: -7.3051049 | L74: -2.9024065 | M74: 3.2449596 | N74: 7.5397505 | O74: -16.003051
A75: 2026p | B75: Enero | C75: -3.2521233 | D75: -4.347387 | E75: -4.9075044 | F75: 2.3752547 | G75: -0.76280278 | H75: -1.4891751 | I75: -2.8514927 | J75: -3.5084468 | K75: -7.7155581 | L75: -2.8728291 | M75: 0.82536639 | N75: 9.5894797 | O75: -13.928465
B76: Febrero | C76: -3.3130586 | D76: -4.5706616 | E76: -4.9823736 | F76: 2.2830404 | G76: -0.74284901 | H76: -0.26235269 | I76: -3.0950797 | J76: -4.5986874 | K76: -6.5729938 | L76: -2.5181322 | M76: 0.19050943 | N76: 9.1901023 | O76: -13.151698
B77: Marzo | C77: -3.5308644 | D77: -5.4253129 | E77: -5.1889602 | F77: 3.9276243 | G77: -1.9135795 | H77: 1.6210026 | I77: -3.790591 | J77: -4.4650066 | K77: -5.793652 | L77: -2.381609 | M77: 0.78646714 | N77: 8.5688483 | O77: -10.320541
B78: Abril | C78: -3.8419959 | D78: -4.1612851 | E78: -5.7854948 | F78: 1.0208725 | G78: -1.9569004 | H78: -0.31025393 | I78: -5.0182537 | J78: -5.8028705 | K78: -5.0837412 | L78: -1.4903154 | M78: 0.22077748 | N78: 6.3610358 | O78: -10.16625
B79: Mayo | C79: -4.3142154 | D79: -4.8730743 | E79: -5.7840767 | F79: -1.2992771 | G79: -2.0995086 | H79: -0.18399883 | I79: -5.7747315 | J79: -6.2796795 | K79: -6.2300485 | L79: -1.7803555 | M79: 0.4405925 | N79: 6.6908331 | O79: -7.0019857
B80: Junio | C80: -5.0015298 | D80: -5.584053 | E80: -6.6111194 | F80: -1.9597588 | G80: -2.6494388 | H80: -0.6997486 | I80: -6.659245 | J80: -6.2223318 | K80: -7.4307884 | L80: -2.2143814 | M80: -0.39813363 | N80: 5.0414907 | O80: -5.3367225
B81: Julio | C81: -5.6358116 | D81: -6.4305505 | E81: -6.970081 | F81: -1.5149389 | G81: -3.2755878 | H81: -0.46682678 | I81: -8.1942195 | J81: -6.6768502 | K81: -9.0494487 | L81: -2.2968582 | M81: -1.312887 | N81: 3.0872244 | O81: -2.6469398
B82: Agosto | C82: -6.2974896 | D82: -6.6943688 | E82: -6.8497132 | F82: -2.1846445 | G82: -4.2010079 | H82: -5.341278 | I82: -8.9941812 | J82: -7.0553417 | K82: -11.358623 | L82: -2.6024993 | M82: -2.2025005 | N82: 1.8165964 | O82: -1.7842415
B84: Fuente: DANE, EMA.
B85: ᵖ: Cifra provisional
B86: Nota metodológica: Variación acumulado doce meses: variación porcentual calculada entre los últimos 12 meses hasta el mes de referencia y el mismo período del año anterior Regiones: Bogotá, D. C.; Cartagena; Región Central (Boyacá, Cundinamarca, Huila y Tolima); Región Costa Caribe (Atlántico, Cesar, La Guajira y Magdalena); Región Eje Cafetero (Caldas, Quindío y Risaralda); Antioquia; San Andrés y Providencia; Región Pacífico (Valle del Cauca, Cauca, Nariño y Chocó); Región Santanderes (Santander y Norte de Santander); Región Llanos Orinoquía (Meta, Casanare, Arauca y Vichada); Región Golfo Morrosquillo y Sabana (Bolívar, Córdoba y Sucre); y Región Amazonía (Amazonas, Caquetá, Guainía, Putumayo, Guaviare y Vaupés).
B88: Nota: como parte del proceso de producción estadística algunas fuentes de información presentaron actualización en la información; como consecuencia de este proceso se presentan cambios en la serie histórica.
B89: ='1.1 V.A Ing.real'!B96 -> Actualizado el 16 de octubre de 2026

Sheet 2.1 V.A Per.categ
L4: Inicio
A6: ENCUESTA MENSUAL DE ALOJAMIENTO - EMA
A8: 2.1 Variaciones anuales del personal total y por categoría
A9: Total nacional y 12 regiones
A10: ='1.1 V.A Ing.real'!A11 -> Enero 2020 - agosto 2026ᵖ
A12: Año | B12: Meses | C12: Total nacional | F12: Bogotá, D. C. | I12: Cartagena | L12: Central | O12: Caribe | R12: Eje Cafetero | U12: Antioquia | X12: San Andrés y Providencia | AA12: Pacífico | AD12: Santanderes | AG12: Llanos Orinoquía | AJ12: Golfo Morrosquillo y Sabana | AM12: Amazonía
C13: Total del personal | D13: Personal permanente | E13: Resto de personal1 | F13: Total del personal | G13: Personal permanente | H13: Resto de personal1 | I13: Total del personal | J13: Personal permanente | K13: Resto de personal1 | L13: Total del personal | M13: Personal permanente | N13: Resto de personal1 | O13: Total del personal | P13: Personal permanente | Q13: Resto de personal1 | R13: Total del personal | S13: Personal permanente | T13: Resto de personal1 | U13: Total del personal | V13: Personal permanente | W13: Resto de personal1 | X13: Total del personal | Y13: Personal permanente | Z13: Resto de personal1 | AA13: Total del personal | AB13: Personal permanente | AC13: Resto de personal1 | AD13: Total del personal | AE13: Personal permanente | AF13: Resto de personal1 | AG13: Total del personal | AH13: Personal permanente | AI13: Resto de personal1 | AJ13: Total del personal | AK13: Personal permanente | AL13: Resto de personal1 | AM13: Total del personal | AN13: Personal permanente | AO13: Resto de personal1
A14: 2020 | B14: Enero | C14: 2.1753621 | D14: 1.0528688 | E14: 3.6576573 | F14: 1.3476145 | G14: 2.2650545 | H14: -0.44416244 | I14: 3.9930471 | J14: 2.2090602 | K14: 6.4614258 | L14: 1.6286857 | M14: 4.0744566 | N14: -0.70868107 | O14: 4.7674563 | P14: -0.94763238 | Q14: 12.224642 | R14: 4.1703674 | S14: 8.2823025 | T14: 2.362939 | U14: 3.8327482 | V14: 0.90153469 | W14: 8.4332521 | X14: -6.8581622 | Y14: -0.92100287 | Z14: -15.238006 | AA14: 1.9267154 | AB14: -0.097443393 | AC14: 5.1582266 | AD14: 2.7836219 | AE14: -1.0038205 | AF14: 6.2809117 | AG14: -8.2130078 | AH14: -14.400871 | AI14: -2.4307818 | AJ14: 8.3571272 | AK14: -3.5000699 | AL14: 21.408797 | AM14: 0.96618357 | AN14: 11.260054 | AO14: -11.146162
B15: Febrero | C15: 2.4015149 | D15: 0.29471804 | E15: 5.3225802 | F15: 2.044 | G15: 1.4240517 | H15: 3.2363325 | I15: 4.1387457 | J15: 2.3209316 | K15: 6.8077568 | L15: 2.1870988 | M15: 4.3693347 | N15: -0.018698692 | O15: 2.7718323 | P15: -3.333541 | Q15: 11.226286 | R15: 6.6262601 | S15: 4.8020127 | T15: 7.4917485 | U15: 3.674772 | V15: -2.8959359 | W15: 15.692727 | X15: -4.2476602 | Y15: -0.15185351 | Z15: -10.315622 | AA15: 2.0165543 | AB15: 1.3387302 | AC15: 3.0764189 | AD15: 4.0441651 | AE15: 0.65197499 | AF15: 7.21907 | AG15: -8.1596492 | AH15: -12.222374 | AI15: -4.2927546 | AJ15: 3.7019494 | AK15: -3.5271754 | AL15: 11.456839 | AM15: 2.6666667 | AN15: 13.388735 | AO15: -9.6602972
B16: Marzo | C16: -6.6820855 | D16: -2.9127443 | E16: -11.780878 | F16: -6.257584 | G16: -1.7847118 | H16: -14.59523 | I16: -6.159635 | J16: 1.9250636 | K16: -17.562463 | L16: -5.7614015 | M16: -0.10178239 | N16: -11.371311 | O16: -6.7471244 | P16: -6.3018544 | Q16: -7.3527447 | R16: -6.7589385 | S16: 1.4760228 | T16: -10.728591 | U16: -6.1121867 | V16: -5.9789435 | W16: -6.3422921 | X16: -11.966506 | Y16: -6.7209412 | Z16: -19.388013 | AA16: -6.2003504 | AB16: -1.6040276 | AC16: -13.210842 | AD16: -4.4640073 | AE16: -8.7393365 | AF16: -0.45825932 | AG16: -12.079414 | AH16: -16.314396 | AI16: -8.0627396 | AJ16: -5.0819136 | AK16: -4.3101016 | AL16: -5.9012956 | AM16: -5.0756467 | AN16: 3.240324 | AO16: -14.925373
B17: Abril | C17: -24.592592 | D17: -11.074891 | E17: -42.880125 | F17: -24.642457 | G17: -12.962374 | H17: -47.007496 | I17: -24.957286 | J17: -6.6133298 | K17: -51.530412 | L17: -21.722348 | M17: -6.9380673 | N17: -36.284894 | O17: -24.666247 | P17: -8.3551536 | Q17: -46.104866 | R17: -29.465395 | S17: -20.548965 | T17: -33.673923 | U17: -26.473937 | V17: -13.651547 | W17: -48.130343 | X17: -20.078478 | Y17: -11.368726 | Z17: -32.511059 | AA17: -21.166703 | AB17: -8.349898 | AC17: -41.373663 | AD17: -25.236644 | AE17: -14.471084 | AF17: -35.205967 | AG17: -37.033798 | AH17: -35.883281 | AI17: -38.059208 | AJ17: -16.614008 | AK17: -10.142776 | AL17: -23.143856 | AM17: -22.516226 | AN17: -5.1959891 | AO17: -43.487859
B18: Mayo | C18: -30.963093 | D18: -18.878389 | E18: -47.666581 | F18: -33.495014 | G18: -22.085224 | H18: -54.881618 | I18: -31.804577 | J18: -15.443074 | K18: -55.658881 | L18: -24.653736 | M18: -11.978461 | N18: -37.549053 | O18: -30.05295 | P18: -17.204483 | Q18: -47.991938 | R18: -36.76747 | S18: -26.031963 | T18: -41.821507 | U18: -35.121265 | V18: -25.69167 | W18: -52.07726 | X18: -21.289199 | Y18: -11.805865 | Z18: -35.597095 | AA18: -25.800895 | AB18: -10.614381 | AC18: -49.027997 | AD18: -33.29952 | AE18: -22.241477 | AF18: -43.541521 | AG18: -36.719195 | AH18: -39.256706 | AI18: -34.155534 | AJ18: -24.953202 | AK18: -23.194131 | AL18: -26.717125 | AM18: -31.065089 | AN18: -13.26624 | AO18: -51.871658
B19: Junio | C19: -37.913628 | D19: -25.433975 | E19: -55.043255 | F19: -41.753682 | G19: -31.430353 | H19: -61.228103 | I19: -38.637938 | J19: -23.925704 | K19: -60.916844 | L19: -32.248954 | M19: -15.330585 | N19: -48.353468 | O19: -38.590749 | P19: -25.743467 | Q19: -56.776192 | R19: -45.810029 | S19: -34.783576 | T19: -50.770371 | U19: -41.446825 | V19: -31.376664 | W19: -58.344663 | X19: -26.612369 | Y19: -12.697849 | Z19: -48.326751 | AA19: -30.141926 | AB19: -15.900591 | AC19: -52.192818 | AD19: -40.891039 | AE19: -23.495823 | AF19: -56.381817 | AG19: -35.671831 | AH19: -36.173336 | AI19: -35.162191 | AJ19: -28.069136 | AK19: -24.201301 | AL19: -31.830366 | AM19: -32.070831 | AN19: -13.394495 | AO19: -53.658537
B20: Julio | C20: -42.744077 | D20: -29.349694 | E20: -60.44021 | F20: -48.665213 | G20: -35.029565 | H20: -71.190214 | I20: -41.239708 | J20: -26.221034 | K20: -63.076385 | L20: -33.639287 | M20: -15.583307 | N20: -50.512088 | O20: -42.722827 | P20: -30.015612 | Q20: -60.202171 | R20: -48.863135 | S20: -40.037034 | T20: -53.095656 | U20: -47.281297 | V20: -37.315057 | W20: -63.415649 | X20: -37.363299 | Y20: -17.332057 | Z20: -69.321492 | AA20: -36.320982 | AB20: -22.505425 | AC20: -57.391849 | AD20: -43.974843 | AE20: -28.531676 | AF20: -57.747484 | AG20: -33.633769 | AH20: -34.070707 | AI20: -33.20425 | AJ20: -36.08776 | AK20: -33.249016 | AL20: -38.886195 | AM20: -36.194213 | AN20: -25.760286 | AO20: -48.859935
B21: Agosto | C21: -45.064407 | D21: -32.428769 | E21: -61.823104 | F21: -50.089873 | G21: -39.197064 | H21: -68.779625 | I21: -42.91999 | J21: -28.499882 | K21: -64.286882 | L21: -34.97265 | M21: -17.18137 | N21: -51.731077 | O21: -47.041655 | P21: -34.854973 | Q21: -63.540013 | R21: -50.802085 | S21: -41.366143 | T21: -55.240157 | U21: -48.997708 | V21: -39.645508 | W21: -64.084157 | X21: -37.58111 | Y21: -16.515451 | Z21: -71.011084 | AA21: -42.664371 | AB21: -30.272775 | AC21: -61.492532 | AD21: -46.700282 | AE21: -30.57206 | AF21: -60.784249 | AG21: -35.925346 | AH21: -30.559892 | AI21: -40.985376 | AJ21: -38.52479 | AK21: -35.637848 | AL21: -41.353383 | AM21: -41.863834 | AN21: -25.670841 | AO21: -60.860441
B22: Septiembre | C22: -44.668567 | D22: -34.00327 | E22: -58.882863 | F22: -52.580842 | G22: -41.837274 | H22: -70.786491 | I22: -42.870429 | J22: -28.855149 | K22: -63.915933 | L22: -34.609272 | M22: -20.368195 | N22: -48.464974 | O22: -44.637627 | P22: -37.182295 | Q22: -54.676603 | R22: -42.859961 | S22: -40.721257 | T22: -43.930263 | U22: -47.111328 | V22: -39.51743 | W22: -59.123636 | X22: -37.544089 | Y22: -16.214632 | Z22: -71.748798 | AA22: -44.48508 | AB22: -36.027993 | AC22: -57.293717 | AD22: -45.310256 | AE22: -29.15922 | AF22: -59.424432 | AG22: -34.669051 | AH22: -33.475769 | AI22: -35.785317 | AJ22: -40.335752 | AK22: -34.937179 | AL22: -45.542169 | AM22: -40.970221 | AN22: -22.232223 | AO22: -62.409887
B23: Octubre | C23: -41.632478 | D23: -34.900282 | E23: -50.443389 | F23: -53.375589 | G23: -44.484784 | H23: -68.681104 | I23: -40.592699 | J23: -29.59231 | K23: -56.515146 | L23: -28.976223 | M23: -18.855004 | N23: -38.499804 | O23: -38.207338 | P23: -36.231427 | Q23: -40.717883 | R23: -35.738279 | S23: -41.056162 | T23: -33.064449 | U23: -44.987852 | V23: -39.360374 | W23: -53.734906 | X23: -30.59494 | Y23: -16.640488 | Z23: -53.024128 | AA23: -43.243264 | AB23: -37.29899 | AC23: -52.301975 | AD23: -45.759798 | AE23: -34.633124 | AF23: -55.247505 | AG23: -27.253881 | AH23: -32.167199 | AI23: -22.812169 | AJ23: -34.420577 | AK23: -36.907449 | AL23: -32.042895 | AM23: -36.131211 | AN23: -29.133155 | AO23: -44.339623
B24: Noviembre | C24: -40.307782 | D24: -35.452606 | E24: -46.652302 | F24: -54.095795 | G24: -46.483855 | H24: -66.942863 | I24: -40.158499 | J24: -30.203131 | K24: -54.45278 | L24: -27.221642 | M24: -19.630652 | N24: -34.639449 | O24: -36.049743 | P24: -39.536936 | Q24: -31.497808 | R24: -32.411778 | S24: -35.797462 | T24: -30.775681 | U24: -42.117818 | V24: -37.146354 | W24: -49.80988 | X24: -28.906131 | Y24: -15.735175 | Z24: -50.293164 | AA24: -40.875225 | AB24: -37.098358 | AC24: -46.666927 | AD24: -42.48489 | AE24: -32.50057 | AF24: -50.924051 | AG24: -27.493485 | AH24: -32.507365 | AI24: -23.171119 | AJ24: -32.289223 | AK24: -38.856368 | AL24: -26.148198 | AM24: -34.608121 | AN24: -33.611343 | AO24: -35.908596
B25: Diciembre | C25: -38.056617 | D25: -34.228 | E25: -42.833364 | F25: -53.062108 | G25: -47.414005 | H25: -62.894731 | I25: -37.76886 | J25: -29.592864 | K25: -48.925625 | L25: -28.44845 | M25: -20.822387 | N25: -35.495798 | O25: -30.30976 | P25: -36.798341 | Q25: -22.6247 | R25: -31.703556 | S25: -36.16794 | T25: -29.620578 | U25: -38.869308 | V25: -33.003385 | W25: -46.922575 | X25: -25.50444 | Y25: -13.44255 | Z25: -45.507949 | AA25: -40.288533 | AB25: -35.873486 | AC25: -46.699216 | AD25: -39.883619 | AE25: -29.05696 | AF25: -48.924308 | AG25: -28.75547 | AH25: -25.792889 | AI25: -30.991655 | AJ25: -31.858407 | AK25: -39.350384 | AL25: -24.856785 | AM25: -28.943489 | AN25: -30.099502 | AO25: -27.261761
A26: 2021 | B26: Enero | C26: -37.633247 | D26: -35.040306 | E26: -40.971283 | F26: -53.149096 | G26: -49.467861 | H26: -60.534264 | I26: -37.228732 | J26: -29.685621 | K26: -47.248734 | L26: -28.402912 | M26: -20.884347 | N26: -35.934367 | O26: -29.052773 | P26: -33.705219 | Q26: -23.694682 | R26: -32.815785 | S26: -36.33334 | T26: -31.180211 | U26: -40.328999 | V26: -37.855132 | W26: -43.942011 | X26: -22.357826 | Y26: -11.201922 | Z26: -40.763104 | AA26: -41.440306 | AB26: -38.580302 | AC26: -45.77802 | AD26: -38.833779 | AE26: -31.581536 | AF26: -45.071431 | AG26: -29.650523 | AH26: -32.115042 | AI26: -27.630096 | AJ26: -28.232154 | AK26: -37.776008 | AL26: -19.882189 | AM26: -27.416268 | AN26: -24.899598 | AO26: -31.12426
B27: Febrero | C27: -38.0634 | D27: -34.972369 | E27: -42.144512 | F27: -54.564039 | G27: -48.927418 | H27: -65.214519 | I27: -40.471871 | J27: -32.272727 | K27: -52.004573 | L27: -25.23286 | M27: -18.547848 | N27: -32.286614 | O27: -29.257911 | P27: -32.759215 | Q27: -25.044134 | R27: -32.518205 | S27: -41.388164 | T27: -28.415279 | U27: -40.033312 | V27: -38.077319 | W27: -43.036048 | X27: -22.634364 | Y27: -11.404097 | Z27: -41.157592 | AA27: -39.531514 | AB27: -37.697607 | AC27: -42.35072 | AD27: -37.028966 | AE27: -29.823099 | AF27: -43.360181 | AG27: -27.063789 | AH27: -28.552209 | AI27: -25.764488 | AJ27: -20.009838 | AK27: -19.81318 | AL27: -20.192438 | AM27: -31.216931 | AN27: -35.423453 | AO27: -25.146886
B28: Marzo | C28: -30.635252 | D28: -32.540537 | E28: -27.798891 | F28: -50.936187 | G28: -47.386843 | H28: -58.544739 | I28: -31.632872 | J28: -32.042793 | K28: -30.918038 | L28: -19.108778 | M28: -16.045261 | N28: -22.531505 | O28: -19.813529 | P28: -30.258262 | Q28: -5.4463089 | R28: -21.067767 | S28: -39.734086 | T28: -10.839532 | U28: -33.105464 | V28: -35.23879 | W28: -29.407004 | X28: -12.9099 | Y28: -2.5631804 | Z28: -29.848871 | AA28: -32.891871 | AB28: -34.921202 | AC28: -29.382716 | AD28: -27.407806 | AE28: -22.758621 | AF28: -31.401449 | AG28: -18.016049 | AH28: -22.3869 | AI28: -14.242584 | AJ28: -10.65442 | AK28: -18.186509 | AL28: -2.522881 | AM28: -24.37018 | AN28: -29.642546 | AO28: -16.79198
B29: Abril | C29: -15.222803 | D29: -27.303519 | E29: 10.221005 | F29: -40.587979 | G29: -42.884886 | H29: -33.364278 | I29: -13.330706 | J29: -26.066021 | K29: 22.213998 | L29: -4.8045194 | M29: -12.663141 | N29: 6.5015875 | O29: -4.166298 | P29: -28.894473 | Q29: 51.100498 | R29: 4.2259968 | S29: -23.866329 | T29: 20.109347 | U29: -16.009326 | V29: -30.061093 | W29: 23.49908 | X29: -2.4165765 | Y29: 4.6372151 | Z29: -15.639652 | AA29: -20.624714 | AB29: -31.514287 | AC29: 6.2146503 | AD29: -7.0930149 | AE29: -18.314587 | AF29: 6.6240341 | AG29: 10.249288 | AH29: 1.3747196 | AI29: 18.436686 | AJ29: -1.4347141 | AK29: -10.56399 | AL29: 9.3355605 | AM29: -8.7628866 | AN29: -24.326923 | AO29: 22.851562
B30: Mayo | C30: -9.7622123 | D30: -20.899738 | E30: 14.100362 | F30: -34.727387 | G30: -36.251752 | H30: -29.793157 | I30: -7.3930935 | J30: -19.74913 | K30: 26.959955 | L30: -1.8999125 | M30: -7.8765412 | N30: 6.6700877 | O30: 2.5898444 | P30: -21.271933 | Q30: 55.62765 | R30: 4.8428369 | S30: -13.438181 | T30: 15.784867 | U30: -6.3841423 | V30: -20.224529 | W30: 32.205816 | X30: -0.20601355 | Y30: 2.2967305 | Z30: -5.3769054 | AA30: -21.253664 | AB30: -30.129795 | AC30: 2.5528952 | AD30: 5.1056434 | AE30: -10.459765 | AF30: 24.961374 | AG30: 10.452295 | AH30: 8.4739174 | AI30: 12.29621 | AJ30: 7.1959714 | AK30: 3.6737693 | AL30: 10.897683 | AM30: -0.35765379 | AN30: -17.510549 | AO30: 35.777778
B31: Junio | C31: 3.4900338 | D31: -14.114416 | E31: 43.568767 | F31: -22.369253 | G31: -27.315127 | H31: -5.8685369 | I31: 7.7341733 | J31: -11.28943 | K31: 63.807501 | L31: 8.1204074 | M31: -4.6904603 | N31: 28.112262 | O31: 19.693678 | P31: -14.674475 | Q31: 103.26946 | R31: 27.199633 | S31: 1.6720696 | T31: 42.412657 | U31: 7.6204325 | V31: -13.31495 | W31: 65.493543 | X31: 10.895415 | Y31: 4.9609683 | Z31: 26.541968 | AA31: -15.310575 | AB31: -26.702183 | AC31: 15.717888 | AD31: 21.038969 | AE31: -6.5771678 | AF31: 64.173382 | AG31: 15.636944 | AH31: 1.7808118 | AI31: 29.498219 | AJ31: 10.144366 | AK31: 4.2148452 | AL31: 16.555757 | AM31: 2.7516293 | AN31: -18.855932 | AO31: 49.427918
B32: Julio | C32: 16.801827 | D32: -7.3115845 | E32: 73.696867 | F32: -11.951643 | G32: -20.95605 | H32: 21.592746 | I32: 19.556941 | J32: -6.1484662 | K32: 94.23754 | L32: 13.312099 | M32: -1.5401587 | N32: 36.986981 | O32: 33.148415 | P32: -6.9900048 | Q32: 130.23893 | R32: 44.719944 | S32: 0.73474603 | T32: 71.685344 | U32: 25.535938 | V32: -4.0878835 | W32: 107.70895 | X32: 34.197933 | Y32: 12.311795 | Z32: 128.28856 | AA32: 0.018268399 | AB32: -16.998608 | AC32: 47.221584 | AD32: 34.020784 | AE32: 2.0641101 | AF32: 82.22705 | AG32: 22.170665 | AH32: 5.0865635 | AI32: 38.746841 | AJ32: 26.82421 | AK32: 16.189474 | AL32: 38.274963 | AM32: 15.603382 | AN32: -5.6626506 | AO32: 53.078556
B33: Agosto | C33: 25.391271 | D33: -0.59001102 | E33: 86.382146 | F33: -3.9136713 | G33: -13.207803 | H33: 27.143289 | I33: 26.901841 | J33: -1.7876771 | K33: 112.01076 | L33: 18.164149 | M33: 2.8460778 | N33: 42.920723 | O33: 46.964752 | P33: 0.54609613 | Q33: 159.24737 | R33: 52.243417 | S33: 8.6468886 | T33: 79.104345 | U33: 32.958168 | V33: 3.6038521 | W33: 112.53173 | X33: 39.017392 | Y33: 14.811427 | Z33: 149.64347 | AA33: 14.441512 | AB33: -4.5710719 | AC33: 66.750846 | AD33: 42.758161 | AE33: 6.0014263 | AF33: 99.584429 | AG33: 28.595641 | AH33: 7.8231547 | AI33: 51.646433 | AJ33: 33.291771 | AK33: 22.55524 | AL33: 44.836509 | AM33: 27.740864 | AN33: 8.543923 | AO33: 70.509383
B34: Septiembre | C34: 28.409436 | D34: 4.0345806 | E34: 80.552193 | F34: 5.8256141 | G34: -6.6667454 | H34: 47.972273 | I34: 29.349019 | J34: -0.40643458 | K34: 117.44419 | L34: 22.864412 | M34: 9.0734409 | N34: 43.59753 | O34: 45.682728 | P34: 8.1531693 | Q34: 115.72423 | R34: 39.447788 | S34: 11.194269 | T34: 54.396319 | U34: 29.099801 | V34: 4.9919039 | W34: 85.525773 | X34: 44.431598 | Y34: 15.580012 | Z34: 181.64832 | AA34: 20.613564 | AB34: 5.5884009 | AC34: 54.701401 | AD34: 43.292584 | AE34: 6.350314 | AF34: 99.65602 | AG34: 29.746713 | AH34: 21.698261 | AI34: 37.546497 | AJ34: 42.169878 | AK34: 24.467852 | AL34: 62.566372 | AM34: 25.874695 | AN34: 8.2175926 | AO34: 67.671233
B35: Octubre | C35: 26.52207 | D35: 9.1147628 | E35: 56.449758 | F35: 16.169912 | G35: 4.9524657 | H35: 50.399879 | I35: 27.43226 | J35: 0.81080565 | K35: 89.822349 | L35: 16.080187 | M35: 9.8009791 | N35: 23.87593 | O35: 32.224143 | P35: 11.225248 | Q35: 60.924021 | R35: 25.931475 | S35: 16.488727 | T35: 30.112426 | U35: 30.616291 | V35: 8.0421787 | W35: 76.60611 | X35: 34.19432 | Y35: 17.294751 | Z35: 82.395393 | AA35: 22.56021 | AB35: 8.7890945 | AC35: 50.147614 | AD35: 52.956207 | AE35: 20.700916 | AF35: 93.129494 | AG35: 22.61069 | AH35: 35.544391 | AI35: 12.335516 | AJ35: 35.315457 | AK35: 34.950805 | AL35: 35.639143 | AM35: 19.637462 | AN35: 18.537201 | AO35: 21.280603
B36: Noviembre | C36: 26.822152 | D36: 11.114014 | E36: 51.658148 | F36: 19.708391 | G36: 7.4168113 | H36: 53.292662 | I36: 29.980875 | J36: 2.7317691 | K36: 89.936693 | L36: 14.918428 | M36: 9.1462352 | N36: 21.854166 | O36: 33.781571 | P36: 23.387896 | Q36: 45.756555 | R36: 20.242666 | S36: 9.2705959 | T36: 25.16017 | U36: 27.447368 | V36: 7.5102536 | W36: 66.07811 | X36: 29.810039 | Y36: 13.978495 | Z36: 73.389992 | AA36: 27.805273 | AB36: 10.536775 | AC36: 59.036896 | AD36: 51.441551 | AE36: 18.65247 | AF36: 89.560548 | AG36: 17.82727 | AH36: 34.585704 | AI36: 5.1357733 | AJ36: 32.270226 | AK36: 41.704612 | AL36: 24.966103 | AM36: 16.750903 | AN36: 20.728643 | AO36: 11.375212
B37: Diciembre | C37: 26.38379 | D37: 11.676501 | E37: 47.495397 | F37: 23.195021 | G37: 11.951381 | H37: 50.935132 | I37: 34.722633 | J37: 4.4208074 | K37: 91.723321 | L37: 16.350966 | M37: 8.8975206 | N37: 24.80564 | O37: 24.224861 | P37: 21.884388 | Q37: 26.489126 | R37: 19.707785 | S37: 12.907067 | T37: 22.585653 | U37: 28.278061 | V37: 8.9850661 | W37: 61.711295 | X37: 24.015573 | Y37: 9.2229782 | Z37: 62.983425 | AA37: 26.542137 | AB37: 10.380713 | AC37: 54.774857 | AD37: 46.016789 | AE37: 11.894507 | AF37: 85.593586 | AG37: 19.226551 | AH37: 29.560716 | AI37: 10.838585 | AJ37: 35.784216 | AK37: 45.782993 | AL37: 28.242201 | AM37: 12.30982 | AN37: 13.16726 | AO37: 11.111111
A38: 2022 | B38: Enero | C38: 26.325476 | D38: 13.494941 | E38: 44.502533 | F38: 25.654445 | G38: 19.404923 | H38: 41.707625 | I38: 33.531609 | J38: 5.0816207 | K38: 83.906095 | L38: 16.371742 | M38: 4.4713012 | N38: 31.092979 | O38: 22.624649 | P38: 19.67164 | Q38: 25.579381 | R38: 22.212362 | S38: 13.184443 | T38: 26.095797 | U38: 31.817435 | V38: 15.612326 | W38: 58.05436 | X38: 20.53692 | Y38: 0.72064327 | Z38: 69.545369 | AA38: 22.23 | AB38: 15.746913 | AC38: 33.368036 | AD38: 44.596991 | AE38: 25.886191 | AF38: 64.642455 | AG38: 26.276159 | AH38: 35.370426 | AI38: 19.282666 | AJ38: 27.758426 | AK38: 47.760326 | AL38: 14.167128 | AM38: 12.656559 | AN38: 6.4171123 | AO38: 22.680412
B39: Febrero | C39: 27.214309 | D39: 15.490078 | E39: 44.612854 | F39: 33.256372 | G39: 19.335266 | H39: 71.876513 | I39: 37.319069 | J39: 10.206457 | K39: 91.133367 | L39: 14.187391 | M39: 4.7915541 | N39: 26.113027 | O39: 23.820505 | P39: 23.550998 | Q39: 24.111468 | R39: 18.13548 | S39: 21.547119 | T39: 16.843369 | U39: 32.568766 | V39: 18.429393 | W39: 56.164287 | X39: 18.623569 | Y39: 2.3401409 | Z39: 59.062128 | AA39: 20.551476 | AB39: 15.045955 | AC39: 29.698056 | AD39: 40.327481 | AE39: 24.349563 | AF39: 57.721236 | AG39: 20.408028 | AH39: 29.88847 | AI39: 12.442957 | AJ39: 20.996222 | AK39: 24.717874 | AL39: 17.524198 | AM39: 21.258741 | AN39: 24.968474 | AO39: 16.640502
B40: Marzo | C40: 26.97419 | D40: 17.467793 | E40: 40.196774 | F40: 43.496469 | G40: 26.315789 | H40: 90.238651 | I40: 33.899561 | J40: 11.395279 | K40: 72.504311 | L40: 15.468734 | M40: 6.896724 | N40: 25.847718 | O40: 21.323484 | P40: 22.937665 | Q40: 19.685756 | R40: 18.910483 | S40: 26.198734 | T40: 16.211098 | U40: 29.414877 | V40: 18.196355 | W40: 47.257251 | X40: 13.056334 | Y40: 0.32974875 | Z40: 41.995412 | AA40: 22.395177 | AB40: 16.80312 | AC40: 31.306656 | AD40: 37.85635 | AE40: 26.285499 | AF40: 49.047966 | AG40: 15.879788 | AH40: 34.501502 | AI40: 1.3299804 | AJ40: 18.294354 | AK40: 30.104523 | AL40: 7.5930764 | AM40: 18.626784 | AN40: 26.146221 | AO40: 9.4879518
B41: Abril | C41: 29.773414 | D41: 18.814268 | E41: 44.996936 | F41: 47.319498 | G41: 31.058401 | H41: 91.153395 | I41: 36.61412 | J41: 11.949174 | K41: 78.259662 | L41: 20.280372 | M41: 8.1078726 | N41: 34.64148 | O41: 27.539652 | P41: 25.206537 | Q41: 29.993489 | R41: 22.147331 | S41: 28.854713 | T41: 19.74348 | U41: 32.981506 | V41: 19.461893 | W41: 54.50823 | X41: 10.183685 | Y41: -2.1146341 | Z41: 38.779561 | AA41: 23.800507 | AB41: 16.841697 | AC41: 34.859406 | AD41: 27.5984 | AE41: 22.479586 | AF41: 32.392043 | AG41: 23.288405 | AH41: 39.390479 | AI41: 10.573184 | AJ41: 21.639599 | AK41: 26.613896 | AL41: 16.839246 | AM41: 25.423729 | AN41: 35.70521 | AO41: 12.559618
B42: Mayo | C42: 34.995262 | D42: 21.05257 | E42: 55.704596 | F42: 56.00306 | G42: 31.3753 | H42: 128.38733 | I42: 43.30454 | J42: 17.643189 | K42: 88.401638 | L42: 21.987883 | M42: 9.9953823 | N42: 36.839096 | O42: 30.682804 | P42: 26.200713 | Q42: 35.722523 | R42: 34.629691 | S42: 22.453975 | T42: 40.078061 | U42: 35.95471 | V42: 21.255356 | W42: 60.685794 | X42: 8.646546 | Y42: 0.5260948 | Z42: 26.784729 | AA42: 35.583837 | AB42: 20.469369 | AC42: 63.202957 | AD42: 29.634127 | AE42: 27.821664 | AF42: 31.290801 | AG42: 31.727276 | AH42: 39.310543 | AI42: 24.899987 | AJ42: 21.578786 | AK42: 26.080794 | AL42: 17.15554 | AM42: 26.058866 | AN42: 34.015345 | AO42: 15.875614
B43: Junio | C43: 32.742877 | D43: 22.566348 | E43: 46.602504 | F43: 56.721871 | G43: 35.648466 | H43: 111.00984 | I43: 40.173118 | J43: 18.408729 | K43: 74.914863 | L43: 21.790684 | M43: 11.590687 | N43: 33.632553 | O43: 28.129122 | P43: 27.311937 | Q43: 28.963286 | R43: 27.198598 | S43: 23.044135 | T43: 28.966157 | U43: 31.290815 | V43: 22.530076 | W43: 43.976088 | X43: 6.7145446 | Y43: -0.8406415 | Z43: 23.237086 | AA43: 32.853547 | AB43: 22.713437 | AC43: 50.348326 | AD43: 30.17435 | AE43: 27.383378 | AF43: 32.655006 | AG43: 25.048936 | AH43: 44.448495 | AI43: 9.7959418 | AJ43: 23.693702 | AK43: 27.46063 | AL43: 20.051903 | AM43: 21.775899 | AN43: 34.725849 | AO43: 6.5849923
B44: Julio | C44: 29.34759 | D44: 22.777293 | E44: 37.620042 | F44: 53.92247 | G44: 37.004458 | H44: 94.893327 | I44: 34.85128 | J44: 18.78144 | K44: 57.409409 | L44: 21.767959 | M44: 9.3869402 | N44: 35.953031 | O44: 25.287257 | P44: 27.024001 | Q44: 23.590173 | R44: 21.794776 | S44: 33.213531 | T44: 17.687394 | U44: 27.476795 | V44: 25.212268 | W44: 30.377369 | X44: 5.1324638 | Y44: -2.2662957 | Z44: 20.781131 | AA44: 27.860309 | AB44: 18.597409 | AC44: 42.346477 | AD44: 23.209286 | AE44: 24.895485 | AF44: 21.784626 | AG44: 26.811796 | AH44: 47.426739 | AI44: 11.662292 | AJ44: 21.65849 | AK44: 25.104186 | AL44: 18.540984 | AM44: 17.68617 | AN44: 41.890166 | AO44: -8.5991678
B45: Agosto | C45: 26.609709 | D45: 20.827019 | E45: 33.850066 | F45: 44.175562 | G45: 33.614179 | H45: 68.266746 | I45: 32.28732 | J45: 16.743044 | K45: 53.648755 | L45: 19.359777 | M45: 10.29284 | N45: 29.904607 | O45: 24.086216 | P45: 28.766186 | Q45: 19.695717 | R45: 19.62257 | S45: 25.111555 | T45: 17.571066 | U45: 25.465853 | V45: 20.745887 | W45: 31.703026 | X45: 2.9641508 | Y45: -4.0229616 | Z45: 17.649956 | AA45: 27.310054 | AB45: 15.997538 | AC45: 45.121914 | AD45: 24.253313 | AE45: 25.208301 | AF45: 23.469171 | AG45: 25.945565 | AH45: 43.741747 | AI45: 11.90437 | AJ45: 21.098733 | AK45: 24.500179 | AL45: 18.003898 | AM45: 21.651495 | AN45: 29.822616 | AO45: 10.062893
B46: Septiembre | C46: 24.256886 | D46: 19.641201 | E46: 29.94624 | F46: 42.579635 | G46: 32.722695 | H46: 63.555352 | I46: 30.900011 | J46: 17.882365 | K46: 48.552317 | L46: 18.692664 | M46: 10.376469 | N46: 28.189227 | O46: 20.314237 | P46: 25.38645 | Q46: 15.568324 | R46: 17.090404 | S46: 23.480769 | T46: 14.655415 | U46: 23.58598 | V46: 20.101004 | W46: 28.202034 | X46: -0.060036022 | Y46: -5.6200964 | Z46: 10.79153 | AA46: 23.600954 | AB46: 14.542823 | AC46: 37.627179 | AD46: 21.412084 | AE46: 22.890168 | AF46: 20.210846 | AG46: 18.823355 | AH46: 25.469876 | AI46: 13.124345 | AJ46: 18.642317 | AK46: 27.371298 | AL46: 10.941753 | AM46: 18.293471 | AN46: 23.636364 | AO46: 10.130719
B47: Octubre | C47: 21.084332 | D47: 16.414764 | E47: 26.683544 | F47: 39.128588 | G47: 25.526827 | H47: 68.092204 | I47: 26.081436 | J47: 17.84723 | K47: 36.330054 | L47: 16.420074 | M47: 10.081731 | N47: 23.395131 | O47: 18.063953 | P47: 21.639843 | Q47: 14.686026 | R47: 16.931267 | S47: 15.921493 | T47: 17.331549 | U47: 17.097454 | V47: 14.381446 | W47: 20.482539 | X47: -1.5935959 | Y47: -7.8760757 | Z47: 9.9297049 | AA47: 22.291908 | AB47: 14.955786 | AC47: 32.940084 | AD47: 15.95441 | AE47: 20.068602 | AF47: 12.751955 | AG47: 17.242063 | AH47: 17.136735 | AI47: 17.34303 | AJ47: 15.588452 | AK47: 19.958575 | AL47: 11.728982 | AM47: 19.570707 | AN47: 27.234043 | AO47: 8.3850932
B48: Noviembre | C48: 18.76076 | D48: 15.107456 | E48: 22.99276 | F48: 36.278587 | G48: 27.165069 | H48: 53.727372 | I48: 20.763573 | J48: 16.744791 | K48: 25.546232 | L48: 15.708274 | M48: 7.3497904 | N48: 24.704239 | O48: 16.475532 | P48: 14.554617 | Q48: 18.349053 | R48: 15.889472 | S48: 15.013261 | T48: 16.23232 | U48: 15.772042 | V48: 13.308445 | W48: 18.862181 | X48: 1.9521733 | Y48: -3.0847188 | Z48: 11.066509 | AA48: 12.614435 | AB48: 12.663964 | AC48: 12.552176 | AD48: 13.820342 | AE48: 20.596335 | AF48: 8.8895799 | AG48: 21.236743 | AH48: 4.3380053 | AI48: 37.619315 | AJ48: 12.999769 | AK48: 18.958556 | AL48: 7.7685353 | AM48: 19.418677 | AN48: 26.53486 | AO48: 8.9939024
B49: Diciembre | C49: 16.259901 | D49: 14.463236 | E49: 18.212618 | F49: 31.813181 | G49: 23.472695 | H49: 47.075893 | I49: 13.787471 | J49: 17.486786 | K49: 9.9974228 | L49: 13.875384 | M49: 7.8778585 | N49: 19.811408 | O49: 16.784826 | P49: 16.111607 | Q49: 17.412414 | R49: 16.572749 | S49: 11.388833 | T49: 18.593233 | U49: 14.667476 | V49: 14.534845 | W49: 14.822374 | X49: -0.15546985 | Y49: -4.5241664 | Z49: 7.5568417 | AA49: 11.651623 | AB49: 12.666084 | AC49: 10.387755 | AD49: 13.741249 | AE49: 20.509409 | AF49: 9.0084402 | AG49: 18.058038 | AH49: -3.8602743 | AI49: 38.853601 | AJ49: 10.631254 | AK49: 14.829867 | AL49: 7.0310899 | AM49: 17.179803 | AN49: 24.947589 | AO49: 6.119403
A50: 2023p | B50: Enero | C50: 14.613944 | D50: 14.996544 | E50: 14.188222 | F50: 25.723994 | G50: 20.525382 | H50: 36.976018 | I50: 15.916971 | J50: 18.587922 | K50: 13.214724 | L50: 12.761861 | M50: 9.0698145 | N50: 16.401564 | O50: 14.185298 | P50: 22.295348 | Q50: 6.4522691 | R50: 12.698995 | S50: 12.752957 | T50: 12.67816 | U50: 12.094863 | V50: 13.705306 | W50: 10.187629 | X50: -3.0831279 | Y50: 1.5113097 | Z50: -9.8332842 | AA50: 17.24477 | AB50: 12.24523 | AC50: 24.699201 | AD50: 14.839577 | AE50: 11.316113 | AF50: 17.725801 | AG50: 11.561992 | AH50: -9.4111782 | AI50: 29.86561 | AJ50: 10.530194 | AK50: 10.566929 | AL50: 10.497888 | AM50: 10.825044 | AN50: 19.19598 | AO50: -0.84033613
B51: Febrero | C51: 16.440577 | D51: 14.45841 | E51: 18.789704 | F51: 26.816681 | G51: 18.110236 | H51: 43.586688 | I51: 19.405563 | J51: 17.102754 | K51: 22.041014 | L51: 14.090217 | M51: 8.3310446 | N51: 20.164185 | O51: 17.335126 | P51: 20.41227 | Q51: 14.027999 | R51: 14.212719 | S51: 18.887717 | T51: 12.370848 | U51: 13.106483 | V51: 14.636281 | W51: 11.170457 | X51: 1.1530526 | Y51: 0.40453873 | Z51: 2.3490462 | AA51: 14.154643 | AB51: 16.614669 | AC51: 10.529393 | AD51: 13.695417 | AE51: 10.630724 | AF51: 16.32577 | AG51: 14.862007 | AH51: -4.4159465 | AI51: 33.571429 | AJ51: 8.3424091 | AK51: 3.1742557 | AL51: 13.459038 | AM51: 9.2272203 | AN51: 25.42886 | AO51: -12.382234
B52: Marzo | C52: 14.081641 | D52: 12.797219 | E52: 15.578527 | F52: 23.854308 | G52: 12.600875 | H52: 44.183147 | I52: 18.215339 | J52: 15.862099 | K52: 20.822144 | L52: 11.526077 | M52: 9.2532489 | N52: 13.86361 | O52: 14.30741 | P52: 21.520685 | Q52: 6.7900623 | R52: 9.7964159 | S52: 15.793053 | T52: 7.3845312 | U52: 11.687066 | V52: 13.109215 | W52: 9.8715941 | X52: -0.25397977 | Y52: 2.7249761 | Z52: -5.0401955 | AA52: 9.5561539 | AB52: 12.731763 | AC52: 5.0544899 | AD52: 7.2569971 | AE52: 8.0923378 | AF52: 6.5724258 | AG52: 15.449796 | AH52: -5.2855472 | AI52: 36.954723 | AJ52: 9.1972336 | AK52: -1.1358127 | AL52: 20.519047 | AM52: 11.117479 | AN52: 24.459725 | AO52: -7.565337
B53: Abril | C53: 12.290099 | D53: 13.292997 | E53: 11.148524 | F53: 21.418711 | G53: 12.555779 | H53: 37.79896 | I53: 13.541188 | J53: 17.278369 | K53: 9.5784043 | L53: 9.6268269 | M53: 10.21735 | N53: 9.0674251 | O53: 13.419406 | P53: 21.486682 | Q53: 5.2471497 | R53: 4.9772553 | S53: 16.771041 | T53: 0.42888241 | U53: 11.122795 | V53: 13.345991 | W53: 8.3858299 | X53: -0.59903412 | Y53: 1.512471 | Z53: -4.0619509 | AA53: 9.8722663 | AB53: 14.690402 | AC53: 3.2383108 | AD53: 13.702011 | AE53: 12.440629 | AF53: 14.79482 | AG53: 10.184168 | AH53: -7.7624168 | AI53: 28.04934 | AJ53: 6.5939919 | AK53: -1.4378994 | AL53: 14.993462 | AM53: 8.1081081 | AN53: 18.632959 | AO53: -7.7683616
B54: Mayo | C54: 11.134578 | D54: 12.621396 | E54: 9.4176592 | F54: 16.382642 | G54: 13.097414 | H54: 21.936906 | I54: 11.95094 | J54: 14.374757 | K54: 9.2911272 | L54: 10.203871 | M54: 10.330512 | N54: 10.077807 | O54: 12.591977 | P54: 21.216153 | Q54: 3.5751634 | R54: 6.2714239 | S54: 18.215603 | T54: 1.5991189 | U54: 12.343359 | V54: 15.900981 | W54: 7.8265881 | X54: 0.9327743 | Y54: -0.3980344 | Z54: 3.2896741 | AA54: 6.9720077 | AB54: 12.699392 | AC54: -0.75340883 | AD54: 10.402424 | AE54: 6.6754148 | AF54: 13.719064 | AG54: 13.38059 | AH54: -6.5747505 | AI54: 33.419435 | AJ54: 4.9797776 | AK54: -6.2956717 | AL54: 16.901932 | AM54: 7.3462415 | AN54: 20.992366 | AO54: -12.853107
B55: Junio | C55: 8.5112782 | D55: 10.518929 | E55: 6.2253118 | F55: 11.64315 | G55: 9.2247885 | H55: 15.648147 | I55: 8.9221797 | J55: 12.538489 | K55: 5.0144212 | L55: 9.7870379 | M55: 11.29121 | N55: 8.3287831 | O55: 7.6247754 | P55: 18.963847 | Q55: -3.8016836 | R55: 8.4960938 | S55: 13.777584 | T55: 6.3522117 | U55: 10.01315 | V55: 15.324546 | W55: 3.4679917 | X55: -1.4425474 | Y55: -4.2608292 | Z55: 3.5166158 | AA55: 8.2193673 | AB55: 10.316898 | AC55: 5.2656592 | AD55: 6.4331679 | AE55: 5.7414657 | AF55: 7.0235315 | AG55: 11.370577 | AH55: -8.0347229 | AI55: 31.443487 | AJ55: 4.0678448 | AK55: -5.3071253 | AL55: 13.690734 | AM55: 6.7708333 | AN55: 18.217054 | AO55: -10.201149
B56: Julio | C56: 6.5293753 | D56: 9.5697136 | E56: 3.1142432 | F56: 9.2625539 | G56: 8.4618391 | H56: 10.625697 | I56: 8.5545241 | J56: 11.121013 | K56: 5.8359027 | L56: 7.9394823 | M56: 12.235894 | N56: 3.9789131 | O56: 5.5611366 | P56: 17.401994 | Q56: -6.3307948 | R56: 7.4223743 | S56: 14.286092 | T56: 4.6277449 | U56: 6.018233 | V56: 11.175002 | W56: -0.32526351 | X56: -3.1100441 | Y56: -3.7886781 | Z56: -1.9485973 | AA56: 3.3170165 | AB56: 11.498258 | AC56: -7.3429104 | AD56: 7.5073325 | AE56: 6.7029289 | AF56: 8.2043288 | AG56: 6.1605143 | AH56: -11.624802 | AI56: 23.416811 | AJ56: 3.7741856 | AK56: -2.3825042 | AL56: 9.6528834 | AM56: 5.5932203 | AN56: 10.171017 | AO56: -2.124431
B57: Agosto | C57: 6.1468031 | D57: 8.6707519 | E57: 3.2941038 | F57: 12.961219 | G57: 8.7393402 | H57: 20.608329 | I57: 7.5727175 | J57: 10.748515 | K57: 4.2567166 | L57: 9.0125614 | M57: 10.418028 | N57: 7.6247763 | O57: 3.6927322 | P57: 16.271871 | Q57: -9.0026262 | R57: 6.8753455 | S57: 18.852306 | T57: 2.1118709 | U57: 5.9462665 | V57: 14.486381 | W57: -4.4001328 | X57: -3.9658921 | Y57: -4.3527085 | Z57: -3.3026371 | AA57: -0.16079696 | AB57: 5.1907992 | AC57: -6.895976 | AD57: 5.457277 | AE57: 5.9394891 | AF57: 5.0557544 | AG57: -0.54269791 | AH57: -14.702896 | AI57: 13.80831 | AJ57: 5.372191 | AK57: -28.546849 | AL57: 37.932696 | AM57: 1.1758418 | AN57: 6.9171648 | AO57: -8.4285714
B58: Septiembre | C58: 5.07407 | D58: 8.5084861 | E58: 1.1764738 | F58: 9.395807 | G58: 8.0432379 | H58: 11.731494 | I58: 7.3894111 | J58: 9.13944 | K58: 5.5062667 | L58: 5.1695348 | M58: 9.1050188 | N58: 1.299945 | O58: 3.0863897 | P58: 15.494078 | Q58: -9.5093885 | R58: 4.5345035 | S58: 19.830764 | T58: -1.7426316 | U58: 5.1572828 | V58: 14.660874 | W58: -6.6353489 | X58: -3.3286097 | Y58: -1.307383 | Z58: -6.6890867 | AA58: 1.0017695 | AB58: 6.6907204 | AC58: -6.3298191 | AD58: 5.4611198 | AE58: 5.7173368 | AF58: 5.2482512 | AG58: 1.3353338 | AH58: -10.244703 | AI58: 12.348149 | AJ58: 4.5551106 | AK58: -31.496989 | AL58: 41.069676 | AM58: 3.8797814 | AN58: 10.034602 | AO58: -6.6765579
B59: Octubre | C59: 2.8885448 | D59: 8.2838935 | E59: -3.0565331 | F59: 3.2630299 | G59: 6.1314115 | H59: -1.2982168 | I59: 6.6208823 | J59: 9.2563103 | K59: 3.785429 | L59: 4.3235343 | M59: 8.6814625 | N59: 0.045253783 | O59: 1.264208 | P59: 14.609208 | Q59: -12.106366 | R59: 2.7586257 | S59: 18.187256 | T59: -3.2838983 | U59: 5.3730278 | V59: 17.383768 | W59: -8.8384702 | X59: -6.5636366 | Y59: 0.86191864 | Z59: -17.977485 | AA59: 0.36527933 | AB59: 8.3176484 | AC59: -9.6158587 | AD59: 2.2977606 | AE59: 2.2975094 | AF59: 2.2979688 | AG59: -0.55121727 | AH59: -11.771977 | AI59: 10.18593 | AJ59: 1.7681267 | AK59: -30.865391 | AL59: 32.711198 | AM59: 0.052798311 | AN59: 7.5250836 | AO59: -12.750716
B60: Noviembre | C60: 2.778399 | D60: 8.4142463 | E60: -3.3316277 | F60: 3.9901292 | G60: 5.9341111 | H60: 0.91128305 | I60: 7.5817055 | J60: 9.1286891 | K60: 5.8697421 | L60: 4.4841165 | M60: 10.193013 | N60: -0.80511321 | O60: -0.95317867 | P60: 15.371858 | Q60: -16.364939 | R60: 4.6703356 | S60: 17.349398 | T60: -0.23875925 | U60: 5.5296745 | V60: 15.26283 | W60: -6.1083829 | X60: -9.0251962 | Y60: -3.2840999 | Z60: -18.090165 | AA60: 2.3780145 | AB60: 12.964893 | AC60: -10.943327 | AD60: -1.3335207 | AE60: 0.51181102 | AF60: -2.8206999 | AG60: -0.66549089 | AH60: -0.95475992 | AI60: -0.45287638 | AJ60: 3.660906 | AK60: -30.669068 | AL60: 36.928653 | AM60: -2.7964785 | AN60: 5.9210526 | AO60: -17.622378
B61: Diciembre | C61: 2.4704146 | D61: 7.8326728 | E61: -3.1727392 | F61: 3.9026966 | G61: 6.6933526 | H61: -0.38452676 | I61: 6.817226 | J61: 7.080356 | K61: 6.5292872 | L61: 4.6497541 | M61: 9.3092963 | N61: 0.49733707 | O61: -3.1597592 | P61: 14.06832 | Q61: -19.042192 | R61: 3.0491693 | S61: 16.795026 | T61: -1.9829524 | U61: 4.0790667 | V61: 12.000843 | W61: -5.1496017 | X61: -4.5860159 | Y61: 1.1208673 | Z61: -13.529095 | AA61: 4.7051057 | AB61: 10.710651 | AC61: -2.9313284 | AD61: -2.255652 | AE61: 1.829653 | AF61: -5.4138089 | AG61: 0.14026807 | AH61: -1.2860111 | AI61: 1.0772125 | AJ61: 2.8130611 | AK61: -30.444136 | AL61: 33.407814 | AM61: -0.21019443 | AN61: 8.557047 | AO61: -14.908579
A62: 2024p | B62: Enero | C62: 1.4290731 | D62: 5.6605221 | E62: -3.3126092 | F62: 6.0578133 | G62: 7.7865466 | H62: 2.7654687 | I62: 2.5436831 | J62: 1.7016443 | K62: 3.4360199 | L62: 6.0396207 | M62: 8.3397239 | N62: 3.9149486 | O62: -3.1838269 | P62: 5.2703835 | Q62: -12.444747 | R62: 0.27641916 | S62: 15.68062 | T62: -5.6752915 | U62: 2.2968364 | V62: 11.31559 | W62: -8.7249774 | X62: -2.5801082 | Y62: -0.06430073 | Z62: -6.7413892 | AA62: 1.4865948 | AB62: 9.5197504 | AC62: -9.2947957 | AD62: -6.0510542 | AE62: 1.8153118 | AF62: -12.143905 | AG62: -1.4554121 | AH62: 10.700746 | AI62: -8.8557177 | AJ62: 3.1134371 | AK62: -29.696624 | AL62: 31.985962 | AM62: -2.7455121 | AN62: 6.6610455 | AO62: -18.502825
B63: Febrero | C63: -0.16967927 | D63: 5.2967847 | E63: -6.4119374 | F63: 2.8825662 | G63: 12.288571 | H63: -12.020341 | I63: 2.2258744 | J63: 1.4379314 | K63: 3.091147 | L63: 1.5273709 | M63: 8.9888822 | N63: -5.5670527 | O63: -3.1857616 | P63: 6.4789554 | Q63: -14.154371 | R63: -1.6126108 | S63: 10.543698 | T63: -6.6797481 | U63: 1.0179298 | V63: 8.8314543 | W63: -9.1787048 | X63: -7.9028678 | Y63: -4.8570165 | Z63: -12.677141 | AA63: 3.1678807 | AB63: 3.9728442 | AC63: 1.916326 | AD63: -7.2651607 | AE63: -0.37667739 | AF63: -12.887935 | AG63: -3.5455567 | AH63: 4.3924634 | AI63: -9.0584994 | AJ63: -0.85109235 | AK63: -30.468916 | AL63: 25.813435 | AM63: -2.0063358 | AN63: 1.2067578 | AO63: -8.141321
B64: Marzo | C64: 0.40979585 | D64: 4.4950265 | E64: -4.2366297 | F64: -0.49942056 | G64: 12.177136 | H64: -18.383067 | I64: 3.2712302 | J64: 1.8140815 | K64: 4.819124 | L64: 2.2967393 | M64: 8.0514432 | N64: -3.3821525 | O64: -2.2487225 | P64: 4.2753839 | Q64: -9.9857221 | R64: 3.4189742 | S64: 9.3422727 | T64: 0.85003873 | U64: 1.9662012 | V64: 8.0265237 | W64: -5.998192 | X64: -6.2353173 | Y64: -8.1753498 | Z64: -2.863427 | AA64: 5.2140158 | AB64: 5.22418 | AC64: 5.1985543 | AD64: -3.8703677 | AE64: 0.55951771 | AF64: -7.5524842 | AG64: -4.2325189 | AH64: -2.6442848 | AI64: -5.3716679 | AJ64: -0.48081706 | AK64: -32.007005 | AL64: 27.855434 | AM64: -4.33213 | AN64: -0.63141279 | AO64: -11.309524
B65: Abril | C65: -1.0653654 | D65: 3.2874366 | E65: -6.1156574 | F65: -0.58732835 | G65: 10.528208 | H65: -17.367461 | I65: 3.203683 | J65: 0.93220403 | K65: 5.781534 | L65: -1.9435851 | M65: 8.2201882 | N65: -11.67322 | O65: -5.4050982 | P65: 2.3242047 | Q65: -14.443127 | R65: 2.5120989 | S65: 9.3167552 | T65: -0.53920564 | U65: -1.1986121 | V65: 6.5152685 | W65: -11.129728 | X65: -6.4017316 | Y65: -7.7982327 | Z65: -3.9783618 | AA65: 3.4720237 | AB65: 3.1408184 | AC65: 3.9786376 | AD65: -5.0273963 | AE65: -1.4261355 | AF65: -8.0833991 | AG65: -4.1798034 | AH65: -6.1285667 | AI65: -2.7824218 | AJ65: -1.7822046 | AK65: -33.053774 | AL65: 26.247631 | AM65: -3.90625 | AN65: -1.0260458 | AO65: -9.4946401
B66: Mayo | C66: -1.1190439 | D66: 2.3561815 | E66: -5.2496003 | F66: -1.1809452 | G66: 9.030981 | H66: -17.194441 | I66: 2.4028557 | J66: -0.34395132 | K66: 5.557313 | L66: -1.1845332 | M66: 4.0018602 | N66: -6.3591443 | O66: -3.8560865 | P66: 1.7180789 | Q66: -10.676649 | R66: 2.064198 | S66: 9.7858963 | T66: -1.4503751 | U66: -1.8310217 | V66: 4.3813563 | W66: -10.308905 | X66: -5.714508 | Y66: -5.6934235 | Z66: -5.7505161 | AA66: 3.0472494 | AB66: 2.383812 | AC66: 4.0634314 | AD66: -4.1812602 | AE66: 1.1983651 | AF66: -8.6720329 | AG66: -8.8732779 | AH66: -8.3314978 | AI66: -9.2542399 | AJ66: 0.73956864 | AK66: -28.771746 | AL66: 25.751509 | AM66: -2.4933687 | AN66: -2.2082019 | AO66: -3.0794165
B67: Junio | C67: -1.0651562 | D67: 1.8263617 | E67: -4.4905952 | F67: -1.4654733 | G67: 8.9105585 | H67: -17.694591 | I67: 2.1597439 | J67: -1.1370508 | K67: 5.9774826 | L67: 0.34942961 | M67: 3.5337041 | N67: -2.8220607 | O67: -3.2179275 | P67: -0.094311471 | Q67: -7.1105235 | R67: 0.76798002 | S67: 9.3690065 | T67: -2.9671428 | U67: -1.2735764 | V67: 3.1180401 | W67: -7.3054404 | X67: -6.7413777 | Y67: -4.899584 | Z67: -9.7387765 | AA67: 0.96830665 | AB67: 2.7318894 | AC67: -1.6343115 | AD67: -5.3832565 | AE67: 0.91556865 | AF67: -10.694864 | AG67: -4.937788 | AH67: -8.4842498 | AI67: -2.3711176 | AJ67: 2.3610209 | AK67: -27.726295 | AL67: 28.083407 | AM67: 0.37940379 | AN67: 0.57377049 | AO67: 0
B68: Julio | C68: -1.1657095 | D68: 1.8029734 | E68: -4.7091186 | F68: -0.19776319 | G68: 8.5747236 | H68: -14.83999 | I68: 1.3276054 | J68: -0.55962877 | K68: 3.4265375 | L68: -0.63547268 | M68: 3.4649179 | N68: -4.7155039 | O68: -2.7620649 | P68: 0.49979022 | Q68: -6.8680046 | R68: -1.1157263 | S68: 3.7262481 | T68: -3.2691714 | U68: -0.56665018 | V68: 2.8600502 | W68: -5.2682887 | X68: -5.254408 | Y68: -3.2365018 | Z68: -8.6431386 | AA68: 0.41940509 | AB68: 2.0878623 | AC68: -2.1966057 | AD68: -7.8810436 | AE68: -1.5841895 | AF68: -13.261409 | AG68: -6.422313 | AH68: -4.246629 | AI68: -7.9339164 | AJ68: 2.4950576 | AK68: -27.45549 | AL68: 27.954345 | AM68: -2.5682183 | AN68: -0.98039216 | AO68: -5.5813953
B69: Agosto | C69: -1.4531274 | D69: 1.8845492 | E69: -5.421906 | F69: -0.92332664 | G69: 6.5482379 | H69: -13.124808 | I69: 1.3065766 | J69: 0.049110797 | K69: 2.7013123 | L69: -3.061576 | M69: 1.7600854 | N69: -7.9461442 | O69: -2.6411566 | P69: 0.81622503 | Q69: -7.0996402 | R69: -3.4567551 | S69: 0.040309939 | T69: -5.0756264 | U69: -1.7214571 | V69: -0.001751089 | W69: -4.21649 | X69: -5.3483406 | Y69: -2.1490556 | Z69: -10.774425 | AA69: 1.7021946 | AB69: 7.6904886 | AC69: -6.8126793 | AD69: -7.1354797 | AE69: -0.99098748 | AF69: -12.29484 | AG69: 0.52608398 | AH69: -3.4916676 | AI69: 3.5778869 | AJ69: 3.1456181 | AK69: 0.060198656 | AL69: 4.6799381 | AM69: -3.1167459 | AN69: -1.5175719 | AO69: -6.2402496
B70: Septiembre | C70: -1.0963635 | D70: 1.8405259 | E70: -4.6708667 | F70: -0.78411248 | G70: 7.1974309 | H70: -14.112083 | I70: 0.84012727 | J70: 0.1247542 | K70: 1.6364231 | L70: -3.0362274 | M70: 0.57765517 | N70: -6.8633849 | O70: -2.0286136 | P70: 0.7027604 | Q70: -5.5675398 | R70: -0.79834695 | S70: -3.3401204 | T70: 0.47373841 | U70: -0.59386168 | V70: 0.28491351 | W70: -1.933025 | X70: -5.1449148 | Y70: -3.5492014 | Z70: -7.9509494 | AA70: 3.5437195 | AB70: 8.9173563 | AC70: -4.344146 | AD70: -7.6119614 | AE70: -0.92078169 | AF70: -13.195863 | AG70: -0.69341625 | AH70: -3.0064015 | AI70: 1.0639222 | AJ70: 2.3615228 | AK70: 0.75772883 | AL70: 3.1503106 | AM70: -3.3140452 | AN70: -3.3018868 | AO70: -3.3386327
B71: Octubre | C71: -0.42277009 | D71: 1.3074995 | E71: -2.5523656 | F71: 0.73140115 | G71: 7.7665782 | H71: -11.297906 | I71: 0.65764909 | J71: -1.3460813 | K71: 2.9271 | L71: -2.381543 | M71: -1.3103128 | N71: -3.5239767 | O71: -1.5788727 | P71: 1.4486602 | Q71: -5.5342001 | R71: 0.38819046 | S71: -1.3313382 | T71: 1.2111383 | U71: -1.0650098 | V71: -0.36459585 | W71: -2.1321497 | X71: -2.6893878 | Y71: -4.5765517 | Z71: 0.87764343 | AA71: 4.9600653 | AB71: 5.3157251 | AC71: 4.4251006 | AD71: -5.3818454 | AE71: 1.215387 | AF71: -10.850287 | AG71: -0.97240792 | AH71: -6.5172317 | AI71: 3.2760842 | AJ71: -0.46242775 | AK71: -0.77922078 | AL71: -0.30594621 | AM71: -1.5831135 | AN71: -2.9548989 | AO71: 1.3136289
B72: Noviembre | C72: -0.92840528 | D72: 1.2050423 | E72: -3.5223924 | F72: 1.7304886 | G72: 8.1561034 | H72: -8.9528389 | I72: 0.34818418 | J72: -1.4204007 | K72: 2.3656296 | L72: -2.9781807 | M72: -1.7071566 | N72: -4.2863346 | O72: -2.832981 | P72: 1.1388834 | Q72: -8.0055227 | R72: -1.6229661 | S72: 0.18325937 | T72: -2.4455975 | U72: -2.6192858 | V72: -0.79333508 | W72: -5.2995545 | X72: -3.1717204 | Y72: -1.1285501 | Z72: -6.9809568 | AA72: 2.2430188 | AB72: 0.30270707 | AC72: 5.3399287 | AD72: -4.3074896 | AE72: 1.7939679 | AF72: -9.3933655 | AG72: -2.5377586 | AH72: -7.8237964 | AI72: 1.3279233 | AJ72: 2.3938706 | AK72: -0.77922078 | AL72: 3.9507867 | AM72: 2.5039957 | AN72: 1.1645963 | AO72: 5.4329372
B73: Diciembre | C73: -2.3146474 | D73: 0.55814346 | E73: -5.6815527 | F73: -0.42900395 | G73: 7.1028793 | H73: -12.822218 | I73: -0.51029872 | J73: -2.8735452 | K73: 2.0891409 | L73: -3.6124662 | M73: 2.8981902 | N73: -9.9232751 | O73: -2.8007638 | P73: -1.2003822 | Q73: -4.879551 | R73: -5.2565041 | S73: -1.6211361 | T73: -6.8423115 | U73: -3.4676701 | V73: -0.18582169 | W73: -7.9822477 | X73: -3.1148493 | Y73: -1.5110723 | Z73: -6.0538715 | AA73: -2.3275899 | AB73: -0.874057 | AC73: -4.4356033 | AD73: -5.5036674 | AE73: -2.0562268 | AF73: -8.3728125 | AG73: -5.6673411 | AH73: -5.5922175 | AI73: -5.7155371 | AJ73: 1.1545925 | AK73: 2.4044697 | AL73: 0.5551036 | AM73: 0.63191153 | AN73: -0.23183926 | AO73: 2.4793388
A74: 2025p | B74: Enero | C74: -1.4708823 | D74: 0.12497193 | E74: -3.4251294 | F74: -0.20550278 | G74: 4.1834073 | H74: -8.9725087 | I74: 0.99036847 | J74: -0.25490721 | K74: 2.2879014 | L74: -4.5801933 | M74: 2.596172 | N74: -11.491479 | O74: -1.6517384 | P74: -0.25614422 | Q74: -3.4898176 | R74: -0.6017479 | S74: -0.84020973 | T74: -0.48875358 | U74: -3.2652548 | V74: -1.5316988 | W74: -5.8489927 | X74: -3.3239989 | Y74: -0.71766191 | Z74: -7.9436793 | AA74: -3.6842966 | AB74: -4.151553 | AC74: -2.9271079 | AD74: -5.6945896 | AE74: -5.3565891 | AF74: -5.9979821 | AG74: 5.2102656 | AH74: -3.3086611 | AI74: 11.509087 | AJ74: -1.9041153 | AK74: -2.4007293 | AL74: -1.6713356 | AM74: 3.4744843 | AN74: 0.55335968 | AO74: 9.8786828
B75: Febrero | C75: -0.98747638 | D75: 0.13153537 | E75: -2.425164 | F75: -0.23948969 | G75: 1.8337108 | H75: -4.4318669 | I75: 1.4568082 | J75: -0.046834184 | K75: 3.0815403 | L75: -3.2222156 | M75: 1.476804 | N75: -8.3787301 | O75: -0.91876923 | P75: -1.01596 | Q75: -0.78195443 | R75: -0.2579428 | S75: 2.9831446 | T75: -1.8582736 | U75: -2.8559996 | V75: -1.5419545 | W75: -4.9108816 | X75: -2.5389639 | Y75: 3.2561262 | Z75: -12.436056 | AA75: -3.0861157 | AB75: -2.2369967 | AC75: -4.4329629 | AD75: -5.0942212 | AE75: -4.6002363 | AF75: -5.5553513 | AG75: 2.981856 | AH75: 0.43585159 | AI75: 5.0115823 | AJ75: 1.0476512 | AK75: 0.96633099 | AL75: 1.0881117 | AM75: 0.26939655 | AN75: -1.1128776 | AO75: 3.1772575
B76: Marzo | C76: -2.0123355 | D76: 0.055284994 | E76: -4.578411 | F76: -1.5634619 | G76: 1.6863378 | H76: -7.8648389 | I76: -0.4686032 | J76: -0.50650253 | K76: -0.42949786 | L76: -3.2637374 | M76: 0.39203485 | N76: -7.2982675 | O76: -1.766715 | P76: -0.5458445 | Q76: -3.4439408 | R76: -1.1895389 | S76: 4.1869937 | T76: -3.7176951 | U76: -2.4615257 | V76: -1.4404791 | W76: -4.0035695 | X76: -2.0124465 | Y76: 4.1343804 | Z76: -12.111761 | AA76: -5.9748901 | AB76: -3.8914956 | AC76: -9.1448587 | AD76: -5.9164992 | AE76: -3.5735277 | AF76: -8.0348602 | AG76: 1.7164124 | AH76: 1.1072026 | AI76: 2.1659574 | AJ76: -0.5930961 | AK76: 2.9569339 | AL76: -2.2899636 | AM76: -1.2398922 | AN76: -1.7474186 | AO76: -0.16778524
B77: Abril | C77: -0.15507959 | D77: 0.46297062 | E77: -0.94398635 | F77: -1.3774135 | G77: 1.8685352 | H77: -7.9317489 | I77: 0.49075366 | J77: -1.5091912 | K77: 2.6563975 | L77: 0.40882329 | M77: -0.96348228 | N77: 2.0183874 | O77: 0.83612498 | P77: 0.83342975 | Q77: 0.83989422 | R77: 0.52221028 | S77: 2.8203718 | T77: -0.61043706 | U77: 0.65340002 | V77: -0.17596679 | W77: 1.9331559 | X77: 0.79193425 | Y77: 6.8578122 | Z77: -9.3155303 | AA77: -4.0959433 | AB77: -2.3282285 | AC77: -6.7780644 | AD77: -4.9657213 | AE77: -4.68234 | AF77: -5.2236136 | AG77: 5.1145574 | AH77: 4.7191011 | AI77: 5.3883634 | AJ77: 3.1372948 | AK77: 5.3374039 | AL77: 2.0915687 | AM77: 0.32520325 | AN77: 0.079744817 | AO77: 0.84602369
B78: Mayo | C78: -0.53550711 | D78: 0.082559154 | E78: -1.3290924 | F78: 1.2006688 | G78: 3.3528207 | H78: -3.2430016 | I78: -0.80171821 | J78: -1.7834642 | K78: 0.26269679 | L78: -0.60776078 | M78: 1.5081388 | N78: -2.9524379 | O78: -0.49588763 | P78: 0.14015138 | Q78: -1.3821397 | R78: -0.72256445 | S78: 1.056445 | T78: -1.6246123 | U78: -1.0005915 | V78: -2.8138853 | W78: 1.8792685 | X78: -0.22771526 | Y78: 3.6097306 | Z78: -6.7852673 | AA78: -3.2873949 | AB78: -2.0253916 | AC78: -5.1891964 | AD78: -6.1235256 | AE78: -8.1362977 | AF78: -4.2617243 | AG78: 5.6133523 | AH78: 2.3247432 | AI78: 7.9493088 | AJ78: 3.318992 | AK78: 5.0847458 | AL78: 2.4713196 | AM78: -1.1969532 | AN78: -1.7741935 | AO78: 0
B79: Junio | C79: -0.067296829 | D79: 1.0930092 | E79: -1.532767 | F79: 1.7705581 | G79: 4.2508316 | H79: -3.362838 | I79: -0.1584262 | J79: -1.5306634 | K79: 1.3239671 | L79: -0.41844065 | M79: -1.130499 | N79: 0.33714303 | O79: 1.3277299 | P79: 4.5009864 | Q79: -2.9254189 | R79: -1.0473844 | S79: 1.5914073 | T79: -2.3390056 | U79: -1.4082678 | V79: -0.93998932 | W79: -2.1237713 | X79: 1.9033576 | Y79: 4.8085438 | Z79: -3.0781264 | AA79: -2.8508732 | AB79: -1.944552 | AC79: -4.2477511 | AD79: -4.7406409 | AE79: -7.9089582 | AF79: -1.7215456 | AG79: 1.4033982 | AH79: 4.2456225 | AI79: -0.52479557 | AJ79: -0.50070098 | AK79: 2.3694738 | AL79: -1.8852986 | AM79: -3.1317495 | AN79: -2.4449878 | AO79: -4.48
B80: Julio | C80: -0.47980125 | D80: 1.2998539 | E80: -2.7491562 | F80: 0.82084749 | G80: 3.538413 | H80: -4.9622095 | I80: -1.291761 | J80: -1.6206715 | K80: -0.94005388 | L80: -0.98896226 | M80: -1.7414412 | N80: -0.17593803 | O80: 0.77303877 | P80: 4.5028417 | Q80: -4.2933677 | R80: 0.31125938 | S80: 4.8173684 | T80: -1.8377424 | U80: -1.8294285 | V80: -1.1607963 | W80: -2.8255485 | X80: -1.0781171 | Y80: 3.4422773 | Z80: -9.1186123 | AA80: 0.66365589 | AB80: 4.8592934 | AC80: -6.2029575 | AD80: -4.18154 | AE80: -7.3950116 | AF80: -1.066131 | AG80: 0.034315408 | AH80: 0.89400491 | AI80: -0.58689411 | AJ80: 0.073162621 | AK80: 0.64423765 | AL80: -0.20206003 | AM80: -1.1532125 | AN80: -2.2277228 | AO80: 0.98522167
B81: Agosto | C81: -0.69890548 | D81: 1.1245637 | E81: -3.0346686 | F81: 0.92688182 | G81: 5.0202729 | H81: -7.2716245 | I81: -0.59909074 | J81: -2.3680609 | K81: 1.3123177 | L81: -0.56979542 | M81: -0.2183431 | N81: -0.96337392 | O81: 0.14068596 | P81: 2.7099671 | Q81: -3.4548574 | R81: -0.37948575 | S81: 4.7546562 | T81: -2.8842898 | U81: -1.9702979 | V81: -0.71037071 | W81: -3.8786968 | X81: -2.7684478 | Y81: 0.30518024 | Z81: -8.4853483 | AA81: 0.11831519 | AB81: 4.6320289 | AC81: -7.2987082 | AD81: -6.2091315 | AE81: -8.4170706 | AF81: -4.1162408 | AG81: 0.28478933 | AH81: 2.6077763 | AI81: -1.3592717 | AJ81: -1.9771273 | AK81: -1.1831946 | AL81: -2.3545112 | AM81: -2.6717557 | AN81: -3.649635 | AO81: -0.6655574
B82: Septiembre | C82: -1.0762745 | D82: 0.77918236 | E82: -3.4888115 | F82: 0.89764909 | G82: 2.5727548 | H82: -2.5935265 | I82: -0.95030268 | J82: -3.2195825 | K82: 1.5381077 | L82: 0.19062748 | M82: 0.90645686 | N82: -0.62801236 | O82: -1.285899 | P82: 2.6742108 | Q82: -6.7575403 | R82: -0.46684049 | S82: 15.525278 | T82: -8.1666343 | U82: -1.7657943 | V82: -0.11861779 | W82: -4.3326931 | X82: -4.5068199 | Y82: -1.0443391 | Z82: -10.886692 | AA82: -1.6087159 | AB82: 2.795862 | AC82: -8.9704651 | AD82: -5.3849833 | AE82: -7.8817348 | AF82: -3.0067605 | AG82: -0.44479785 | AH82: 1.5556865 | AI82: -1.9034933 | AJ82: -1.3243525 | AK82: 2.3162539 | AL82: -3.0733658 | AM82: -2.9379761 | AN82: -3.495935 | AO82: -1.8092105
B83: Octubre | C83: -1.5190255 | D83: 0.68762022 | E83: -4.3425155 | F83: 1.6216575 | G83: 3.0094188 | H83: -1.261249 | I83: -0.003231218 | J83: -1.7652156 | K83: 1.9095626 | L83: -1.2419463 | M83: -1.8778186 | N83: -0.54824836 | O83: -1.1454701 | P83: 1.8996735 | Q83: -5.4178813 | R83: -0.94224493 | S83: 11.416656 | T83: -6.7084972 | U83: -1.6821222 | V83: 0.21886866 | W83: -4.6307517 | X83: -14.880903 | Y83: -2.3786106 | Z83: -37.234486 | AA83: -3.8851658 | AB83: 3.9168424 | AC83: -15.720629 | AD83: -5.3752096 | AE83: -8.7980414 | AF83: -2.1540374 | AG83: -0.35350436 | AH83: 2.9552811 | AI83: -2.6483183 | AJ83: 3.1889829 | AK83: 2.7386226 | AL83: 3.4103846 | AM83: -3.8605898 | AN83: -4.9679487 | AO83: -1.6207455
B84: Noviembre | C84: -2.1490557 | D84: -0.59548691 | E84: -4.1305459 | F84: 0.0054121926 | G84: 0.60409907 | H84: -1.1770199 | I84: -0.23721438 | J84: -2.4779158 | K84: 2.2242456 | L84: -2.1256951 | M84: -4.2690534 | N84: 0.13971971 | O84: -2.4544755 | P84: 0.78067258 | Q84: -7.0863858 | R84: -1.656764 | S84: 9.8712919 | T84: -7.0486125 | U84: -2.9861678 | V84: -0.89190583 | W84: -6.2065624 | X84: -11.389289 | Y84: -1.8897876 | Z84: -30.214211 | AA84: -2.5327208 | AB84: 3.2809266 | AC84: -11.368104 | AD84: -5.2624723 | AE84: -9.3812529 | AF84: -1.4053548 | AG84: -1.5958222 | AH84: 1.78756 | AI84: -3.8466206 | AJ84: -1.1336266 | AK84: 3.4333468 | AL84: -3.2725044 | AM84: -6.2370062 | AN84: -7.2908672 | AO84: -4.0257649
B85: Diciembre | C85: -1.8333892 | D85: -0.68631289 | E85: -3.2666981 | F85: -1.3990351 | G85: -0.84251458 | H85: -2.5240464 | I85: -0.48602735 | J85: -1.6576175 | K85: 0.74001204 | L85: -1.1228267 | M85: -7.0727218 | N85: 5.465342 | O85: -1.0888397 | P85: 2.1852797 | Q85: -5.5061951 | R85: -0.10393988 | S85: 13.772908 | T85: -6.4965173 | U85: -3.6117266 | V85: -2.4475904 | W85: -5.3488194 | X85: -10.812737 | Y85: -1.9430626 | Z85: -27.852952 | AA85: 0.22106287 | AB85: 5.6541836 | AC85: -7.9520794 | AD85: -5.0089346 | AE85: -8.5754952 | AF85: -1.8360241 | AG85: -1.7205619 | AH85: 0.7411871 | AI85: -3.3019781 | AJ85: 3.3475078 | AK85: 1.1788776 | AL85: 4.4067958 | AM85: -3.9769754 | AN85: -4.64756 | AO85: -2.5806452
A86: 2026p | B86: Enero | C86: -3.0960633 | D86: -0.53153892 | E86: -6.3519654 | F86: -2.5687793 | G86: 0.16491323 | H86: -8.8186388 | I86: -1.2025724 | J86: -0.33112167 | K86: -2.0880203 | L86: -2.4720743 | M86: -8.8833744 | N86: 4.6851805 | O86: -3.0408022 | P86: 1.9186107 | Q86: -9.7914956 | R86: -2.509835 | S86: 8.3367645 | T86: -7.631307 | U86: -3.3933917 | V86: -1.0110623 | W86: -7.1068956 | X86: -11.110202 | Y86: -1.9865899 | Z86: -28.551008 | AA86: -5.1499637 | AB86: 3.003003 | AC86: -18.19519 | AD86: -4.5511986 | AE86: -6.9538865 | AF86: -2.3798068 | AG86: -7.8289591 | AH86: -4.8386175 | AI86: -9.7461817 | AJ86: 9.5933298 | AK86: 11.76959 | AL86: 8.5808103 | AM86: -5.2465897 | AN86: -5.1100629 | AO86: -5.5205047
B87: Febrero | C87: -3.6878164 | D87: -1.9082878 | E87: -6.0340319 | F87: -2.833559 | G87: -1.3342773 | H87: -6.064141 | I87: -2.5126794 | J87: -0.71662315 | K87: -4.3944764 | L87: -2.8454873 | M87: -7.8714316 | N87: 3.2630485 | O87: -6.1157809 | P87: -1.5825424 | Q87: -12.48214 | R87: 0.80981831 | S87: 6.8218229 | T87: -2.3051296 | U87: -3.8150057 | V87: -3.2903809 | W87: -4.6644714 | X87: -10.256667 | Y87: -3.7661298 | Z87: -23.327961 | AA87: -5.8962508 | AB87: 1.2460253 | AC87: -17.485435 | AD87: -2.4824684 | AE87: -6.0977624 | AF87: 0.92650265 | AG87: -5.2591041 | AH87: -4.8792701 | AI87: -5.548721 | AJ87: 4.1906355 | AK87: 8.0797904 | AL87: 2.2579353 | AM87: -4.1375605 | AN87: -2.9742765 | AO87: -6.4829822
B88: Marzo | C88: -4.1720244 | D88: -1.8995279 | E88: -7.1293231 | F88: -4.5057075 | G88: -3.2134059 | H88: -7.2712476 | I88: -3.8140539 | J88: -0.7854824 | K88: -6.9365824 | L88: -3.8386491 | M88: -8.0783036 | N88: 1.2284069 | O88: -3.5816049 | P88: 0.99093173 | Q88: -10.051877 | R88: -2.4576983 | S88: 3.1703074 | T88: -5.3213696 | U88: -4.8176443 | V88: -1.8206582 | W88: -9.464716 | X88: -11.144837 | Y88: -4.4371754 | Z88: -24.2028 | AA88: -3.9719582 | AB88: 3.0390871 | AC88: -15.25636 | AD88: -3.624822 | AE88: -8.3506034 | AF88: 0.85519473 | AG88: -3.7720861 | AH88: -4.6825985 | AI88: -3.1071681 | AJ88: 4.9842462 | AK88: 6.3844691 | AL88: 4.2790182 | AM88: -3.220524 | AN88: -1.1317704 | AO88: -7.5630252
B89: Abril | C89: -5.4041132 | D89: -2.798099 | E89: -8.7777929 | F89: -5.3065958 | G89: -5.1539469 | H89: -5.64764 | I89: -4.7954322 | J89: -1.0786986 | K89: -8.6567907 | L89: -5.3115294 | M89: -9.0888932 | N89: -1.0105915 | O89: -5.2822828 | P89: 0.28041438 | Q89: -13.061116 | R89: -2.2644018 | S89: 3.9283651 | T89: -5.4218576 | U89: -6.0574022 | V89: -1.6837087 | W89: -12.666596 | X89: -12.076194 | Y89: -7.4167269 | Z89: -21.224869 | AA89: -6.6622691 | AB89: 0.77036006 | AC89: -18.477973 | AD89: -5.1463487 | AE89: -6.5374304 | AF89: -3.8731597 | AG89: -6.0464474 | AH89: -4.1224305 | AI89: -7.3701387 | AJ89: 2.5091256 | AK89: 6.2662403 | AL89: 0.66656864 | AM89: -2.0529444 | AN89: -1.5936255 | AO89: -3.0201342
B90: Mayo | C90: -4.8344199 | D90: -2.5136397 | E90: -7.8568891 | F90: -4.2339805 | G90: -6.9385354 | H90: 1.7309401 | I90: -3.7595752 | J90: 0.019015456 | K90: -7.7727393 | L90: -5.4741174 | M90: -9.413831 | N90: -0.90777076 | O90: -5.6633238 | P90: -0.091133637 | Q90: -13.547423 | R90: -2.5032715 | S90: 2.6253086 | T90: -5.1745922 | U90: -4.915065 | V90: -0.45434838 | W90: -11.67319 | X90: -10.77666 | Y90: -3.5824287 | Z90: -24.441354 | AA90: -7.3234211 | AB90: 0.35919431 | AC90: -19.287232 | AD90: -4.0924053 | AE90: -3.0092197 | AF90: -5.053796 | AG90: -3.9756219 | AH90: 1.0449689 | AI90: -7.356022 | AJ90: 1.6689801 | AK90: 6.0909637 | AL90: -0.50798974 | AM90: -0.22026432 | AN90: 1.6420361 | AO90: -4.0133779
B91: Junio | C91: -5.6163003 | D91: -3.4164987 | E91: -8.4687457 | F91: -4.4245002 | G91: -7.6192304 | H91: 2.7085416 | I91: -5.5046912 | J91: 0.39179646 | K91: -11.695059 | L91: -5.3509249 | M91: -8.0539922 | N91: -2.5245846 | O91: -6.8344859 | P91: -3.500464 | Q91: -11.644969 | R91: -4.4966805 | S91: 1.6980969 | T91: -7.6508976 | U91: -6.1484906 | V91: -2.6972693 | W91: -11.485543 | X91: -12.264653 | Y91: -5.1358202 | Z91: -25.483029 | AA91: -7.498536 | AB91: 0.49198251 | AC91: -20.110246 | AD91: -2.9237048 | AE91: -2.972672 | AF91: -2.8799816 | AG91: -2.8516111 | AH91: -0.3221353 | AI91: -4.6499264 | AJ91: 2.2342995 | AK91: 5.2905812 | AL91: 0.69598548 | AM91: 1.0590858 | AN91: 3.091061 | AO91: -3.0150754
B92: Julio | C92: -4.6275668 | D92: -3.7850664 | E92: -5.7466236 | F92: -3.8664412 | G92: -8.0764607 | H92: 5.8939388 | I92: -3.8573748 | J92: -0.30632807 | K92: -7.6284525 | L92: -3.6018162 | M92: -5.6472078 | N92: -1.4265082 | O92: -6.6119958 | P92: -3.3402484 | Q92: -11.464657 | R92: -3.8247991 | S92: 1.881812 | T92: -6.7308422 | U92: -5.660135 | V92: -2.4513172 | W92: -10.52249 | X92: -8.7564599 | Y92: -3.2946033 | Z92: -19.814289 | AA92: -6.8873387 | AB92: -5.6720586 | AC92: -9.1108474 | AD92: -1.1769763 | AE92: -3.4506497 | AF92: 0.8863033 | AG92: -1.9283544 | AH92: -3.3821741 | AI92: -0.86217881 | AJ92: 1.1830387 | AK92: 5.5171713 | AL92: -0.92345679 | AM92: -2.6111111 | AN92: 2.1097046 | AO92: -11.707317
B93: Agosto | C93: -6.0122012 | D93: -4.5432063 | E93: -7.9746162 | F93: -7.3130462 | G93: -8.0058632 | H93: -5.7414877 | I93: -4.0862719 | J93: 0.63379853 | K93: -9.0011317 | L93: -6.568996 | M93: -6.2166841 | N93: -6.9665051 | O93: -7.3203915 | P93: -4.7139926 | Q93: -11.200787 | R93: -6.3785735 | S93: -2.622019 | T93: -8.3554496 | U93: -5.9959831 | V93: -4.5737264 | W93: -8.2212697 | X93: -8.5086709 | Y93: -3.6458198 | Z93: -18.422308 | AA93: -9.8276458 | AB93: -10.121588 | AC93: -9.2824705 | AD93: -0.20649752 | AE93: -0.68413579 | AF93: 0.22594468 | AG93: -3.842233 | AH93: -5.5180309 | AI93: -2.6085124 | AJ93: 1.3314877 | AK93: 5.7737189 | AL93: -0.80538878 | AM93: -0.72829132 | AN93: 3.1986532 | AO93: -8.5427136
B95: Fuente: DANE, EMA.
B96: ᵖ: Cifra provisional
B97: Nota metodológica: Variación anual = ((Valor mes año actual-valor mes año anterior)/(valor mes año anterior))*100 1 El resto del personal lo conforman las siguientes categorías de contratación: los Propietarios, Socios y Familiares sin remuneración, el Temporal Directo, Temporal contratado a través de Agencias y los Aprendices. Regiones: Bogotá, D. C.; Cartagena; Región Central (Boyacá, Cundinamarca, Huila y Tolima); Región Costa Caribe (Atlántico, Cesar, La Guajira y Magdalena); Región Eje Cafetero (Caldas, Quindío y Risaralda); Antioquia; San Andrés y Providencia; Región Pacífico (Valle del Cauca, Cauca, Nariño y Chocó); Región Santanderes (Santander y Norte de Santander); Región Llanos Orinoquía (Meta, Casanare, Arauca y Vichada); Región Golfo Morrosquillo y Sabana (Bolívar, Córdoba y Sucre); y Región Amazonía (Amazonas, Caquetá, Guainía, Putumayo, Guaviare y Vaupés).
B99: Nota: como parte del proceso de producción estadística algunas fuentes de información presentaron actualización en la información; como consecuencia de este proceso se presentan cambios en la serie histórica.
B100: ='1.1 V.A Ing.real'!B96 -> Actualizado el 16 de octubre de 2026

Sheet 2.2 V.A.C Per.categ
L4: Inicio
A6: ENCUESTA MENSUAL DE ALOJAMIENTO - EMA
A8: 2.2 Variaciones año corrido del personal total y por categoría
A9: Total nacional y 12 regiones
A10: ='1.1 V.A Ing.real'!A11 -> Enero 2020 - agosto 2026ᵖ
A12: Año | B12: Meses | C12: Total nacional | F12: Bogotá, D. C. | I12: Cartagena | L12: Central | O12: Caribe | R12: Eje Cafetero | U12: Antioquia | X12: San Andrés y Providencia | AA12: Pacífico | AD12: Santanderes | AG12: Llanos Orinoquía | AJ12: Golfo Morrosquillo y Sabana | AM12: Amazonía
C13: Total del personal | D13: Personal permanente | E13: Resto de personal1 | F13: Total del personal | G13: Personal permanente | H13: Resto de personal1 | I13: Total del personal | J13: Personal permanente | K13: Resto de personal1 | L13: Total del personal | M13: Personal permanente | N13: Resto de personal1 | O13: Total del personal | P13: Personal permanente | Q13: Resto de personal1 | R13: Total del personal | S13: Personal permanente | T13: Resto de personal1 | U13: Total del personal | V13: Personal permanente | W13: Resto de personal1 | X13: Total del personal | Y13: Personal permanente | Z13: Resto de personal1 | AA13: Total del personal | AB13: Personal permanente | AC13: Resto de personal1 | AD13: Total del personal | AE13: Personal permanente | AF13: Resto de personal1 | AG13: Total del personal | AH13: Personal permanente | AI13: Resto de personal1 | AJ13: Total del personal | AK13: Personal permanente | AL13: Resto de personal1 | AM13: Total del personal | AN13: Personal permanente | AO13: Resto de personal1
A14: 2020 | B14: Enero | C14: 2.1753621 | D14: 1.0528688 | E14: 3.6576573 | F14: 1.3476145 | G14: 2.2650545 | H14: -0.44416244 | I14: 3.9930471 | J14: 2.2090602 | K14: 6.4614258 | L14: 1.6286857 | M14: 4.0744566 | N14: -0.70868107 | O14: 4.7674563 | P14: -0.94763238 | Q14: 12.224642 | R14: 4.1703674 | S14: 8.2823025 | T14: 2.362939 | U14: 3.8327482 | V14: 0.90153469 | W14: 8.4332521 | X14: -6.8581622 | Y14: -0.92100287 | Z14: -15.238006 | AA14: 1.9267154 | AB14: -0.097443393 | AC14: 5.1582266 | AD14: 2.7836219 | AE14: -1.0038205 | AF14: 6.2809117 | AG14: -8.2130078 | AH14: -14.400871 | AI14: -2.4307818 | AJ14: 8.3571272 | AK14: -3.5000699 | AL14: 21.408797 | AM14: 0.96618357 | AN14: 11.260054 | AO14: -11.146162
B15: Febrero | C15: 2.2873328 | D15: 0.6735744 | E15: 4.4703162 | F15: 1.6994358 | G15: 1.841269 | H15: 1.4245749 | I15: 4.0651423 | J15: 2.2651014 | K15: 6.6297796 | L15: 1.9000322 | M15: 4.2198288 | N15: -0.37819035 | O15: 3.7849315 | P15: -2.1374369 | Q15: 11.741616 | R15: 5.3659489 | S15: 6.542424 | T15: 4.8290903 | U15: 3.7549043 | V15: -1.0236225 | W15: 11.836068 | X15: -5.5683278 | Y15: -0.53716107 | Z15: -12.841125 | AA15: 1.9713347 | AB15: 0.61295234 | AC15: 4.1176531 | AD15: 3.4060913 | AE15: -0.18327476 | AF15: 6.7426584 | AG15: -8.1870083 | AH15: -13.334223 | AI15: -3.3338925 | AJ15: 6.0241404 | AK15: -3.5135704 | AL15: 16.387883 | AM15: 1.8070818 | AN15: 12.306994 | AO15: -10.406762
B16: Marzo | C16: -0.7077651 | D16: -0.52397319 | E16: -0.95638448 | F16: -0.99624669 | G16: 0.62371707 | H16: -4.0943767 | I16: 0.64648533 | J16: 2.1517263 | K16: -1.4908828 | L16: -0.61630808 | M16: 2.7959806 | N16: -3.9776536 | O16: 0.27656131 | P16: -3.5295019 | Q16: 5.4109713 | R16: 1.4234439 | S16: 4.8532789 | T16: -0.17003289 | U16: 0.44231652 | V16: -2.6957876 | W16: 5.7866981 | X16: -7.7087297 | Y16: -2.5936835 | Z16: -15.049746 | AA16: -0.77067278 | AB16: -0.1241328 | AC16: -1.780179 | AD16: 0.79568336 | AE16: -3.0289656 | AF16: 4.3602943 | AG16: -9.4445621 | AH16: -14.299034 | AI16: -4.8587137 | AJ16: 2.3088514 | AK16: -3.7780484 | AL16: 8.8716602 | AM16: -0.48828125 | AN16: 9.2665258 | AO16: -11.903921
B17: Abril | C17: -6.7126409 | D17: -3.1766604 | E17: -11.495961 | F17: -7.0495416 | G17: -2.8553274 | H17: -15.073348 | I17: -5.7232235 | J17: -0.042317112 | K17: -13.829969 | L17: -5.9037542 | M17: 0.35748924 | N17: -12.071414 | O17: -5.9882667 | P17: -4.7314486 | Q17: -7.6726643 | R17: -6.2320724 | S17: -1.4935658 | T17: -8.4422111 | U17: -6.3171972 | V17: -5.4407692 | W17: -7.8066898 | X17: -10.774881 | Y17: -4.7651566 | Z17: -19.388353 | AA17: -5.9001608 | AB17: -2.1987121 | AC17: -11.693683 | AD17: -5.7996884 | AE17: -5.9206559 | AF17: -5.687129 | AG17: -16.354825 | AH17: -19.583191 | AI17: -13.349194 | AJ17: -2.5167254 | AK17: -5.3622322 | AL17: 0.49982282 | AM17: -5.9040137 | AN17: 5.6689342 | AO17: -19.561145
B18: Mayo | C18: -11.562124 | D18: -6.3395237 | E18: -18.657476 | F18: -12.509857 | G18: -6.803629 | H18: -23.380215 | I18: -10.919917 | J18: -3.1325429 | K18: -22.080144 | L18: -9.5907616 | M18: -2.0998395 | N18: -17.016694 | O18: -10.714759 | P18: -7.2154549 | Q18: -15.442308 | R18: -12.264468 | S18: -6.3659036 | T18: -15.020747 | U18: -12.059718 | V18: -9.5448761 | W18: -16.381761 | X18: -12.850936 | Y18: -6.1786719 | Z18: -22.511027 | AA18: -9.9208043 | AB18: -3.8866983 | AC18: -19.32134 | AD18: -11.312697 | AE18: -9.1862963 | AF18: -13.289467 | AG18: -20.172539 | AH18: -23.39736 | AI18: -17.123815 | AJ18: -7.0942684 | AK18: -8.9216818 | AL18: -5.1788771 | AM18: -10.918919 | AN18: 1.9080502 | AO18: -26.027397
B19: Junio | C19: -15.994926 | D19: -9.5631683 | E19: -24.748115 | F19: -17.5032 | G19: -10.996838 | H19: -29.877094 | I19: -15.529985 | J19: -6.6555899 | K19: -28.364639 | L19: -13.444361 | M19: -4.3118757 | N19: -22.43535 | O19: -15.416921 | P19: -10.391978 | Q19: -22.259067 | R19: -17.905375 | S19: -11.041862 | T19: -21.092248 | U19: -17.03751 | V19: -13.215757 | W19: -23.579015 | X19: -15.102107 | Y19: -7.2721112 | Z19: -26.57743 | AA19: -13.333743 | AB19: -5.9103673 | AC19: -24.886649 | AD19: -16.266386 | AE19: -11.538244 | AF19: -20.630316 | AG19: -22.607574 | AH19: -25.467044 | AI19: -19.87338 | AJ19: -10.688418 | AK19: -11.459972 | AL19: -9.8900431 | AM19: -14.44135 | AN19: -0.62187168 | AO19: -30.667854
B20: Julio | C20: -19.861177 | D20: -12.392201 | E20: -29.982386 | F20: -22.13732 | G20: -14.418892 | H20: -36.506817 | I20: -19.191193 | J20: -9.4470085 | K20: -33.294458 | L20: -16.373209 | M20: -5.909701 | N20: -26.596997 | O20: -19.363046 | P20: -13.238322 | Q20: -27.714943 | R20: -22.365391 | S20: -15.29812 | T20: -25.662237 | U20: -21.464286 | V20: -16.680674 | W20: -29.585262 | X20: -18.200697 | Y20: -8.7133356 | Z20: -32.269036 | AA20: -16.653321 | AB20: -8.2905906 | AC20: -29.630138 | AD20: -20.25682 | AE20: -13.948095 | AF20: -26.050887 | AG20: -24.044019 | AH20: -26.601661 | AI20: -21.589594 | AJ20: -14.400938 | AK20: -14.57977 | AL20: -14.217196 | AM20: -17.554573 | AN20: -4.2666321 | AO20: -33.231334
B21: Agosto | C21: -23.037787 | D21: -14.897422 | E21: -34.038933 | F21: -25.713351 | G21: -17.508737 | H21: -40.82769 | I21: -22.148974 | J21: -11.841819 | K21: -37.110703 | L21: -18.704152 | M21: -7.2993654 | N21: -29.79663 | O21: -22.866886 | P21: -15.967452 | Q21: -32.266585 | R21: -25.99815 | S21: -18.644543 | T21: -29.432172 | U21: -24.980233 | V21: -19.564368 | W21: -34.114468 | X21: -20.555199 | Y21: -9.6837266 | Z21: -36.808566 | AA21: -19.948847 | AB21: -11.055547 | AC21: -33.712157 | AD21: -23.620808 | AE21: -16.014277 | AF21: -30.562179 | AG21: -25.402956 | AH21: -27.050821 | AI21: -23.824739 | AJ21: -17.480353 | AK21: -17.212725 | AL21: -17.753666 | AM21: -20.639784 | AN21: -6.9770076 | AO21: -36.747229
B22: Septiembre | C22: -25.451723 | D22: -17.018357 | E22: -36.831143 | F22: -28.774861 | G22: -20.207644 | H22: -44.406124 | I22: -24.434649 | J22: -13.741436 | K22: -40.014728 | L22: -20.447889 | M22: -8.7323642 | N22: -31.843011 | O22: -25.319301 | P22: -18.346736 | Q22: -34.80612 | R22: -27.845342 | S22: -21.165323 | T22: -30.988806 | U22: -27.490374 | V22: -21.779083 | W22: -37.052593 | X22: -22.382609 | Y22: -10.40366 | Z22: -40.426392 | AA22: -22.698871 | AB22: -13.833328 | AC22: -36.385989 | AD22: -26.071164 | AE22: -17.469459 | AF22: -33.882424 | AG22: -26.356324 | AH22: -27.704735 | AI22: -25.068027 | AJ22: -20.054149 | AK22: -19.158373 | AL22: -20.963074 | AM22: -22.940217 | AN22: -8.6820926 | AO22: -39.692671
B23: Octubre | C23: -27.091904 | D23: -18.809743 | E23: -38.232709 | F23: -31.279733 | G23: -22.633395 | H23: -46.961562 | I23: -26.070175 | J23: -15.342002 | K23: -41.690771 | L23: -21.303045 | M23: -9.7320251 | N23: -32.520296 | O23: -26.652918 | P23: -20.148901 | Q23: -35.439506 | R23: -28.636812 | S23: -23.241288 | T23: -31.192919 | U23: -29.296374 | V23: -23.54797 | W23: -38.846599 | X23: -23.182967 | Y23: -11.025565 | Z23: -41.611046 | AA23: -24.769277 | AB23: -16.187256 | AC23: -38.00133 | AD23: -28.089195 | AE23: -19.176514 | AF23: -36.130884 | AG23: -26.43977 | AH23: -28.108948 | AI23: -24.853178 | AJ23: -21.529728 | AK23: -20.932955 | AL23: -22.131573 | AM23: -24.275876 | AN23: -10.751424 | AO23: -40.163586
B24: Noviembre | C24: -28.317853 | D24: -20.336237 | E24: -39.025517 | F24: -33.412116 | G24: -24.810119 | H24: -48.907991 | I24: -27.37815 | J24: -16.714593 | K24: -42.884515 | L24: -21.848833 | M24: -10.648188 | N24: -32.715019 | O24: -27.534494 | P24: -21.943639 | Q24: -35.063091 | R24: -28.986114 | S24: -24.417352 | T24: -31.154536 | U24: -30.502106 | V24: -24.795442 | W24: -39.919261 | X24: -23.689627 | Y24: -11.452794 | Z24: -42.350711 | AA24: -26.248689 | AB24: -18.104309 | AC24: -38.799695 | AD24: -29.436242 | AE24: -20.384447 | AF24: -37.553793 | AG24: -26.532506 | AH24: -28.478331 | AI24: -24.698755 | AJ24: -22.531434 | AK24: -22.544514 | AL24: -22.518336 | AM24: -25.244566 | AN24: -12.987437 | AO24: -39.785154
B25: Diciembre | C25: -29.1535 | D25: -21.494212 | E25: -39.364688 | F25: -35.077283 | G25: -26.70408 | H25: -50.117169 | I25: -28.275686 | J25: -17.800466 | K25: -43.424338 | L25: -22.428824 | M25: -11.52217 | N25: -32.964721 | O25: -27.776292 | P25: -23.172413 | Q25: -33.906397 | R25: -29.225144 | S25: -25.440049 | T25: -31.018932 | U25: -31.212257 | V25: -25.446655 | W25: -40.5766 | X25: -23.837899 | Y25: -11.620259 | Z25: -42.596725 | AA25: -27.442808 | AB25: -19.582963 | AC25: -39.493824 | AD25: -30.342215 | AE25: -21.110651 | AF25: -38.570033 | AG25: -26.727232 | AH25: -28.267685 | AI25: -25.303264 | AJ25: -23.335632 | AK25: -23.947714 | AL25: -22.726314 | AM25: -25.550231 | AN25: -14.520202 | AO25: -38.855044
A26: 2021 | B26: Enero | C26: -37.633247 | D26: -35.040306 | E26: -40.971283 | F26: -53.149096 | G26: -49.467861 | H26: -60.534264 | I26: -37.228732 | J26: -29.685621 | K26: -47.248734 | L26: -28.402912 | M26: -20.884347 | N26: -35.934367 | O26: -29.052773 | P26: -33.705219 | Q26: -23.694682 | R26: -32.815785 | S26: -36.33334 | T26: -31.180211 | U26: -40.328999 | V26: -37.855132 | W26: -43.942011 | X26: -22.357826 | Y26: -11.201922 | Z26: -40.763104 | AA26: -41.440306 | AB26: -38.580302 | AC26: -45.77802 | AD26: -38.833779 | AE26: -31.581536 | AF26: -45.071431 | AG26: -29.650523 | AH26: -32.115042 | AI26: -27.630096 | AJ26: -28.232154 | AK26: -37.776008 | AL26: -19.882189 | AM26: -27.416268 | AN26: -24.899598 | AO26: -31.12426
B27: Febrero | C27: -37.846458 | D27: -35.006446 | E27: -41.548615 | F27: -53.866362 | G27: -49.196645 | H27: -62.95307 | I27: -38.834652 | J27: -30.982323 | K27: -49.564437 | L27: -26.858167 | M27: -19.730821 | N27: -34.180846 | O27: -29.152785 | P27: -33.239232 | Q27: -24.344565 | R27: -32.669184 | S27: -38.819085 | T27: -29.816944 | U27: -40.183409 | V27: -37.965641 | W27: -43.502704 | X27: -22.496373 | Y27: -11.303208 | Z27: -40.96076 | AA27: -40.491867 | AB27: -38.140532 | AC27: -44.082046 | AD27: -37.937044 | AE27: -30.702834 | AF27: -44.225422 | AG27: -28.389736 | AH27: -30.348208 | AI27: -26.734198 | AJ27: -24.201715 | AK27: -28.830499 | AL27: -20.032083 | AM27: -29.311586 | AN27: -30.125354 | AO27: -28.125
B28: Marzo | C28: -35.583355 | D28: -34.2028 | E28: -37.459015 | F28: -52.926431 | G28: -48.603485 | H28: -61.60065 | I28: -36.589568 | J28: -31.335119 | K28: -44.326517 | L28: -24.444705 | M28: -18.550764 | N28: -30.660218 | O28: -26.259659 | P28: -32.271402 | Q28: -18.837613 | R28: -29.201221 | S28: -39.114322 | T28: -24.36392 | U28: -37.962259 | V28: -37.076517 | W28: -39.349775 | X28: -19.437333 | Y28: -8.5197205 | Z28: -37.403554 | AA28: -38.081232 | AB28: -37.086053 | AC28: -39.661301 | AD28: -34.626875 | AE28: -28.216232 | AF28: -40.178612 | AG28: -25.135735 | AH28: -27.831397 | AI28: -22.841912 | AJ28: -19.997149 | AK28: -25.315839 | AL28: -14.928904 | AM28: -27.739614 | AN28: -29.972376 | AO28: -24.498797
B29: Abril | C29: -31.44562 | D29: -32.609696 | E29: -29.722886 | F29: -50.365687 | G29: -47.291457 | H29: -57.092992 | I29: -31.983738 | J29: -30.102879 | K29: -35.097211 | L29: -20.351625 | M29: -17.183067 | N29: -23.914012 | O29: -21.813007 | P29: -31.462288 | Q29: -8.4689962 | R29: -22.969313 | S29: -36.041528 | T29: -16.409423 | U29: -33.635379 | V29: -35.471419 | W29: -30.434946 | X29: -15.658234 | Y29: -5.4896613 | Z29: -32.876194 | AA29: -34.403273 | AB29: -35.769207 | AC29: -32.035429 | AD29: -29.090444 | AE29: -25.941284 | AF29: -32.013462 | AG29: -18.463966 | AH29: -22.13058 | AI29: -15.295912 | AJ29: -15.948032 | AK29: -21.829572 | AL29: -10.076642 | AM29: -23.89773 | AN29: -28.712446 | AO29: -16.433799
B30: Mayo | C30: -28.060717 | D30: -30.566696 | E30: -24.140562 | F30: -47.911255 | G30: -45.396446 | H30: -53.738425 | I30: -28.232786 | J30: -28.289381 | K30: -28.131956 | L30: -17.327785 | M30: -15.516266 | N30: -19.446397 | O30: -18.058188 | P30: -29.65136 | Q30: -0.87201148 | R30: -19.009398 | S30: -32.496056 | T30: -12.065517 | U30: -29.627179 | V30: -32.93302 | W30: -23.481177 | X30: -12.902609 | Y30: -4.0201987 | Z30: -28.473035 | AA30: -32.21494 | AB30: -34.717249 | AC30: -27.570798 | AD30: -23.934567 | AE30: -23.288899 | AF30: -24.563204 | AG30: -14.166681 | AH30: -17.425601 | AI30: -11.318942 | AJ30: -12.13381 | AK30: -17.536563 | AL30: -6.694476 | AM30: -20.26699 | AN30: -26.81883 | AO30: -9.6354167
B31: Junio | C31: -24.138123 | D31: -28.276557 | E31: -17.369494 | F31: -44.832015 | G31: -43.024546 | H31: -49.195007 | I31: -23.887221 | J31: -25.941937 | K31: -20.015019 | L31: -13.939977 | M31: -13.91473 | N31: -13.97064 | O31: -13.434845 | P31: -27.523552 | Q31: 8.6772267 | R31: -13.880253 | S31: -28.374373 | T31: -6.2931488 | U31: -25.174237 | V31: -30.324656 | W31: -15.163042 | X31: -9.5374027 | Y31: -2.6019603 | Z31: -22.374249 | AA31: -29.915147 | AB31: -33.510508 | AC31: -22.906133 | AD31: -18.617582 | AE31: -20.913408 | AF31: -16.255869 | AG31: -10.274749 | AH31: -14.761135 | AI31: -6.2843906 | AJ31: -9.0592428 | AK31: -14.443148 | AL31: -3.5852491 | AM31: -17.223552 | AN31: -25.671551 | AO31: -3.0053943
B32: Julio | C32: -19.910416 | D32: -25.859238 | E32: -9.8239804 | F32: -41.608268 | G32: -40.638964 | H32: -44.040603 | I32: -19.388556 | J32: -23.641094 | K32: -11.033233 | L32: -10.803661 | M32: -12.340878 | N32: -8.8783504 | O32: -8.6530426 | P32: -25.121153 | Q32: 18.300866 | R32: -8.3193583 | S32: -25.349401 | T32: 0.73267758 | U32: -20.191775 | V32: -27.48663 | W32: -5.5379418 | X32: -4.8758845 | Y32: -0.667086 | Z32: -13.287426 | AA32: -26.612514 | AB32: -31.509295 | AC32: -16.709715 | AD32: -13.291599 | AE32: -18.207174 | AF32: -8.0381599 | AG32: -6.5815577 | AH32: -12.410051 | AI32: -1.3458105 | AJ32: -5.143126 | AK32: -11.015711 | AL32: 0.86518533 | AM32: -13.587604 | AN32: -23.421837 | AO32: 3.0476627
B33: Agosto | C33: -15.834752 | D33: -23.350624 | E33: -2.7300117 | F33: -38.368329 | G33: -38.117642 | H33: -39.012131 | I33: -15.157966 | J33: -21.413304 | K33: -2.429395 | L33: -7.8998048 | M33: -10.668102 | N33: -4.3444834 | O33: -3.8190359 | P33: -22.608984 | Q33: 27.94024 | R33: -3.175756 | S33: -22.204072 | T33: 7.0685591 | U33: -15.577548 | V33: -24.557259 | W33: 2.9119506 | X33: -0.68616669 | Y33: 1.1124375 | Z33: -4.5294141 | AA33: -22.887056 | AB33: -28.853039 | AC33: -10.498322 | AD33: -8.3158368 | AE33: -15.71985 | AF33: -0.14370766 | AG33: -3.1256655 | AH33: -10.224532 | AI33: 3.3852253 | AJ33: -1.4881049 | AK33: -7.7524243 | AL33: 4.9513608 | AM33: -9.7451737 | AN33: -20.187508 | AO33: 8.3597213
B34: Septiembre | C34: -12.170004 | D34: -20.932841 | E34: 3.3625495 | F34: -35.015651 | G34: -35.574396 | H34: -33.552456 | I34: -11.44637 | J34: -19.478757 | K34: 5.3828358 | L34: -5.1274147 | M34: -8.7794149 | N34: -0.37083855 | O34: 0.31474863 | P34: -19.954796 | Q34: 34.856049 | R34: 0.52195942 | S34: -19.336548 | T34: 11.197139 | U34: -11.881397 | V34: -22.021191 | W34: 9.2145278 | X34: 3.2189407 | Y34: 2.6038329 | Z34: 4.612407 | AA34: -19.385607 | AB34: -26.008782 | AC34: -5.5352976 | AD34: -4.0026992 | AE34: -13.622684 | AF34: 6.9018751 | AG34: -0.12526919 | AH34: -7.2348729 | AI34: 6.4283589 | AJ34: 2.1810606 | AK34: -4.9058762 | AL34: 9.5362173 | AM34: -6.6577333 | AN34: -17.48375 | AO34: 12.602901
B35: Octubre | C35: -9.0301434 | D35: -18.519271 | E35: 7.7480244 | F35: -31.479641 | G35: -32.668699 | H35: -28.333845 | I35: -8.2840949 | J35: -17.774853 | K35: 11.779253 | L35: -3.2082214 | M35: -7.1299546 | N35: 1.8775091 | O35: 3.0964911 | P35: -17.445708 | Q35: 37.420624 | R35: 2.8163655 | S35: -16.465323 | T35: 13.00662 | U35: -8.4684898 | V35: -19.622058 | W35: 14.697374 | X35: 5.9464601 | Y35: 3.9762911 | Z35: 10.497151 | AA35: -16.196471 | AB35: -23.397356 | AC35: -1.187488 | AD35: 0.40083117 | AE35: -10.861785 | AF35: 13.260355 | AG35: 1.9650948 | AH35: -3.5786409 | AI35: 7.0062412 | AJ35: 5.0252277 | AK35: -1.726045 | AL35: 11.93869 | AM35: -4.4120493 | AN35: -14.589666 | AO35: 13.420912
B36: Noviembre | C36: -6.2606503 | D36: -16.31703 | E36: 11.36553 | F36: -28.181644 | G36: -30.064829 | H36: -23.189167 | I36: -5.3567324 | J36: -16.187584 | K36: 17.609279 | L36: -1.6515758 | M36: -5.7749593 | N36: 3.6606073 | O36: 5.6369762 | P36: -14.517737 | Q36: 38.260374 | R36: 4.3510558 | S36: -14.417731 | T36: 14.130818 | U36: -5.6554672 | V36: -17.541802 | W36: 18.896954 | X36: 7.9146398 | Y36: 4.839751 | Z36: 15.117055 | AA36: -12.956266 | AB36: -21.007923 | AC36: 3.6477565 | AD36: 4.2936765 | AE36: -8.5932764 | AF36: 19.028076 | AG36: 3.3428549 | AH36: -0.55411416 | AI36: 6.8310377 | AJ36: 7.2422371 | AK36: 1.3565811 | AL36: 13.134338 | AM36: -2.6764567 | AN36: -11.953872 | AO36: 13.227258
B37: Diciembre | C37: -3.8115604 | D37: -14.362066 | E37: 14.39958 | F37: -25.03398 | G37: -27.539052 | H37: -18.422454 | I37: -2.3529486 | J37: -14.699207 | K37: 23.588006 | L37: -0.19224152 | M37: -4.6470522 | N37: 5.487653 | O37: 7.1996603 | P37: -12.040624 | Q37: 36.978871 | R37: 5.6545543 | S37: -12.381733 | T37: 14.893387 | U37: -3.0960102 | V37: -15.650502 | W37: 22.486399 | X37: 9.2013233 | Y37: 5.2010533 | Z37: 18.657676 | AA37: -10.191602 | AB37: -18.925059 | AC37: 7.605291 | AD37: 7.4162163 | AE37: -7.0505095 | AF37: 23.974593 | AG37: 4.6957079 | AH37: 1.8895877 | AI37: 7.1866938 | AJ37: 9.4296214 | AK37: 4.3146992 | AL37: 14.440967 | AM37: -1.4944911 | AN37: -10.113824 | AO37: 13.040293
A38: 2022 | B38: Enero | C38: 26.325476 | D38: 13.494941 | E38: 44.502533 | F38: 25.654445 | G38: 19.404923 | H38: 41.707625 | I38: 33.531609 | J38: 5.0816207 | K38: 83.906095 | L38: 16.371742 | M38: 4.4713012 | N38: 31.092979 | O38: 22.624649 | P38: 19.67164 | Q38: 25.579381 | R38: 22.212362 | S38: 13.184443 | T38: 26.095797 | U38: 31.817435 | V38: 15.612326 | W38: 58.05436 | X38: 20.53692 | Y38: 0.72064327 | Z38: 69.545369 | AA38: 22.23 | AB38: 15.746913 | AC38: 33.368036 | AD38: 44.596991 | AE38: 25.886191 | AF38: 64.642455 | AG38: 26.276159 | AH38: 35.370426 | AI38: 19.282666 | AJ38: 27.758426 | AK38: 47.760326 | AL38: 14.167128 | AM38: 12.656559 | AN38: 6.4171123 | AO38: 22.680412
B39: Febrero | C39: 26.7645 | D39: 14.489851 | E39: 44.556267 | F39: 29.449754 | G39: 19.369781 | H39: 56.347471 | I39: 35.356863 | J39: 7.6022505 | K39: 87.254926 | L39: 15.283669 | M39: 4.6317396 | N39: 28.630157 | O39: 23.206804 | P39: 21.596293 | Q39: 24.878985 | R39: 20.199405 | S39: 17.124161 | T39: 21.44272 | U39: 32.188301 | V39: 17.010922 | W39: 57.130282 | X39: 19.580029 | Y39: 1.531057 | Z39: 64.310312 | AA39: 21.382517 | AB39: 15.395186 | AC39: 31.495745 | AD39: 42.444615 | AE39: 25.10858 | AF39: 61.167655 | AG39: 23.363044 | AH39: 32.581786 | AI39: 15.954644 | AJ39: 24.260395 | AK39: 34.831231 | AL39: 15.785811 | AM39: 16.830675 | AN39: 14.930556 | AO39: 19.5242
B40: Marzo | C40: 26.835363 | D40: 15.484888 | E40: 43.059335 | F40: 34.146118 | G40: 21.700215 | H40: 67.572304 | I40: 34.867051 | J40: 8.8511082 | K40: 82.11342 | L40: 15.345376 | M40: 5.37926 | N40: 27.690678 | O40: 22.572387 | P40: 22.04474 | Q40: 23.115991 | R40: 19.76985 | S40: 20.022383 | T40: 19.670653 | U40: 31.249828 | V40: 17.408736 | W40: 53.744589 | X40: 17.329654 | Y40: 1.123558 | Z40: 56.304579 | AA40: 21.730641 | AB40: 15.872218 | AC40: 31.42919 | AD40: 40.842873 | AE40: 25.504973 | AF40: 56.781942 | AG40: 20.792474 | AH40: 33.23445 | AI40: 10.889844 | AJ40: 22.192529 | AK40: 33.121476 | AL40: 13.049761 | AM40: 17.428701 | AN40: 18.500986 | AO40: 15.98513
B41: Abril | C41: 27.573736 | D41: 16.314203 | E41: 43.552398 | F41: 37.418733 | G41: 24.02678 | H41: 73.418653 | I41: 35.307892 | J41: 9.6174715 | K41: 81.106894 | L41: 16.5746 | M41: 6.0477121 | N41: 29.456915 | O41: 23.797771 | P41: 22.830691 | Q41: 24.799189 | R41: 20.369572 | S41: 22.141109 | T41: 19.68937 | U41: 31.681788 | V41: 17.917875 | W41: 53.936888 | X41: 15.493945 | Y41: 0.29788928 | Z41: 51.72286 | AA41: 22.25835 | AB41: 16.116526 | AC41: 32.320293 | AD41: 37.353551 | AE41: 24.738294 | AF41: 50.108715 | AG41: 21.428801 | AH41: 34.798774 | AI41: 10.808903 | AJ41: 22.051089 | AK41: 31.361918 | AL41: 13.97115 | AM41: 19.369215 | AN41: 22.576761 | AO41: 15.127389
B42: Mayo | C42: 29.026966 | D42: 17.255989 | E42: 45.880718 | F42: 41.073801 | G42: 25.499436 | H42: 83.669289 | I42: 36.881864 | J42: 11.19062 | K42: 82.553287 | L42: 17.627271 | M42: 6.8186763 | N42: 30.884896 | O42: 25.124107 | P42: 23.500913 | Q42: 26.831787 | R42: 22.997894 | S42: 22.204039 | T42: 23.311663 | U42: 32.517839 | V42: 18.578809 | W42: 55.231319 | X42: 14.094828 | Y42: 0.34379114 | Z42: 46.440424 | AA42: 24.834553 | AB42: 16.985548 | AC42: 37.964527 | AD42: 35.745315 | AE42: 25.354902 | AF42: 46.032545 | AG42: 23.398245 | AH42: 35.709944 | AI42: 13.380754 | AJ42: 21.956128 | AK42: 30.244287 | AL42: 14.581457 | AM42: 20.658641 | AN42: 24.756335 | AO42: 15.273775
B43: Junio | C43: 29.657203 | D43: 18.141142 | E43: 46.006129 | F43: 43.728382 | G43: 27.197864 | H43: 88.477196 | I43: 37.444723 | J43: 12.384536 | K43: 81.172205 | L43: 18.323605 | M43: 7.6002777 | N43: 31.356005 | O43: 25.63296 | P43: 24.138346 | Q43: 27.197352 | R43: 23.686583 | S43: 22.347891 | T43: 24.22221 | U43: 32.306857 | V43: 19.232411 | W43: 53.178694 | X43: 12.815481 | Y43: 0.14223109 | Z43: 42.247264 | AA43: 26.152855 | AB43: 17.93624 | AC43: 39.967525 | AD43: 34.76575 | AE43: 25.695507 | AF43: 43.577364 | AG43: 23.676053 | AH43: 37.157487 | AI43: 12.769761 | AJ43: 22.246565 | AK43: 29.762071 | AL43: 15.465835 | AM43: 20.842008 | AN43: 26.324435 | AO43: 13.771186
B44: Julio | C44: 29.610575 | D44: 18.809434 | E44: 44.667713 | F44: 45.235484 | G44: 28.609449 | H44: 89.492341 | I44: 37.046426 | J44: 13.298474 | K44: 77.093713 | L44: 18.827172 | M44: 7.8555115 | N44: 32.046624 | O44: 25.581234 | P44: 24.557715 | Q44: 26.641574 | R44: 23.403201 | S44: 23.87157 | T44: 23.218707 | U44: 31.56037 | V44: 20.087974 | W44: 49.251247 | X44: 11.660215 | Y44: -0.21107363 | Z44: 38.838775 | AA44: 26.409605 | AB44: 18.033349 | AC44: 40.339072 | AD44: 32.958437 | AE44: 25.57793 | AF44: 39.974011 | AG44: 24.142845 | AH44: 38.616939 | AI44: 12.598946 | AJ44: 22.160757 | AK44: 29.081572 | AL44: 15.914032 | AM44: 20.374384 | AN44: 28.480453 | AO44: 10.184567
B45: Agosto | C45: 29.208353 | D45: 19.069207 | E45: 43.139286 | F45: 45.093451 | G45: 29.254625 | H45: 86.36652 | I45: 36.395859 | J45: 13.737314 | K45: 73.531497 | L45: 18.895672 | M45: 8.1645854 | N45: 31.766497 | O45: 25.382687 | P45: 25.092856 | Q45: 25.679014 | R45: 22.89833 | S45: 24.031788 | T45: 22.454943 | U45: 30.727087 | V45: 20.173102 | W45: 46.657642 | X45: 10.498315 | Y45: -0.70869056 | Z45: 35.860537 | AA45: 26.530871 | AB45: 17.764095 | AC45: 41.002251 | AD45: 31.755155 | AE45: 25.530165 | AF45: 37.554202 | AG45: 24.37794 | AH45: 39.281786 | AI45: 12.507988 | AJ45: 22.024106 | AK45: 28.48992 | AL45: 16.182045 | AM45: 20.542437 | AN45: 28.665141 | AO45: 10.169492
B46: Septiembre | C46: 28.608734 | D46: 19.135654 | E46: 41.453384 | F46: 44.782891 | G46: 29.660901 | H46: 83.178108 | I46: 35.7264 | J46: 14.209452 | K46: 70.172515 | L46: 18.871979 | M46: 8.4176126 | N46: 31.339146 | O46: 24.768012 | P46: 25.127083 | Q46: 24.404816 | R46: 22.199364 | S46: 23.966572 | T46: 21.510237 | U46: 29.86155 | V46: 20.164771 | W46: 44.265882 | X46: 9.2195686 | Y46: -1.2790151 | Z46: 32.546433 | AA46: 26.17802 | AB46: 17.384473 | AC46: 40.581516 | AD46: 30.464866 | AE46: 25.221299 | AF46: 35.267456 | AG46: 23.719313 | AH46: 37.584816 | AI46: 12.578948 | AJ46: 21.62866 | AK46: 28.360567 | AL46: 15.563148 | AM46: 20.279562 | AN46: 28.037383 | AO46: 10.165361
B47: Octubre | C47: 27.759496 | D47: 18.842976 | E47: 39.681774 | F47: 44.120646 | G47: 29.198881 | H47: 81.2101 | I47: 34.636406 | J47: 14.584003 | K47: 65.819009 | L47: 18.605876 | M47: 8.5922759 | N47: 30.443455 | O47: 24.018457 | P47: 24.749002 | Q47: 23.285148 | R47: 21.616725 | S47: 23.067437 | T47: 21.049985 | U47: 28.39878 | V47: 19.544401 | W47: 41.286504 | X47: 8.0135564 | Y47: -1.9742713 | Z47: 29.721973 | AA47: 25.745917 | AB47: 17.125629 | AC47: 39.674887 | AD47: 28.755834 | AE47: 24.660072 | AF47: 32.43633 | AG47: 23.003209 | AH47: 35.128064 | AI47: 13.068217 | AJ47: 20.960652 | AK47: 27.44007 | AL47: 15.135541 | AM47: 20.203792 | AN47: 27.947805 | AO47: 9.9859133
B48: Noviembre | C48: 26.819041 | D48: 18.474366 | E48: 37.80941 | F48: 43.278473 | G48: 28.995964 | H48: 77.753209 | I48: 33.178834 | J48: 14.789008 | K48: 60.967476 | L48: 18.315117 | M48: 8.4724588 | N48: 29.841267 | O48: 23.227579 | P48: 23.693871 | Q48: 22.760933 | R48: 21.035528 | S48: 22.249265 | T48: 20.561288 | U48: 27.062824 | V48: 18.921026 | W48: 38.726347 | X48: 7.4122043 | Y48: -2.078489 | Z48: 27.657913 | AA48: 24.326116 | AB48: 16.686008 | AC48: 36.333574 | AD48: 27.101752 | AE48: 24.254626 | AF48: 29.601624 | AG48: 22.828272 | AH48: 31.825721 | AI48: 15.331384 | AJ48: 20.161668 | AK48: 26.598424 | AL48: 14.38869 | AM48: 20.126551 | AN48: 27.803216 | AO48: 9.8935415
B49: Diciembre | C49: 25.778181 | D49: 18.109071 | E49: 35.687654 | F49: 42.124126 | G49: 28.482984 | H49: 74.103187 | I49: 31.173727 | J49: 15.02752 | K49: 54.588926 | L49: 17.895567 | M49: 8.4202578 | N49: 28.815926 | O49: 22.599915 | P49: 22.978907 | Q49: 22.223245 | R49: 20.606336 | S49: 21.206482 | T49: 20.371899 | U49: 25.825201 | V49: 18.516967 | W49: 36.080525 | X49: 6.7254025 | Y49: -2.2877893 | Z49: 25.615631 | AA49: 23.076111 | AB49: 16.322836 | AC49: 33.444839 | AD49: 25.742541 | AE49: 23.915122 | AF49: 27.310735 | AG49: 22.36559 | AH49: 28.143506 | AI49: 17.490022 | AJ49: 19.255378 | AK49: 25.503311 | AL49: 13.675616 | AM49: 19.861573 | AN49: 27.539874 | AO49: 9.5657809
A50: 2023p | B50: Enero | C50: 14.613944 | D50: 14.996544 | E50: 14.188222 | F50: 25.723994 | G50: 20.525382 | H50: 36.976018 | I50: 15.916971 | J50: 18.587922 | K50: 13.214724 | L50: 12.761861 | M50: 9.0698145 | N50: 16.401564 | O50: 14.185298 | P50: 22.295348 | Q50: 6.4522691 | R50: 12.698995 | S50: 12.752957 | T50: 12.67816 | U50: 12.094863 | V50: 13.705306 | W50: 10.187629 | X50: -3.0831279 | Y50: 1.5113097 | Z50: -9.8332842 | AA50: 17.24477 | AB50: 12.24523 | AC50: 24.699201 | AD50: 14.839577 | AE50: 11.316113 | AF50: 17.725801 | AG50: 11.561992 | AH50: -9.4111782 | AI50: 29.86561 | AJ50: 10.530194 | AK50: 10.566929 | AL50: 10.497888 | AM50: 10.825044 | AN50: 19.19598 | AO50: -0.84033613
B51: Febrero | C51: 15.51938 | D51: 14.72585 | E51: 16.430349 | F51: 26.285566 | G51: 19.307293 | H51: 40.502554 | I51: 17.622566 | J51: 17.839769 | K51: 17.389183 | L51: 13.417251 | M51: 8.6991446 | N51: 18.225945 | O51: 15.726304 | P51: 21.346084 | Q51: 10.044715 | R51: 13.433562 | S51: 15.752228 | T51: 12.529465 | U51: 12.595648 | V51: 14.173113 | W51: 10.66519 | X51: -0.98150643 | Y51: 0.95305637 | Z51: -3.9440591 | AA51: 15.695253 | AB51: 14.431092 | AC51: 17.569104 | AD51: 14.271348 | AE51: 10.971376 | AF51: 17.037945 | AG51: 13.160976 | AH51: -6.9217517 | AI51: 31.614155 | AJ51: 9.4282005 | AK51: 6.7300409 | AL51: 11.947106 | AM51: 10.020331 | AN51: 22.306143 | AO51: -6.7261496
B52: Marzo | C52: 15.032981 | D52: 14.07036 | E52: 16.143709 | F52: 25.416043 | G52: 16.971909 | H52: 41.886463 | I52: 17.820373 | J52: 17.1734 | K52: 18.522645 | L52: 12.785996 | M52: 8.8846509 | N52: 16.774279 | O52: 15.253204 | P52: 21.404884 | Q52: 8.9706121 | R52: 12.230119 | S52: 15.765937 | T52: 10.837141 | U52: 12.2925 | V52: 13.813689 | W52: 10.404531 | X52: -0.73968362 | Y52: 1.5493958 | Z52: -4.30131 | AA52: 13.573279 | AB52: 13.850705 | AC52: 13.168367 | AD52: 11.874594 | AE52: 9.9956697 | AF52: 13.437639 | AG52: 13.915231 | AH52: -6.3601854 | AI52: 33.304246 | AJ52: 9.3506998 | AK52: 3.9492692 | AL52: 14.671619 | AM52: 10.38936 | AN52: 23.035952 | AO52: -7.0054945
B53: Abril | C53: 14.331771 | D53: 13.872565 | E53: 14.85979 | F53: 24.351453 | G53: 15.811757 | H53: 40.769432 | I53: 16.730175 | J53: 17.199919 | K53: 16.223311 | L53: 11.974086 | M53: 9.2174765 | N53: 14.737495 | O53: 14.787147 | P53: 21.42561 | Q53: 8.021404 | R53: 10.373555 | S53: 16.020297 | T53: 8.1610092 | U53: 11.997842 | V53: 13.696191 | W53: 9.8942971 | X53: -0.7052138 | Y53: 1.5402072 | Z53: -4.2440707 | AA53: 12.61781 | AB53: 14.063629 | AC53: 10.539233 | AD53: 12.321843 | AE53: 10.60404 | AF53: 13.765145 | AG53: 12.949445 | AH53: -6.7286475 | AI53: 31.96391 | AJ53: 8.6479098 | AK53: 2.5453031 | AL53: 14.751842 | AM53: 9.8075818 | AN53: 21.881139 | AO53: -7.1922545
B54: Mayo | C54: 13.676761 | D54: 13.615834 | E54: 13.746879 | F54: 22.618333 | G54: 15.24233 | H54: 36.402469 | I54: 15.745345 | J54: 16.614013 | K54: 14.804773 | L54: 11.617087 | M54: 9.4413124 | N54: 13.795139 | O54: 14.345482 | P54: 21.383043 | Q54: 7.1360577 | R54: 9.5459787 | S54: 16.462764 | T54: 6.8367007 | U54: 12.0672 | V54: 14.14267 | W54: 9.4837783 | X54: -0.38650856 | Y54: 1.1496358 | Z54: -2.8624553 | AA54: 11.432326 | AB54: 13.783155 | AC54: 8.0977911 | AD54: 11.939961 | AE54: 9.8029399 | AF54: 13.756171 | AG54: 13.037461 | AH54: -6.6967428 | AI54: 32.256557 | AJ54: 7.9126797 | AK54: 0.73411927 | AL54: 15.173177 | AM54: 9.3119266 | AN54: 21.699219 | AO54: -8.3055556
B55: Junio | C55: 12.779819 | D55: 13.080293 | E55: 12.434658 | F55: 20.588155 | G55: 14.168398 | H55: 32.316442 | I55: 14.555306 | J55: 15.903763 | K55: 13.095745 | L55: 11.302042 | M55: 9.7555413 | N55: 12.841643 | O55: 13.184822 | P55: 20.968063 | Q55: 5.2341289 | R55: 9.3689667 | S55: 16.000357 | T55: 6.7557036 | U55: 11.716726 | V55: 14.343578 | W55: 8.4525858 | X55: -0.55966956 | Y55: 0.23795017 | Z55: -1.8637303 | AA55: 10.876068 | AB55: 13.184536 | AC55: 7.6057385 | AD55: 11.004668 | AE55: 9.1118115 | AF55: 12.614528 | AG55: 12.753814 | AH55: -6.9301613 | AI55: 32.121632 | AJ55: 7.2624052 | AK55: -0.29385064 | AL55: 14.923999 | AM55: 8.8916539 | AN55: 21.115085 | AO55: -8.6126629
B56: Julio | C56: 11.840399 | D56: 12.55735 | E56: 11.019591 | F56: 18.813619 | G56: 13.293364 | H56: 28.786767 | I56: 13.648477 | J56: 15.187374 | K56: 11.988212 | L56: 10.798266 | M56: 10.114903 | N56: 11.47079 | O56: 12.0468 | P56: 20.439549 | Q56: 3.4951921 | R56: 9.0811781 | S56: 15.741838 | T56: 6.4435978 | U56: 10.86336 | V56: 13.870892 | W56: 7.13183 | X56: -0.92074045 | Y56: -0.34054734 | Z56: -1.8754532 | AA56: 9.7263685 | AB56: 12.935679 | AC56: 5.2376485 | AD56: 10.497825 | AE56: 8.7597089 | AF56: 11.980077 | AG56: 11.751224 | AH56: -7.6397608 | AI56: 30.790173 | AJ56: 6.7555204 | AK56: -0.58959241 | AL56: 14.138333 | AM56: 8.4138157 | AN56: 19.441002 | AO56: -7.7497477
B57: Agosto | C57: 11.092606 | D57: 12.049545 | E57: 9.9988923 | F57: 18.03434 | G57: 12.686489 | H57: 27.699328 | I57: 12.842942 | J57: 14.606916 | K57: 10.948088 | L57: 10.567705 | M57: 10.154098 | N57: 10.974927 | O57: 10.948802 | P57: 19.894033 | Q57: 1.8456941 | R57: 8.7944596 | S57: 16.147239 | T57: 5.8811563 | U57: 10.21812 | V57: 13.95091 | W57: 5.6012181 | X57: -1.2998681 | Y57: -0.84682587 | Z57: -2.0491657 | AA57: 8.3866355 | AB57: 11.926717 | AC57: 3.5060703 | AD57: 9.8407569 | AE57: 8.3961983 | AF57: 11.068839 | AG57: 10.127746 | AH57: -8.5854107 | AI57: 28.578267 | AJ57: 6.5788766 | AK57: -4.0879488 | AL57: 17.23767 | AM57: 7.4526226 | AN57: 17.702158 | AO57: -7.8337754
B58: Septiembre | C58: 10.388427 | D58: 11.636445 | E58: 8.9632131 | F58: 16.983367 | G58: 12.129698 | H58: 25.706526 | I58: 12.20226 | J58: 13.96412 | K58: 10.30929 | L58: 9.9386557 | M58: 10.031921 | N58: 9.8468443 | O58: 10.029327 | P58: 19.380029 | Q58: 0.51631738 | R58: 8.3032214 | S58: 16.581495 | T58: 5.0098305 | U58: 9.6343639 | V58: 14.032908 | W58: 4.1919937 | X58: -1.5246978 | Y58: -0.89795516 | Z58: -2.5618831 | AA58: 7.5154379 | AB58: 11.3246 | AC58: 2.3057008 | AD58: 9.332312 | AE58: 8.0886202 | AF58: 10.386811 | AG58: 9.1264541 | AH58: -8.7713248 | AI58: 26.700681 | AJ58: 6.3480399 | AK58: -7.2329916 | AL58: 19.939757 | AM58: 7.0418996 | AN58: 16.777894 | AO58: -7.7105388
B59: Octubre | C59: 9.5861834 | D59: 11.283189 | E59: 7.6556336 | F59: 15.43207 | G59: 11.478388 | H59: 22.438687 | I59: 11.611578 | J59: 13.465593 | K59: 9.6193057 | L59: 9.3404817 | M59: 9.888235 | N59: 8.8014251 | O59: 9.0963861 | P59: 18.875676 | Q59: -0.83646683 | R59: 7.7136273 | S59: 16.750538 | T59: 4.1243974 | U59: 9.1889966 | V59: 14.376827 | W59: 2.8000041 | X59: -2.0367133 | Y59: -0.72365077 | Z59: -4.1933105 | AA59: 6.7422393 | AB59: 11.010063 | AC59: 0.95945068 | AD59: 8.5861624 | AE59: 7.4810894 | AF59: 9.5208852 | AG59: 8.1066346 | AH59: -9.0838405 | AI59: 24.940499 | AJ59: 5.8640265 | AK59: -9.6700902 | AL59: 21.321956 | AM59: 6.2987706 | AN59: 15.751901 | AO59: -8.2111854
B60: Noviembre | C60: 8.9199126 | D60: 11.008136 | E60: 6.5554893 | F60: 14.263332 | G60: 10.933076 | H60: 20.096879 | I60: 11.227644 | J60: 13.047118 | K60: 9.2670048 | L60: 8.863908 | M60: 9.9173216 | N60: 7.8333379 | O60: 8.1004218 | P60: 18.539821 | Q60: -2.4263291 | R60: 7.4179268 | S60: 16.807771 | T60: 3.6976973 | U60: 8.8362305 | V60: 14.461215 | W60: 1.9285771 | X60: -2.6947996 | Y60: -0.96148466 | Z60: -5.5310391 | AA60: 6.3148214 | AB60: 11.196039 | AC60: -0.2511013 | AD60: 7.6023698 | AE60: 6.8062248 | AF60: 8.2725709 | AG60: 7.2491685 | AH60: -8.3937668 | AI60: 22.147326 | AJ60: 5.6560919 | AK60: -11.628132 | AL60: 22.812562 | AM60: 5.4092382 | AN60: 14.755874 | AO60: -9.080341
B61: Diciembre | C61: 8.3322683 | D61: 10.727872 | E61: 5.6378591 | F61: 13.295882 | G61: 10.554663 | H61: 18.038276 | I61: 10.832044 | J61: 12.508316 | K61: 9.0232239 | L61: 8.4792548 | M61: 9.8642091 | N61: 7.1358099 | O61: 7.055466 | P61: 18.141729 | Q61: -4.0309777 | R61: 7.0118288 | S61: 16.806647 | T61: 3.1591156 | U61: 8.4033676 | V61: 14.242179 | W61: 1.2675145 | X61: -2.8553704 | Y61: -0.78735636 | Z61: -6.2268245 | AA61: 6.1708018 | AB61: 11.153566 | AC61: -0.49795012 | AD61: 6.6951975 | AE61: 6.3674982 | AF61: 6.9689112 | AG61: 6.5839231 | AH61: -7.8435294 | AI61: 19.862123 | AJ61: 5.4052865 | AK61: -13.230133 | AL61: 23.779397 | AM61: 4.9152307 | AN61: 14.195847 | AO61: -9.5705667
A62: 2024p | B62: Enero | C62: 1.4290731 | D62: 5.6605221 | E62: -3.3126092 | F62: 6.0578133 | G62: 7.7865466 | H62: 2.7654687 | I62: 2.5436831 | J62: 1.7016443 | K62: 3.4360199 | L62: 6.0396207 | M62: 8.3397239 | N62: 3.9149486 | O62: -3.1838269 | P62: 5.2703835 | Q62: -12.444747 | R62: 0.27641916 | S62: 15.68062 | T62: -5.6752915 | U62: 2.2968364 | V62: 11.31559 | W62: -8.7249774 | X62: -2.5801082 | Y62: -0.06430073 | Z62: -6.7413892 | AA62: 1.4865948 | AB62: 9.5197504 | AC62: -9.2947957 | AD62: -6.0510542 | AE62: 1.8153118 | AF62: -12.143905 | AG62: -1.4554121 | AH62: 10.700746 | AI62: -8.8557177 | AJ62: 3.1134371 | AK62: -29.696624 | AL62: 31.985962 | AM62: -2.7455121 | AN62: 6.6610455 | AO62: -18.502825
B63: Febrero | C63: 0.63027435 | D63: 5.47798 | E63: -4.8533964 | F63: 4.4190721 | G63: 10.03438 | H63: -5.2953274 | I63: 2.3859491 | J63: 1.5696299 | K63: 3.2664461 | L63: 3.8001361 | M63: 8.6643291 | N63: -0.75795988 | O63: -3.1847866 | P63: 5.8749386 | Q63: -13.284804 | R63: -0.64656929 | S63: 13.101161 | T63: -6.1606199 | U63: 1.6608636 | V63: 10.062271 | W63: -8.9464526 | X63: -5.2777208 | Y63: -2.4686033 | Z63: -9.7988654 | AA63: 2.3184343 | AB63: 6.6918953 | AC63: -3.9912645 | AD63: -6.6509824 | AE63: 0.71616889 | AF63: -12.507233 | AG63: -2.4833911 | AH63: 7.472311 | AI63: -8.9528207 | AJ63: 1.1363067 | AK63: -30.084099 | AL63: 28.924263 | AM63: -2.375924 | AN63: 3.8699053 | AO63: -13.539367
B64: Marzo | C64: 0.55630158 | D64: 5.1476292 | E64: -4.6468631 | F64: 2.6819109 | G64: 10.752671 | H64: -10.295994 | I64: 2.6823553 | J64: 1.6510752 | K64: 3.7890405 | L64: 3.3039226 | M64: 8.458449 | N64: -1.6094528 | O64: -2.875237 | P64: 5.3357491 | Q64: -12.217825 | R64: 0.66944925 | S64: 11.83858 | T64: -3.926436 | U64: 1.7621902 | V64: 9.3787777 | W64: -7.9827604 | X64: -5.5975741 | Y64: -4.4114419 | Z64: -7.5559313 | AA64: 3.2838888 | AB64: 6.1955399 | AC64: -0.99138096 | AD64: -5.7400821 | AE64: 0.66399843 | AF64: -10.905877 | AG64: -3.0675615 | AH64: 3.9603189 | AI64: -7.7884842 | AJ64: 0.59444444 | AK64: -30.730639 | AL64: 28.567222 | AM64: -3.0382399 | AN64: 2.3268398 | AO64: -12.801576
B65: Abril | C65: 0.14912983 | D65: 4.6767236 | E65: -5.0121909 | F65: 1.8317649 | G65: 10.695361 | H65: -12.187702 | I65: 2.8115443 | J65: 1.4693451 | K65: 4.2719739 | L65: 1.9835779 | M65: 8.3984015 | N65: -4.1376915 | O65: -3.5105362 | P65: 4.572284 | Q65: -12.770544 | R65: 1.1180638 | S65: 11.196256 | T65: -3.1177832 | U65: 1.0221673 | V65: 8.6616064 | W65: -8.7672492 | X65: -5.7948645 | Y65: -5.2539982 | Z65: -6.6987794 | AA65: 3.3312744 | AB65: 5.4166893 | AC65: 0.23759544 | AD65: -5.5635134 | AE65: 0.13528218 | AF65: -10.21861 | AG65: -3.3484168 | AH65: 1.3386611 | AI65: -6.5494956 | AJ65: 0 | AK65: -31.312561 | AL65: 27.987818 | AM65: -3.2561789 | AN65: 1.4708845 | AO65: -11.997019
B66: Mayo | C66: -0.10487109 | D66: 4.2047326 | E66: -5.0588931 | F66: 1.2098579 | G66: 10.352698 | H66: -13.225563 | I66: 2.7300889 | J66: 1.1005097 | K66: 4.522362 | L66: 1.3527555 | M66: 7.507056 | N66: -4.5722733 | O66: -3.5789942 | P66: 3.9930354 | Q66: -12.36746 | R66: 1.3032341 | S66: 10.907718 | T66: -2.7977673 | U66: 0.44801507 | V66: 7.7814875 | W66: -9.0686937 | X66: -5.7790224 | Y66: -5.3411911 | Z66: -6.5138632 | AA66: 3.2740231 | AB66: 4.7990985 | AC66: 0.99700483 | AD66: -5.2922817 | AE66: 0.34588476 | AF66: -9.9175206 | AG66: -4.4797103 | AH66: -0.66870135 | AI66: -7.0980916 | AJ66: 0.1442082 | AK66: -30.828368 | AL66: 27.54301 | AM66: -3.1053294 | AN66: 0.72219547 | AO66: -10.330203
B67: Junio | C67: -0.26530528 | D67: 3.8027621 | E67: -4.9652227 | F67: 0.75168715 | G67: 10.106469 | H67: -13.99457 | I67: 2.6355058 | J67: 0.72188753 | K67: 4.758221 | L67: 1.1823825 | M67: 6.8226876 | N67: -4.2791933 | O67: -3.5197015 | P67: 3.3035232 | Q67: -11.531838 | R67: 1.2137098 | S67: 10.647818 | T67: -2.8259765 | U67: 0.15874688 | V67: 6.9819434 | W67: -8.7803382 | X67: -5.9354209 | Y67: -5.2701182 | Z67: -7.0464459 | AA67: 2.8844006 | AB67: 4.4511387 | AC67: 0.54978362 | AD67: -5.3070969 | AE67: 0.43983168 | AF67: -10.042789 | AG67: -4.5567032 | AH67: -2.0159879 | AI67: -6.3177014 | AJ67: 0.50796997 | AK67: -30.327064 | AL67: 27.632869 | AM67: -2.5402127 | AN67: 0.6978929 | AO67: -8.6856852
B68: Julio | C68: -0.39420656 | D68: 3.5127767 | E68: -4.9291085 | F68: 0.61488253 | G68: 9.8816101 | H68: -14.112743 | I68: 2.4467168 | J68: 0.53671069 | K68: 4.5662253 | L68: 0.91706043 | M68: 6.3268317 | N68: -4.3421444 | O68: -3.413152 | P68: 2.8984721 | Q68: -10.897149 | R68: 0.87455785 | S68: 9.6171409 | T68: -2.8898706 | U68: 0.054864074 | V68: 6.3815998 | W68: -8.2886819 | X68: -5.8411365 | Y68: -4.9880613 | Z68: -7.2668369 | AA68: 2.5313849 | AB68: 4.106811 | AC68: 0.16672444 | AD68: -5.6700243 | AE68: 0.14957854 | AF68: -10.490207 | AG68: -4.8261992 | AH68: -2.338604 | AI68: -6.5509754 | AJ68: 0.78865644 | AK68: -29.927798 | AL68: 27.678902 | AM68: -2.5441643 | AN68: 0.4610951 | AO68: -8.2476482
B69: Agosto | C69: -0.52709286 | D69: 3.3064548 | E69: -4.9902488 | F69: 0.41886471 | G69: 9.4529599 | H69: -13.988677 | I69: 2.3026148 | J69: 0.47509512 | K69: 4.3304685 | L69: 0.41058421 | M69: 5.7349204 | N69: -4.7927781 | O69: -3.3183224 | P69: 2.6341565 | Q69: -10.44933 | R69: 0.32149627 | S69: 8.3398793 | T69: -3.163571 | U69: -0.16919744 | V69: 5.5478128 | W69: -7.7993783 | X69: -5.7814396 | Y69: -4.6424854 | Z69: -7.6883066 | AA69: 2.4278883 | AB69: 4.5455774 | AC69: -0.72920234 | AD69: -5.8534324 | AE69: 0.0058978493 | AF69: -10.714839 | AG69: -4.1878843 | AH69: -2.4826512 | AI69: -5.3832293 | AJ69: 1.0862203 | AK69: -27.132261 | AL69: 24.154357 | AM69: -2.6157606 | AN69: 0.21154427 | AO69: -8.0007675
B70: Septiembre | C70: -0.5904919 | D70: 3.1402312 | E70: -4.9554353 | F70: 0.28200191 | G70: 9.1923476 | H70: -14.002366 | I70: 2.1381713 | J70: 0.43565028 | K70: 4.0279927 | L70: 0.026350635 | M70: 5.139358 | N70: -5.0154215 | O70: -3.1770137 | P70: 2.4158747 | Q70: -9.934808 | R70: 0.19685483 | S70: 6.9245286 | T70: -2.7745929 | U70: -0.21618114 | V70: 4.9366252 | W70: -7.1939859 | X70: -5.7121907 | Y70: -4.5216147 | Z70: -7.7160996 | AA70: 2.5515487 | AB70: 5.027386 | AC70: -1.1331307 | AD70: -6.0503566 | AE70: -0.098166254 | AF70: -10.99202 | AG70: -3.8183417 | AH70: -2.5403866 | AI70: -4.721877 | AJ70: 1.2292327 | AK70: -24.769079 | AL70: 21.353363 | AM70: -2.693662 | AN70: -0.18751674 | AO70: -7.498716
B71: Octubre | C71: -0.57364761 | D71: 2.9523227 | E71: -4.7200275 | F71: 0.32745683 | G71: 9.0449593 | H71: -13.738546 | I71: 1.9884926 | J71: 0.25397542 | K71: 3.9177554 | L71: -0.21839055 | M71: 4.4606615 | N71: -4.8691489 | O71: -3.0191229 | P71: 2.3172942 | Q71: -9.5167901 | R71: 0.21626488 | S71: 6.0447163 | T71: -2.3793535 | U71: -0.30179481 | V71: 4.3782251 | W71: -6.7144704 | X71: -5.419232 | Y71: -4.5271427 | Z71: -6.9374773 | AA71: 2.7964394 | AB71: 5.0568157 | AC71: -0.57121062 | AD71: -5.9835546 | AE71: 0.032989432 | AF71: -10.977848 | AG71: -3.5424591 | AH71: -2.9423259 | AI71: -3.9701021 | AJ71: 1.0573719 | AK71: -22.875616 | AL71: 18.789214 | AM71: -2.5825191 | AN71: -0.47256708 | AO71: -6.6666667
B72: Noviembre | C72: -0.60640969 | D72: 2.7887202 | E72: -4.6112364 | F72: 0.45788469 | G72: 8.9614747 | H72: -13.301111 | I72: 1.8373396 | J72: 0.098012145 | K72: 3.7764552 | L72: -0.47832336 | M72: 3.8705574 | N72: -4.8151215 | O72: -3.0022203 | P72: 2.2073576 | Q72: -9.3841643 | R72: 0.042127683 | S72: 5.481935 | T72: -2.385586 | U72: -0.51841826 | V72: 3.8822018 | W72: -6.5869753 | X72: -5.2213588 | Y72: -4.2188591 | Z72: -6.9411062 | AA72: 2.7442462 | AB72: 4.5973312 | AC72: -0.03446972 | AD72: -5.8311337 | AE72: 0.19346295 | AF72: -10.834003 | AG72: -3.4514981 | AH72: -3.3903623 | AI72: -3.4951649 | AJ72: 1.1811311 | AK72: -21.259181 | AL72: 17.209089 | AM72: -2.1237747 | AN72: -0.31946562 | AO72: -5.6542122
B73: Diciembre | C73: -0.75363334 | D73: 2.596999 | E73: -4.7037752 | F73: 0.38193536 | G73: 8.8013811 | H73: -13.26049 | I73: 1.634392 | J73: -0.15737529 | K73: 3.6296447 | L73: -0.75429809 | M73: 3.7860476 | N73: -5.270724 | O73: -2.9853088 | P73: 1.9144313 | Q73: -9.0171845 | R73: -0.43216818 | S73: 4.8552265 | T73: -2.7870656 | U73: -0.77607092 | V73: 3.5271479 | W73: -6.7090285 | X73: -5.0456951 | Y73: -3.9880763 | Z73: -6.8699323 | AA73: 2.2967387 | AB73: 4.1204756 | AC73: -0.42990103 | AD73: -5.8035271 | AE73: 0.0035949945 | AF73: -10.626707 | AG73: -3.646319 | AH73: -3.5729449 | AI73: -3.6982392 | AJ73: 1.1788475 | AK73: -19.644146 | AL73: 15.57117 | AM73: -1.8933556 | AN73: -0.31194 | AO73: -5.0104657
A74: 2025p | B74: Enero | C74: -1.4708823 | D74: 0.12497193 | E74: -3.4251294 | F74: -0.20550278 | G74: 4.1834073 | H74: -8.9725087 | I74: 0.99036847 | J74: -0.25490721 | K74: 2.2879014 | L74: -4.5801933 | M74: 2.596172 | N74: -11.491479 | O74: -1.6517384 | P74: -0.25614422 | Q74: -3.4898176 | R74: -0.6017479 | S74: -0.84020973 | T74: -0.48875358 | U74: -3.2652548 | V74: -1.5316988 | W74: -5.8489927 | X74: -3.3239989 | Y74: -0.71766191 | Z74: -7.9436793 | AA74: -3.6842966 | AB74: -4.151553 | AC74: -2.9271079 | AD74: -5.6945896 | AE74: -5.3565891 | AF74: -5.9979821 | AG74: 5.2102656 | AH74: -3.3086611 | AI74: 11.509087 | AJ74: -1.9041153 | AK74: -2.4007293 | AL74: -1.6713356 | AM74: 3.4744843 | AN74: 0.55335968 | AO74: 9.8786828
B75: Febrero | C75: -1.231274 | D75: 0.12826015 | E75: -2.9361537 | F75: -0.22278528 | G75: 2.986184 | H75: -6.6728629 | I75: 1.2215088 | J75: -0.15088112 | K75: 2.6774708 | L75: -3.9209696 | M75: 2.0347712 | N75: -10.031794 | O75: -1.2881627 | P75: -0.63838967 | Q75: -2.1725993 | R75: -0.43539656 | S75: 1.0362411 | T75: -1.1468108 | U75: -3.0630281 | V75: -1.5368153 | W75: -5.3922463 | X75: -2.937164 | Y75: 1.2270016 | Z75: -10.183841 | AA75: -3.3858812 | AB75: -3.2003724 | AC75: -3.6833002 | AD75: -5.3998805 | AE75: -4.9814417 | AF75: -5.782775 | AG75: 4.1262224 | AH75: -1.4472222 | AI75: 8.4013381 | AJ75: -0.46098178 | AK75: -0.72070243 | AL75: -0.33561979 | AM75: 1.8658734 | AN75: -0.27744748 | AO75: 6.4680851
B76: Marzo | C76: -1.4929463 | D76: 0.10388689 | E76: -3.4884536 | F76: -0.68162793 | G76: 2.5448474 | H76: -7.0872433 | I76: 0.65238711 | J76: -0.2695555 | K76: 1.6213605 | L76: -3.7061575 | M76: 1.4850154 | N76: -9.1608049 | O76: -1.4474373 | P76: -0.6075079 | Q76: -2.5942278 | R76: -0.68618024 | S76: 2.070932 | T76: -2.0068432 | U76: -2.8630188 | V76: -1.5048707 | W76: -4.9285425 | X76: -2.6303794 | Y76: 2.1778322 | Z76: -10.838983 | AA76: -4.265249 | AB76: -3.4319602 | AC76: -5.5776091 | AD76: -5.5724764 | AE76: -4.5130425 | AF76: -6.5380366 | AG76: 3.3310711 | AH76: -0.61678634 | AI76: 6.3209007 | AJ76: -0.50477716 | AK76: 0.49304635 | AL76: -0.98485096 | AM76: 0.82838106 | AN76: -0.76679006 | AO76: 4.2348955
B77: Abril | C77: -1.1611053 | D77: 0.19358206 | E77: -2.8629296 | F77: -0.85826455 | G77: 2.3724308 | H77: -7.2998334 | I77: 0.61218034 | J77: -0.58127553 | K77: 1.8758608 | L77: -2.7106425 | M77: 0.8689492 | N77: -6.5731138 | O77: -0.88524833 | P77: -0.2500648 | Q77: -1.7576191 | R77: -0.38792763 | S77: 2.2585923 | T77: -1.6645983 | U77: -2.0034459 | V77: -1.1786184 | W77: -3.2623243 | X77: -1.7961643 | Y77: 3.31084 | Z77: -10.463336 | AA77: -4.2225478 | AB77: -3.1566215 | AC77: -5.8855341 | AD77: -5.4212988 | AE77: -4.5551999 | AF77: -6.2103658 | AG77: 3.7775503 | AH77: 0.66760616 | AI77: 6.0807962 | AJ77: 0.38993826 | AK77: 1.6757479 | AL77: -0.22684963 | AM77: 0.70289267 | AN77: -0.55599682 | AO77: 3.3869602
B78: Mayo | C78: -1.0370771 | D78: 0.17140094 | E78: -2.5618057 | F78: -0.44328346 | G78: 2.5718559 | H78: -6.4973452 | I78: 0.33127513 | J78: -0.82231422 | K78: 1.5584998 | L78: -2.3024068 | M78: 0.99431203 | N78: -5.8780656 | O78: -0.80833256 | P78: -0.17260455 | Q78: -1.6839431 | R78: -0.45391222 | S78: 2.0151388 | T78: -1.6568177 | U78: -1.8062185 | V78: -1.5042598 | W78: -2.270686 | X78: -1.4867359 | Y78: 3.3699266 | Z78: -9.7402369 | AA78: -4.0344616 | AB78: -2.9315759 | AC78: -5.743118 | AD78: -5.5607092 | AE78: -5.270662 | AF78: -5.825757 | AG78: 4.1361665 | AH78: 0.98506295 | AI78: 6.4509857 | AJ78: 0.96446871 | AK78: 2.3447022 | AL78: 0.30228548 | AM78: 0.32481594 | AN78: -0.79668579 | AO78: 2.7027027
B79: Junio | C79: -0.87635597 | D79: 0.32419703 | E79: -2.391346 | F79: -0.072489691 | G79: 2.8554091 | H79: -5.9811794 | I79: 0.25044195 | J79: -0.93996326 | K79: 1.5200422 | L79: -1.9851274 | M79: 0.63960362 | N79: -4.8214612 | O79: -0.45646088 | P79: 0.58987165 | Q79: -1.8911457 | R79: -0.55273669 | S79: 1.9443946 | T79: -1.77027 | U79: -1.7403095 | V79: -1.4110102 | W79: -2.2462717 | X79: -0.94051078 | Y79: 3.6023654 | Z79: -8.6718808 | AA79: -3.8381824 | AB79: -2.7681712 | AC79: -5.4944845 | AD79: -5.4272695 | AE79: -5.7078058 | AF79: -5.1691582 | AG79: 3.6786814 | AH79: 1.5100315 | AI79: 5.2508172 | AJ79: 0.71961308 | AK79: 2.3488548 | AL79: -0.062754424 | AM79: -0.25252525 | AN79: -1.0662402 | AO79: 1.4504881
B80: Julio | C80: -0.82002518 | D80: 0.46333818 | E80: -2.4419188 | F80: 0.055190043 | G80: 2.9544809 | H80: -5.8399538 | I80: 0.030264298 | J80: -1.0372518 | K80: 1.1692233 | L80: -1.8419706 | M80: 0.29744906 | N80: -4.1538191 | O80: -0.28238583 | P80: 1.1419947 | Q80: -2.2328403 | R80: -0.42942596 | S80: 2.3492127 | T80: -1.7799593 | U80: -1.7529928 | V80: -1.3757736 | W80: -2.3300361 | X80: -0.95968072 | Y80: 3.5797523 | Z80: -8.7326278 | AA80: -3.2067475 | AB80: -1.6784068 | AC80: -5.590969 | AD80: -5.2557382 | AE80: -5.9455696 | AF80: -4.6164573 | AG80: 3.1610646 | AH80: 1.4226767 | AI80: 4.4207088 | AJ80: 0.62675259 | AK80: 2.1034813 | AL80: -0.082745159 | AM80: -0.37958014 | AN80: -1.2277682 | AO80: 1.382928
B81: Agosto | C81: -0.8049671 | D81: 0.54597257 | E81: -2.5151259 | F81: 0.16478718 | G81: 3.2130785 | H81: -6.02155 | I81: -0.048505233 | J81: -1.2047065 | K81: 1.1870304 | L81: -1.6856241 | M81: 0.23310869 | N81: -3.7681079 | O81: -0.23005296 | P81: 1.337504 | Q81: -2.3823363 | R81: -0.4232893 | S81: 2.6454501 | T81: -1.9155131 | U81: -1.779977 | V81: -1.2934291 | W81: -2.5233501 | X81: -1.1798003 | Y81: 3.1707349 | Z81: -8.7039082 | AA81: -2.7946654 | AB81: -0.88254898 | AC81: -5.7967528 | AD81: -5.3734347 | AE81: -6.2538088 | AF81: -4.5552947 | AG81: 2.8011623 | AH81: 1.5691941 | AI81: 3.6912294 | AJ81: 0.2913183 | AK81: 1.682754 | AL81: -0.37628018 | AM81: -0.66472224 | AN81: -1.5279453 | AO81: 1.1261731
B82: Septiembre | C82: -0.83502855 | D82: 0.5720833 | E82: -2.621578 | F82: 0.24727853 | G82: 3.1404448 | H82: -5.641776 | I82: -0.14861555 | J82: -1.4308589 | K82: 1.2255416 | L82: -1.4828726 | M82: 0.30749339 | N82: -3.4370359 | O82: -0.34711025 | P82: 1.4860485 | Q82: -2.8658262 | R82: -0.42808851 | S82: 4.0563629 | T82: -2.6063503 | U82: -1.7784138 | V82: -1.1630446 | W82: -2.7206543 | X82: -1.5439316 | Y82: 2.6999806 | Z82: -8.9343044 | AA82: -2.6619626 | AB82: -0.46214076 | AC82: -6.139861 | AD82: -5.3747064 | AE82: -6.435116 | AF82: -4.3865753 | AG82: 2.446747 | AH82: 1.5677122 | AI82: 3.0824688 | AJ82: 0.1081105 | AK82: 1.7546455 | AL82: -0.68199937 | AM82: -0.9167119 | AN82: -1.7444981 | AO82: 0.79585416
B83: Octubre | C83: -0.90382656 | D83: 0.58373995 | E83: -2.7939987 | F83: 0.38685111 | G83: 3.1270588 | H83: -5.2023655 | I83: -0.13410919 | J83: -1.4644076 | K83: 1.2933828 | L83: -1.4589155 | M83: 0.090238003 | N83: -3.1497135 | O83: -0.42715682 | P83: 1.5278481 | Q83: -3.1189185 | R83: -0.48033663 | S83: 4.7861777 | T83: -3.0280953 | U83: -1.7687761 | V83: -1.024096 | W83: -2.9104891 | X83: -2.8738077 | Y83: 2.1892091 | Z83: -11.713722 | AA83: -2.7889519 | AB83: -0.014092757 | AC83: -7.1571188 | AD83: -5.374757 | AE83: -6.6738382 | AF83: -4.1630199 | AG83: 2.1680601 | AH83: 1.7027882 | AI83: 2.5031521 | AJ83: 0.41639825 | AK83: 1.8545592 | AL83: -0.27539945 | AM83: -1.2143554 | AN83: -2.068244 | AO83: 0.54817276
B84: Noviembre | C84: -1.0184516 | D84: 0.47502698 | E84: -2.9167942 | F84: 0.3509428 | G84: 2.8918446 | H84: -4.8159774 | I84: -0.14347132 | J84: -1.5573809 | K84: 1.3769733 | L84: -1.5201391 | M84: -0.30443955 | N84: -2.8430862 | O84: -0.61156865 | P84: 1.4588711 | Q84: -3.4723925 | R84: -0.58986615 | S84: 5.2498935 | T84: -3.4061282 | U84: -1.8801666 | V84: -1.0119878 | W84: -3.2115846 | X84: -3.6397322 | Y84: 1.8072687 | Z84: -13.257183 | AA84: -2.7649046 | AB84: 0.29129511 | AC84: -7.5600398 | AD84: -5.3643807 | AE84: -6.9244992 | AF84: -3.9086237 | AG84: 1.8240705 | AH84: 1.7102118 | AI84: 1.9054835 | AJ84: 0.27114625 | AK84: 2.0000928 | AL84: -0.55845521 | AM84: -1.688758 | AN84: -2.5639158 | AO84: 0.12046379
B85: Diciembre | C85: -1.0875819 | D85: 0.37719184 | E85: -2.9467362 | F85: 0.20229287 | G85: 2.5752001 | H85: -4.6205852 | I85: -0.17245956 | J85: -1.5657612 | K85: 1.3223762 | L85: -1.4861616 | M85: -0.88764778 | N85: -2.1384428 | O85: -0.65170982 | P85: 1.5194041 | Q85: -3.6456165 | R85: -0.54847702 | S85: 5.9554379 | T85: -3.6729095 | U85: -2.0273357 | V85: -1.1327923 | W85: -3.3959903 | X85: -4.2500589 | Y85: 1.4793842 | Z85: -14.438314 | AA85: -2.5133512 | AB85: 0.73627395 | AC85: -7.5938466 | AD85: -5.3343198 | AE85: -7.0609689 | AF85: -3.7296547 | AG85: 1.518957 | AH85: 1.6315408 | AI85: 1.4391881 | AJ85: 0.53579778 | AK85: 1.9286665 | AL85: -0.1335717 | AM85: -1.8850141 | AN85: -2.7430093 | AO85: -0.11017766
A86: 2026p | B86: Enero | C86: -3.0960633 | D86: -0.53153892 | E86: -6.3519654 | F86: -2.5687793 | G86: 0.16491323 | H86: -8.8186388 | I86: -1.2025724 | J86: -0.33112167 | K86: -2.0880203 | L86: -2.4720743 | M86: -8.8833744 | N86: 4.6851805 | O86: -3.0408022 | P86: 1.9186107 | Q86: -9.7914956 | R86: -2.509835 | S86: 8.3367645 | T86: -7.631307 | U86: -3.3933917 | V86: -1.0110623 | W86: -7.1068956 | X86: -11.110202 | Y86: -1.9865899 | Z86: -28.551008 | AA86: -5.1499637 | AB86: 3.003003 | AC86: -18.19519 | AD86: -4.5511986 | AE86: -6.9538865 | AF86: -2.3798068 | AG86: -7.8289591 | AH86: -4.8386175 | AI86: -9.7461817 | AJ86: 9.5933298 | AK86: 11.76959 | AL86: 8.5808103 | AM86: -5.2465897 | AN86: -5.1100629 | AO86: -5.5205047
B87: Febrero | C87: -3.3900997 | D87: -1.221298 | E87: -6.1956799 | F87: -2.7033984 | G87: -0.59040993 | H87: -7.3901025 | I87: -1.853294 | J87: -0.52405394 | K87: -3.2246337 | L87: -2.6546642 | M87: -8.3786263 | N87: 4.0060358 | O87: -4.571796 | P87: 0.16395599 | Q87: -11.118943 | R87: -0.90074603 | S87: 7.5789246 | T87: -5.0904868 | U87: -3.6021703 | V87: -2.1481259 | W87: -5.9116806 | X87: -10.687888 | Y87: -2.8749048 | Z87: -26.011801 | AA87: -5.5234201 | AB87: 2.1214226 | AC87: -17.841548 | AD87: -3.5324183 | AE87: -6.5275493 | AF87: -0.76839888 | AG87: -6.592554 | AH87: -4.8592125 | AI87: -7.8013209 | AJ87: 6.9118916 | AK87: 9.8972445 | AL87: 5.476489 | AM87: -4.6986992 | AN87: -4.0540541 | AO87: -5.9952038
B88: Marzo | C88: -3.65068 | D88: -1.4477127 | E88: -6.506123 | F88: -3.3147566 | G88: -1.4735395 | H88: -7.3491294 | I88: -2.5061991 | J88: -0.61108792 | K88: -4.4609229 | L88: -3.04342 | M88: -8.2792032 | N88: 3.1028479 | O88: -4.2433024 | P88: 0.44008401 | Q88: -10.768148 | R88: -1.4158732 | S88: 6.1011433 | T88: -5.1663751 | U88: -4.0080056 | V88: -2.0394683 | W88: -7.1096451 | X88: -10.840447 | Y88: -3.395614 | Z88: -25.405845 | AA88: -5.0058701 | AB88: 2.4274586 | AC88: -16.978766 | AD88: -3.5631768 | AE88: -7.1400292 | AF88: -0.23262909 | AG88: -5.6764428 | AH88: -4.8007998 | AI88: -6.296321 | AJ88: 6.2734519 | AK88: 8.709481 | AL88: 5.0839336 | AM88: -4.2150384 | AN88: -3.0908606 | AO88: -6.5005417
B89: Abril | C89: -4.0900237 | D89: -1.7859313 | E89: -7.0756157 | F89: -3.8177699 | G89: -2.4071908 | H89: -6.9237278 | I89: -3.0749651 | J89: -0.72757629 | K89: -5.5005296 | L89: -3.6097252 | M89: -8.4792282 | N89: 2.0631344 | O89: -4.5035308 | P89: 0.40004568 | Q89: -11.341522 | R89: -1.6272189 | S89: 5.5540891 | T89: -5.2296625 | U89: -4.5225535 | V89: -1.9512415 | W89: -8.5315043 | X89: -11.149609 | Y89: -4.4025353 | Z89: -24.3617 | AA89: -5.4241885 | AB89: 2.0105401 | AC89: -17.359676 | AD89: -3.9595361 | AE89: -6.9901738 | AF89: -1.1497204 | AG89: -5.7702633 | AH89: -4.6309389 | AI89: -6.570997 | AJ89: 5.3233959 | AK89: 8.0915066 | AL89: 3.9702448 | AM89: -3.6778523 | AN89: -2.715655 | AO89: -5.6511057
B90: Mayo | C90: -4.2383522 | D90: -1.9311903 | E90: -7.2309363 | F90: -3.903043 | G90: -3.3359483 | H90: -5.152149 | I90: -3.2094435 | J90: -0.57933543 | K90: -5.9418425 | L90: -3.9779406 | M90: -8.6634624 | N90: 1.4750931 | O90: -4.7333623 | P90: 0.30223816 | Q90: -11.775689 | R90: -1.7994952 | S90: 4.9665395 | T90: -5.2189432 | U90: -4.6003805 | V90: -1.6571188 | W90: -9.1631585 | X90: -11.075092 | Y90: -4.2400352 | Z90: -24.377872 | AA90: -5.8091527 | AB90: 1.6789563 | AC90: -17.75622 | AD90: -3.9857569 | AE90: -6.2188849 | AF90: -1.9330759 | AG90: -5.4147147 | AH90: -3.5291839 | AI90: -6.7287152 | AJ90: 4.5898703 | AK90: 7.688426 | AL90: 3.0730314 | AM90: -3.0002158 | AN90: -1.8631545 | AO90: -5.3289474
B91: Junio | C91: -4.4685828 | D91: -2.1793309 | E91: -7.4377822 | F91: -3.9919921 | G91: -4.0691427 | H91: -3.8216637 | I91: -3.5867663 | J91: -0.41900287 | K91: -6.8834069 | L91: -4.2128613 | M91: -8.5635091 | N91: 0.7582825 | O91: -5.0856823 | P91: -0.34227834 | Q91: -11.754102 | R91: -2.2463941 | S91: 4.4227455 | T91: -5.6210513 | U91: -4.8576463 | V91: -1.829832 | W91: -9.5495765 | X91: -11.272261 | Y91: -4.3864531 | Z91: -24.565953 | AA91: -6.0921864 | AB91: 1.4807848 | AC91: -18.152785 | AD91: -3.8116874 | AE91: -5.6935703 | AF91: -2.0900709 | AG91: -4.9950492 | AH91: -2.9989157 | AI91: -6.3906899 | AJ91: 4.2009825 | AK91: 7.2863815 | AL91: 2.68361 | AM91: -2.3417722 | AN91: -1.0642597 | AO91: -4.9491339
B92: Julio | C92: -4.491244 | D92: -2.4102361 | E92: -7.1995069 | F92: -3.9739105 | G92: -4.6537132 | H92: -2.4625638 | I92: -3.62489 | J92: -0.40299404 | K92: -6.9874381 | L92: -4.1242862 | M92: -8.1529576 | N92: 0.43125875 | O92: -5.304068 | P92: -0.77935056 | Q92: -11.713799 | R92: -2.473342 | S92: 4.0560798 | T92: -5.7803279 | U92: -4.9717665 | V92: -1.9175442 | W92: -9.6895477 | X92: -10.922204 | Y92: -4.2324296 | Z92: -23.922549 | AA92: -6.2081753 | AB92: 0.3908785 | AC92: -16.929377 | AD92: -3.4447865 | AE92: -5.3823652 | AF92: -1.6742131 | AG92: -4.572682 | AH92: -3.0529799 | AI92: -5.6422493 | AJ92: 3.7698497 | AK92: 7.0353497 | AL92: 2.1666041 | AM92: -2.3794712 | AN92: -0.62732342 | AO92: -5.9266228
B93: Agosto | C93: -4.6805376 | D93: -2.6783307 | E93: -7.2947259 | F93: -4.3969317 | G93: -5.0806856 | H93: -2.8729372 | I93: -3.6823181 | J93: -0.27407139 | K93: -7.2383385 | L93: -4.4281436 | M93: -7.912513 | N93: -0.489166 | O93: -5.5544087 | P93: -1.2766028 | Q93: -11.651729 | R93: -2.9534287 | S93: 3.2167528 | T93: -6.0932958 | U93: -5.0987039 | V93: -2.2481917 | W93: -9.5088159 | X93: -10.633209 | Y93: -4.1611929 | Z93: -23.28221 | AA93: -6.6701864 | AB93: -1.0086936 | AC93: -16.022611 | AD93: -3.0485502 | AE93: -4.8099355 | AF93: -1.4408077 | AG93: -4.4835197 | AH93: -3.3608579 | AI93: -5.2780167 | AJ93: 3.4628424 | AK93: 6.8784004 | AL93: 1.7902181 | AM93: -2.1782178 | AN93: -0.16333197 | AO93: -6.2487111
B96: Fuente: DANE, EMA.
B97: ᵖ: Cifra provisional
B98: Nota metodológica: Variación año corrido=((valor de los meses transcurridos del año de referencia-valor de los mismos meses transcurridos del año anterior)/(valor de los meses transcurridos del año anterior))*100 1 El resto del personal lo conforman las siguientes categorías de contratación: los Propietarios, Socios y Familiares sin remuneración, el Temporal Directo, Temporal contratado a través de Agencias y los Aprendices. Regiones: Bogotá, D. C.; Cartagena; Región Central (Boyacá, Cundinamarca, Huila y Tolima); Región Costa Caribe (Atlántico, Cesar, La Guajira y Magdalena); Región Eje Cafetero (Caldas, Quindío y Risaralda); Antioquia; San Andrés y Providencia; Región Pacífico (Valle del Cauca, Cauca, Nariño y Chocó); Región Santanderes (Santander y Norte de Santander); Región Llanos Orinoquía (Meta, Casanare, Arauca y Vichada); Región Golfo Morrosquillo y Sabana (Bolívar, Córdoba y Sucre); y Región Amazonía (Amazonas, Caquetá, Guainía, Putumayo, Guaviare y Vaupés).
B100: Nota: como parte del proceso de producción estadística algunas fuentes de información presentaron actualización en la información; como consecuencia de este proceso se presentan cambios en la serie histórica.
B101: ='1.1 V.A Ing.real'!B96 -> Actualizado el 16 de octubre de 2026

Sheet 2.3 V.12Meses Per.categ
L4: Inicio
A6: ENCUESTA MENSUAL DE ALOJAMIENTO - EMA
A8: 2.3 Variaciones 12 meses del personal total y por categoría
A9: Total nacional y 12 regiones
A10: ='1.3 V.12Meses Ing.real'!A11 -> Diciembre 2020 - agosto 2026ᵖ
A12: Año | B12: Meses | C12: Total nacional | F12: Bogotá, D. C. | I12: Cartagena | L12: Central | O12: Caribe | R12: Eje Cafetero | U12: Antioquia | X12: San Andrés y Providencia | AA12: Pacífico | AD12: Santanderes | AG12: Llanos Orinoquía | AJ12: Golfo Morrosquillo y Sabana | AM12: Amazonía
C13: Total del personal | D13: Personal permanente | E13: Resto de personal1 | F13: Total del personal | G13: Personal permanente | H13: Resto de personal1 | I13: Total del personal | J13: Personal permanente | K13: Resto de personal1 | L13: Total del personal | M13: Personal permanente | N13: Resto de personal1 | O13: Total del personal | P13: Personal permanente | Q13: Resto de personal1 | R13: Total del personal | S13: Personal permanente | T13: Resto de personal1 | U13: Total del personal | V13: Personal permanente | W13: Resto de personal1 | X13: Total del personal | Y13: Personal permanente | Z13: Resto de personal1 | AA13: Total del personal | AB13: Personal permanente | AC13: Resto de personal1 | AD13: Total del personal | AE13: Personal permanente | AF13: Resto de personal1 | AG13: Total del personal | AH13: Personal permanente | AI13: Resto de personal1 | AJ13: Total del personal | AK13: Personal permanente | AL13: Resto de personal1 | AM13: Total del personal | AN13: Personal permanente | AO13: Resto de personal1
A14: 2020 | B14: Diciembre | C14: -29.1535 | D14: -21.494212 | E14: -39.364688 | F14: -35.077283 | G14: -26.70408 | H14: -50.117169 | I14: -28.275686 | J14: -17.800466 | K14: -43.424338 | L14: -22.428824 | M14: -11.52217 | N14: -32.964721 | O14: -27.776292 | P14: -23.172413 | Q14: -33.906397 | R14: -29.225144 | S14: -25.440049 | T14: -31.018932 | U14: -31.212257 | V14: -25.446655 | W14: -40.5766 | X14: -23.837899 | Y14: -11.620259 | Z14: -42.596725 | AA14: -27.442808 | AB14: -19.582963 | AC14: -39.493824 | AD14: -30.342215 | AE14: -21.110651 | AF14: -38.570033 | AG14: -26.727232 | AH14: -28.267685 | AI14: -25.303264 | AJ14: -23.335632 | AK14: -23.947714 | AL14: -22.726314 | AM14: -25.550231 | AN14: -14.520202 | AO14: -38.855044
A15: 2021 | B15: Enero | C15: -32.464231 | D15: -24.484439 | E15: -43.079581 | F15: -39.37084 | G15: -30.920109 | H15: -54.582797 | I15: -31.75252 | J15: -20.444704 | K15: -48.044348 | L15: -25.003429 | M15: -13.671281 | N15: -35.995015 | O15: -30.586667 | P15: -25.870534 | Q15: -36.797366 | R15: -32.410225 | S15: -29.135747 | T15: -33.969286 | U15: -34.866848 | V15: -28.603767 | W15: -44.974932 | X15: -25.197935 | Y15: -12.482332 | Z15: -44.980925 | AA15: -31.028777 | AB15: -22.799439 | AC15: -43.59324 | AD15: -33.798868 | AE15: -23.682588 | AF15: -42.761752 | AG15: -28.712063 | AH15: -29.893065 | AI15: -27.632631 | AJ15: -26.282111 | AK15: -26.801624 | AL15: -25.77474 | AM15: -27.935568 | AN15: -17.593819 | AO15: -40.647612
B16: Febrero | C16: -35.753646 | D16: -27.399936 | E16: -46.822419 | F16: -43.921834 | G16: -35.063207 | H16: -59.847112 | I16: -35.423514 | J16: -23.317199 | K16: -52.803371 | L16: -27.214733 | M16: -15.571875 | N16: -38.548551 | O16: -33.154608 | P16: -28.276541 | Q16: -39.505238 | R16: -35.578644 | S16: -32.917899 | T16: -36.842716 | U16: -38.357925 | V16: -31.526197 | W16: -49.231341 | X16: -26.778364 | Y16: -13.422167 | Z16: -47.745018 | AA16: -34.406159 | AB16: -26.007373 | AC16: -47.211898 | AD16: -37.107833 | AE16: -26.211405 | AF16: -46.712714 | AG16: -30.418555 | AH16: -31.408646 | AI16: -29.520301 | AJ16: -28.15512 | AK16: -28.19126 | AL16: -28.120234 | AM16: -30.720648 | AN16: -21.63087 | AO16: -42.106703
B17: Marzo | C17: -37.757781 | D17: -29.845658 | E17: -48.317025 | F17: -47.527401 | G17: -38.796003 | H17: -63.384264 | I17: -37.564531 | J17: -26.120711 | K17: -54.264895 | L17: -28.341093 | M17: -16.877676 | N17: -39.602295 | O17: -34.298245 | P17: -30.264425 | Q17: -39.552999 | R17: -36.80996 | S17: -36.255514 | T17: -37.075957 | U17: -40.597012 | V17: -33.980914 | W17: -51.126042 | X17: -27.00704 | Y17: -13.134723 | Z17: -49.057386 | AA17: -36.622301 | AB17: -28.742079 | AC17: -48.753405 | AD17: -39.001468 | AE17: -27.41361 | AF17: -49.145076 | AG17: -31.078302 | AH17: -32.096538 | AI17: -30.161702 | AJ17: -28.674284 | AK17: -29.395869 | AL17: -27.977116 | AM17: -32.354854 | AN17: -24.304698 | AO17: -42.595843
B18: Abril | C18: -37.433587 | D18: -31.236265 | E18: -45.927714 | F18: -49.019264 | G18: -41.301719 | H18: -63.423188 | I18: -37.094669 | J18: -27.729663 | K18: -51.293227 | L18: -27.343544 | M18: -17.380571 | N18: -37.376008 | O18: -33.198472 | P18: -31.985817 | Q18: -34.828907 | R18: -35.003759 | S18: -36.736736 | T18: -34.16292 | U18: -40.265963 | V18: -35.41644 | W18: -48.196598 | X18: -25.886288 | Y18: -11.964126 | Z18: -48.485621 | AA18: -36.862138 | AB18: -30.673282 | AC18: -46.653749 | AD18: -38.147371 | AE18: -27.859597 | AF18: -47.301742 | AG18: -28.039973 | AH18: -29.713302 | AI18: -26.530024 | AJ18: -27.786309 | AK18: -29.593444 | AL18: -26.022359 | AM18: -31.654587 | AN18: -25.834913 | AO18: -39.305915
B19: Mayo | C19: -36.341343 | D19: -31.577419 | E19: -43.033994 | F19: -49.551563 | G19: -42.641631 | H19: -62.827187 | I19: -35.799247 | J19: -28.194922 | K19: -47.754578 | L19: -25.954542 | M19: -17.132176 | N19: -35.030043 | O19: -31.360727 | P19: -32.484796 | Q19: -29.811454 | R19: -32.693844 | S19: -36.193897 | T19: -30.971171 | U19: -38.826665 | V19: -35.278982 | W19: -44.74098 | X19: -24.495209 | Y19: -10.898273 | Z19: -47.080145 | AA19: -36.816995 | AB19: -32.327745 | AC19: -44.168808 | AD19: -36.079095 | AE19: -27.169664 | AF19: -44.144763 | AG19: -25.052419 | AH19: -26.562628 | AI19: -23.701044 | AJ19: -25.782412 | AK19: -27.934446 | AL19: -23.676674 | AM19: -29.84478 | AN19: -26.265753 | AO19: -34.727529
B20: Junio | C20: -33.962672 | D20: -30.968424 | E20: -38.28751 | F20: -48.81591 | G20: -42.704888 | H20: -60.893234 | I20: -33.149172 | J20: -27.445866 | K20: -42.434057 | L20: -23.298794 | M20: -16.384829 | N20: -30.643219 | O20: -27.898096 | P20: -31.902927 | Q20: -22.228046 | R20: -28.53118 | S20: -34.216842 | T20: -25.68256 | U20: -36.121492 | V20: -34.272192 | W20: -39.280142 | X20: -21.957105 | Y20: -9.5355218 | Z20: -43.310298 | AA20: -36.069043 | AB20: -33.339924 | AC20: -40.695741 | AD20: -32.621409 | AE20: -26.11283 | AF20: -38.693252 | AG20: -21.634727 | AH20: -23.808896 | AI20: -19.699249 | AJ20: -23.28207 | AK20: -26.112328 | AL20: -20.493426 | AM20: -27.677908 | AN20: -26.789838 | AO20: -28.940678
B21: Julio | C21: -30.385993 | D21: -29.612875 | E21: -31.540758 | F21: -46.973388 | G21: -42.119653 | H21: -57.022752 | I21: -29.517926 | J21: -26.176723 | K21: -35.177491 | L21: -20.078554 | M21: -15.379847 | N21: -25.255359 | O21: -23.244321 | P21: -30.484432 | Q21: -12.685999 | R21: -23.000399 | S21: -31.751844 | T21: -18.552566 | U21: -31.929182 | V21: -32.226464 | W21: -31.407024 | X21: -17.283542 | Y21: -7.2557261 | Z21: -35.440001 | AA21: -33.917727 | AB21: -33.179462 | AC21: -35.216352 | AD21: -28.056153 | AE21: -24.077844 | AF21: -31.877399 | AG21: -17.885766 | AH21: -20.986862 | AI21: -15.135718 | AJ21: -19.169341 | AK21: -22.87469 | AL21: -15.499605 | AM21: -24.348023 | AN21: -25.542444 | AO21: -22.602892
B22: Agosto | C22: -25.922948 | D22: -27.53965 | E22: -23.422182 | F22: -44.469503 | G22: -40.741114 | H22: -52.520573 | I22: -25.102169 | J22: -24.387394 | K22: -26.364323 | L22: -16.305049 | M22: -13.922536 | N22: -19.031886 | O22: -17.264436 | P22: -28.176853 | Q22: -0.8327061 | R22: -16.365954 | S22: -28.553997 | T22: -10.060544 | U22: -26.874484 | V22: -29.421087 | W22: -22.26746 | X22: -12.012281 | Y22: -4.8003777 | Z22: -25.862649 | AA22: -30.384326 | AB22: -31.638784 | AC22: -28.092942 | AD22: -22.457032 | AE22: -21.535654 | AF22: -23.372893 | AG22: -13.412952 | AH22: -18.141639 | AI22: -9.1871195 | AJ22: -14.25581 | AK22: -18.90875 | AL22: -9.6206186 | AM22: -19.69141 | AN22: -23.326588 | AO22: -14.137931
B23: Septiembre | C23: -20.912889 | D23: -24.937352 | E23: -14.477082 | F23: -41.014552 | G23: -38.692057 | H23: -46.279208 | I23: -20.192552 | J23: -22.385788 | K23: -16.145489 | L23: -12.073496 | M23: -11.751355 | N23: -12.454434 | O23: -10.864451 | P23: -25.079827 | Q23: 11.051794 | R23: -10.357121 | S23: -24.968089 | T23: -2.7624583 | U23: -21.591742 | V23: -26.335375 | W23: -12.762423 | X23: -6.0679803 | Y23: -2.2466256 | Z23: -13.895984 | AA23: -26.107218 | AB23: -29.016575 | AC23: -20.624438 | AD23: -16.334639 | AE23: -18.918467 | AF23: -13.668317 | AG23: -8.61917 | AH23: -13.989605 | AI23: -3.8164479 | AJ23: -8.3760731 | AK23: -14.649682 | AL23: -2.0527169 | AM23: -14.77579 | AN23: -21.260217 | AO23: -4.3054844
B24: Octubre | C24: -15.663829 | D24: -21.759863 | E24: -5.6504729 | F24: -36.562263 | G24: -35.61452 | H24: -38.816821 | I24: -14.981744 | J24: -20.121668 | K24: -5.0935176 | L24: -8.3538424 | M24: -9.5599307 | N24: -6.889074 | O24: -4.9381347 | P24: -21.622936 | Q24: 21.131451 | R24: -5.0597646 | S24: -20.635153 | T24: 2.9771225 | U24: -15.701271 | V24: -22.787004 | W24: -2.1581051 | X24: -0.75727454 | Y24: 0.55886667 | Z24: -3.5850778 | AA24: -21.388105 | AB24: -25.928244 | AC24: -12.599749 | AD24: -8.9263306 | AE24: -14.814383 | AF24: -2.6508322 | AG24: -4.5177241 | AH24: -8.798659 | AI24: -0.72582666 | AJ24: -2.7094124 | AK24: -9.2390259 | AL24: 3.8512493 | AM24: -10.205535 | AN24: -17.971487 | AO24: 2.7096599
B25: Noviembre | C25: -9.9419611 | D25: -18.152113 | E25: 3.8751618 | F25: -31.218848 | G25: -31.94615 | H25: -29.394164 | I25: -9.0903476 | J25: -17.522154 | K25: 7.8542627 | L25: -4.5926741 | M25: -7.2069411 | N25: -1.3464439 | O25: 1.4535449 | P25: -16.825244 | Q25: 29.958114 | R25: 0.039928488 | S25: -16.85378 | T25: 8.7289999 | U25: -9.5659871 | V25: -19.131388 | W25: 9.2179226 | X25: 4.4251463 | Y25: 3.1207392 | Z25: 7.3664497 | AA25: -16.015692 | AB25: -22.491134 | AC25: -3.1994871 | AD25: -0.94585461 | AE25: -10.700386 | AF25: 9.7985779 | AG25: -0.36694975 | AH25: -3.2382898 | AI25: 2.153372 | AJ25: 2.9967848 | AK25: -2.9273935 | AL25: 8.8833385 | AM25: -5.5012419 | AN25: -13.79717 | AO25: 8.4668841
B26: Diciembre | C26: -3.8115604 | D26: -14.362066 | E26: 14.39958 | F26: -25.03398 | G26: -27.539052 | H26: -18.422454 | I26: -2.3529486 | J26: -14.699207 | K26: 23.588006 | L26: -0.19224152 | M26: -4.6470522 | N26: 5.487653 | O26: 7.1996603 | P26: -12.040624 | Q26: 36.978871 | R26: 5.6545543 | S26: -12.381733 | T26: 14.893387 | U26: -3.0960102 | V26: -15.650502 | W26: 22.486399 | X26: 9.2013233 | Y26: 5.2010533 | Z26: 18.657676 | AA26: -10.191602 | AB26: -18.925059 | AC26: 7.605291 | AD26: 7.4162163 | AE26: -7.0505095 | AF26: 23.974593 | AG26: 4.6957079 | AH26: 1.8895877 | AI26: 7.1866938 | AJ26: 9.4296214 | AK26: 4.3146992 | AL26: 14.440967 | AM26: -1.4944911 | AN26: -10.113824 | AO26: 13.040293
A27: 2022 | B27: Enero | C27: 2.7783405 | D27: -10.080329 | E27: 25.472139 | F27: -18.234106 | G27: -22.085849 | H27: -7.6883113 | I27: 4.9608672 | J27: -11.646623 | K27: 41.598835 | L27: 4.4477966 | M27: -2.2493001 | N27: 13.209251 | O27: 13.108415 | P27: -7.3280686 | Q27: 44.674179 | R27: 12.210328 | S27: -7.3908043 | T27: 22.226078 | U27: 4.5041951 | V27: -10.871352 | W27: 36.701992 | X27: 13.582383 | Y27: 6.3800502 | Z27: 31.406606 | AA27: -4.0909202 | AB27: -14.493677 | AC27: 17.646939 | AD27: 16.262866 | AE27: -1.8976173 | AF27: 37.716045 | AG27: 10.666833 | AH27: 8.4507291 | AI27: 12.629077 | AJ27: 15.378075 | AK27: 12.011027 | AL27: 18.620936 | AM27: 2.764484 | AN27: -7.0899187 | AO27: 19.582444
B28: Febrero | C28: 10.007093 | D28: -5.3427165 | E28: 37.774255 | F28: -9.5444429 | G28: -15.948714 | H28: 9.0748991 | I28: 13.477245 | J28: -7.7523546 | K28: 62.995232 | L28: 8.6320529 | M28: -0.011208946 | N28: 20.191825 | O28: 19.271803 | P28: -2.1973567 | Q28: 52.409906 | R28: 18.737067 | S28: -0.95398813 | T28: 28.673271 | U28: 12.712346 | V28: -5.4871758 | W28: 51.780617 | X28: 18.065128 | Y28: 7.7481642 | Z28: 44.898622 | AA28: 2.2474015 | AB28: -9.8345446 | AC28: 28.068661 | AD28: 25.356174 | AE28: 3.3412551 | AF28: 52.227588 | AG28: 15.97116 | AH28: 14.60307 | AI28: 17.179097 | AJ28: 19.970224 | AK28: 16.755394 | AL28: 23.070443 | AM28: 8.4385227 | AN28: -1.4957265 | AO28: 25.283554
B29: Marzo | C29: 16.489162 | D29: -0.45304922 | E29: 47.180575 | F29: 0.27135892 | G29: -8.8640585 | H29: 28.002895 | I29: 20.871855 | J29: -3.5257683 | K29: 78.3861 | L29: 12.199611 | M29: 2.1379686 | N29: 25.802677 | O29: 24.005545 | P29: 2.9122824 | Q29: 55.705543 | R29: 23.483402 | S29: 6.1383938 | T29: 31.913206 | U29: 20.096268 | V29: -0.058846176 | W29: 63.423768 | X29: 20.884873 | Y29: 8.0257789 | Z29: 55.738002 | AA29: 8.2058994 | AB29: -5.0056587 | AC29: 36.486199 | AD29: 33.20157 | AE29: 7.9664294 | AF29: 64.731084 | AG29: 19.810005 | AH29: 20.495147 | AI29: 19.210338 | AJ29: 23.084446 | AK29: 21.988745 | AL29: 24.122216 | AM29: 13.17466 | AN29: 3.7413661 | AO29: 28.999034
B30: Abril | C30: 20.87577 | D30: 3.9972141 | E30: 50.295233 | F30: 8.8660384 | G30: -1.681188 | H30: 40.456751 | I30: 25.679408 | J30: 0.10543046 | K30: 83.210836 | L30: 14.447966 | M30: 4.0220906 | N30: 28.298698 | O30: 27.000789 | P30: 8.2645204 | Q30: 53.290988 | R30: 25.104564 | S30: 11.013835 | T30: 31.674099 | U30: 24.930942 | V30: 4.8858914 | W30: 65.798609 | X30: 22.106212 | Y30: 7.4171966 | Z30: 62.854825 | AA30: 12.544699 | AB30: -0.38881775 | AC30: 39.137077 | AD30: 36.791388 | AE30: 11.874151 | AF30: 67.143526 | AG30: 20.923694 | AH30: 23.791011 | AI30: 18.44844 | AJ30: 25.307203 | AK30: 25.957154 | AL30: 24.703409 | AM30: 16.288935 | AN30: 9.0846524 | AO30: 27.862897
B31: Mayo | C31: 24.943185 | D31: 7.9055655 | E31: 53.692397 | F31: 17.534683 | G31: 4.9461401 | H31: 54.853511 | I31: 30.221212 | J31: 3.4617676 | K31: 88.042127 | L31: 16.484285 | M31: 5.5713662 | N31: 30.802863 | O31: 29.412681 | P31: 12.784167 | Q31: 51.458375 | R31: 27.539373 | S31: 14.325246 | T31: 33.551093 | U31: 28.70558 | V31: 8.7372698 | W31: 67.694674 | X31: 22.930857 | Y31: 7.2533355 | Z31: 66.776118 | AA31: 17.838879 | AB31: 4.5588628 | AC31: 44.199336 | AD31: 38.964074 | AE31: 15.283021 | AF31: 66.917806 | AG31: 22.634313 | AH31: 26.350281 | AI31: 19.433874 | AJ31: 26.528385 | AK31: 28.026218 | AL31: 25.144536 | AM31: 18.52458 | AN31: 13.553223 | AO31: 26.186075
B32: Junio | C32: 27.453573 | D32: 11.215838 | E32: 53.688647 | F32: 24.86195 | G32: 10.832226 | H32: 65.484918 | I32: 32.954719 | J32: 6.0223862 | K32: 88.215928 | L32: 17.610176 | M32: 6.9578077 | N32: 31.252015 | O32: 30.038144 | P32: 16.684184 | Q32: 46.592726 | R32: 27.532882 | S32: 16.136556 | T32: 32.586965 | U32: 30.690487 | V32: 11.937572 | W32: 65.362684 | X32: 22.425493 | Y32: 6.7319017 | Z32: 65.476379 | AA32: 22.328752 | AB32: 9.4248013 | AC32: 46.91834 | AD32: 39.537028 | AE32: 18.287171 | AF32: 63.428956 | AG32: 23.380754 | AH32: 29.9303 | AI32: 17.848643 | AJ32: 27.63364 | AK32: 30.129743 | AL32: 25.348049 | AM32: 20.120956 | AN32: 18.316882 | AO32: 22.763864
B33: Julio | C33: 28.453451 | D33: 13.851781 | E33: 50.877358 | F33: 30.790878 | G33: 16.172679 | H33: 71.552257 | I33: 34.168826 | J33: 8.1362208 | K33: 84.387516 | L33: 18.305688 | M33: 7.8885624 | N33: 31.299153 | O33: 29.380004 | P33: 19.741969 | Q33: 40.570164 | R33: 25.912684 | S33: 18.773504 | T33: 28.953082 | U33: 30.773783 | V33: 14.414953 | W33: 59.163754 | X33: 19.978014 | Y33: 5.4991554 | Z33: 57.638224 | AA33: 24.813293 | AB33: 12.887684 | AC33: 46.450265 | AD33: 38.34203 | AE33: 20.237712 | AF33: 57.722576 | AG33: 23.779268 | AH33: 33.403077 | AI33: 15.833304 | AJ33: 27.142659 | AK33: 30.771476 | AL33: 23.862394 | AM33: 20.253316 | AN33: 22.239264 | AO33: 17.461914
B34: Agosto | C34: 28.508246 | D34: 15.694506 | E34: 47.26322 | F34: 35.140913 | G34: 20.468973 | H34: 74.683764 | I34: 34.528868 | J34: 9.7096867 | K34: 79.531313 | L34: 18.407965 | M34: 8.5122214 | N34: 30.44855 | O34: 27.787846 | P34: 22.148617 | Q34: 33.937888 | R34: 23.750771 | S34: 20.114218 | T34: 25.245275 | U34: 30.124269 | V34: 15.849684 | W34: 53.57168 | X34: 17.098443 | Y34: 3.9244733 | Z34: 49.586683 | AA34: 25.8688 | AB34: 14.771327 | AC34: 45.139783 | AD34: 36.667879 | AE34: 21.840308 | AF34: 51.760064 | AG34: 23.638725 | AH34: 36.39999 | AI34: 13.359012 | AJ34: 26.172965 | AK34: 30.811227 | AL34: 22.027242 | AM34: 19.851218 | AN34: 24.088925 | AO34: 14.070073
B35: Septiembre | C35: 28.123294 | D35: 17.015757 | E35: 43.713588 | F35: 38.372589 | G35: 24.054124 | H35: 75.413881 | I35: 34.563811 | J35: 11.265485 | K35: 74.355649 | L35: 18.113694 | M35: 8.6287208 | N35: 29.419958 | O35: 25.949075 | P35: 23.576198 | Q35: 28.417138 | R35: 22.111763 | S35: 21.118311 | T35: 22.510226 | U35: 29.594032 | V35: 17.105486 | W35: 49.222364 | X35: 13.709726 | Y35: 2.1814543 | Z35: 40.520308 | AA35: 26.05972 | AB35: 15.520539 | AC35: 43.821274 | AD35: 34.729507 | AE35: 23.227287 | AF35: 45.877129 | AG35: 22.782433 | AH35: 36.50745 | AI35: 11.806511 | AJ35: 24.461694 | AK35: 30.962501 | AL35: 18.752033 | AM35: 19.286947 | AN35: 25.428341 | AO35: 11.127477
