Workbook
Name _2010: #REF!
Name _2011: #REF!
Name _2012: #REF!
Name _2013: #REF!
Name _2014: #REF!
Name _2015: #REF!
Name _2016: #REF!
Name _3.1_Total_variaciones_anuales_de_salarios_por_región: Índice!$B$14
Name _3.1_Total_variaciones_de_salarios_por_región: '3.1 V.A Salarios'!$A$8
Name _3.2_Total_variaciones_año_corrido_salarios_año_corrido: Índice!$B$15
Name _3.3_Total_variaciones_salarios_12_meses: '3.3 V.12Meses Salarios'!$A$8
Name _4.2_VAR_Trienales: Índice!#REF!
Name _fechaActualiza: #REF!
Name _fechaActualiza: #REF!
Name _fechaActualiza: #REF!
Name _fechaActualiza: #REF!
Name _fechaActualiza: #REF!
Name _fechaActualiza: #REF!
Name _fechaActualiza: #REF!
Name _fechaActualiza: #REF!
Name _fechaActualiza: #REF!
Name _fechaActualiza: #REF!
Name _fechaActualiza: #REF!
Name _fechaActualiza: #REF!
Name _fechaActualiza: #REF!
Name _fechaActualiza: #REF!
Name _fechaActualiza: #REF!
Name _fechaActualiza: #REF!
Name _fechaActualiza: #REF!
Name _FileSalida: #REF!
Name _FileSalida: #REF!
Name _FileSalida: #REF!
Name _FileSalida: #REF!
Name _FileSalida: #REF!
Name _FileSalida: #REF!
Name _FileSalida: #REF!
Name _FileSalida: #REF!
Name _FileSalida: #REF!
Name _FileSalida: #REF!
Name _FileSalida: #REF!
Name _FileSalida: #REF!
Name _FileSalida: #REF!
Name _FileSalida: #REF!
Name _FileSalida: #REF!
Name _FileSalida: #REF!
Name _FileSalida: #REF!
Name _um: #REF!
Name _um: #REF!
Name _um: #REF!
Name _um: #REF!
Name _um: #REF!
Name _um: #REF!
Name _um: #REF!
Name _um: #REF!
Name _um: #REF!
Name _um: #REF!
Name _um: #REF!
Name _um: #REF!
Name _um: #REF!
Name _um: #REF!

Sheet Índice
A3: ENCUESTA MENSUAL DE ALOJAMIENTO - EMA Agosto 2026ᵖ
A5: Temática de Servicios
A8: 1.1 | B8: Variaciones anuales de los ingresos reales
A9: 1.2 | B9: Variaciones año corrido de los ingresos reales
A10: 1.3 | B10: Variaciones 12 meses de los ingresos reales
A11: 2.1 | B11: Variaciones anuales del personal total y por categoría
A12: 2.2 | B12: Variaciones año corrido del personal total y por categoría
A13: 2.3 | B13: Variaciones 12 meses del personal total y por categoría
A14: 3.1 | B14: Variaciones anuales de los salarios reales
A15: 3.2 | B15: Variaciones año corrido de los salarios reales
A16: 3.3 | B16: Variaciones 12 meses de los salarios reales
A17: 4.1 | B17: Porcentaje de ocupación por escala de habitación
A18: 4.2 | B18: Porcentaje de ocupación mensual
A19: 4.3 | B19: Porcentaje de ocupación año corrido
... A31: 9.2 | B31: Coeficientes de variación estimado porcentual Total regional
A32: ᵖ: Cifra provisional Actualizado el 16 de octubre de 2026

Sheet 1.1 V.A Ing.real
L4: Inicio
A7: ENCUESTA MENSUAL DE ALOJAMIENTO - EMA
A9: 1.1 Variaciones anuales de los ingresos reales
A10: Total nacional y 12 regiones
A11: Enero 2020 - agosto 2026ᵖ
A13: Año | B13: Meses | C13: Total nacional | D13: Bogotá, D. C. | E13: Cartagena | F13: Central | G13: Caribe | H13: Eje Cafetero | I13: Antioquia | J13: San Andrés y Providencia | K13: Pacífico | L13: Santanderes | M13: Llanos Orinoquía | N13: Golfo Morrosquillo y Sabana | O13: Amazonía
A14: 2020 | B14: Enero | C14: 8.2597033 | D14: 4.1461737 | E14: 10.435386 | F14: 3.8402207 | G14: 11.935972 | H14: 17.277027 | I14: 10.440741 | J14: 1.9024447 | K14: 9.3417746 | L14: 13.013758 | M14: -0.30359756 | N14: 11.290652 | O14: 13.939336
B15: Febrero | C15: 10.466708 | D15: 6.9181175 | E15: 9.6225244 | F15: 6.2427469 | G15: 29.292752 | H15: 6.4131496 | I15: 14.181376 | J15: 10.424189 | K15: 7.5626006 | L15: 4.6640269 | M15: -3.9854901 | N15: 5.3558662 | O15: 5.583209
B16: Marzo | C16: -45.224366 | D16: -42.931537 | E16: -49.876296 | F16: -52.698019 | G16: -51.419937 | H16: -51.854045 | I16: -42.881486 | J16: -32.224108 | K16: -42.149961 | L16: -40.523194 | M16: -42.111602 | N16: -46.79958 | O16: -50.241951
B17: Abril | C17: -94.992609 | D17: -88.311354 | E17: -98.941402 | F17: -97.3459 | G17: -96.455385 | H17: -97.66027 | I17: -94.591778 | J17: -100 | K17: -95.287343 | L17: -93.465935 | M17: -94.958358 | N17: -98.51314 | O17: -95.553793
B18: Mayo | C18: -94.690663 | D18: -91.069859 | E18: -98.547285 | F18: -93.072227 | G18: -95.622782 | H18: -96.068577 | I18: -93.921235 | J18: -100 | K18: -93.622562 | L18: -93.066548 | M18: -92.321244 | N18: -98.10239 | O18: -95.167462
B19: Junio | C19: -92.945435 | D19: -86.700889 | E19: -98.222479 | F19: -96.315872 | G19: -94.038236 | H19: -97.044528 | I19: -90.96832 | J19: -100 | K19: -91.491983 | L19: -88.874922 | M19: -81.441244 | N19: -93.603459 | O19: -92.535065
B20: Julio | C20: -91.893936 | D20: -88.653052 | E20: -98.41146 | F20: -93.593544 | G20: -92.254628 | H20: -92.471152 | I20: -86.571791 | J20: -100 | K20: -87.690868 | L20: -84.298955 | M20: -73.012089 | N20: -88.495859 | O20: -90.887485
B21: Agosto | C21: -91.519508 | D21: -88.189672 | E21: -98.650947 | F21: -90.510208 | G21: -92.765256 | H21: -86.099874 | I21: -88.54371 | J21: -99.992703 | K21: -86.540338 | L21: -82.690815 | M21: -71.887608 | N21: -87.094503 | O21: -89.147814
B22: Septiembre | C22: -83.201945 | D22: -85.298468 | E22: -93.025059 | F22: -74.868862 | G22: -80.486685 | H22: -60.781924 | I22: -76.333773 | J22: -99.997769 | K22: -73.141548 | L22: -66.650978 | M22: -49.614658 | N22: -70.519577 | O22: -86.372203
B23: Octubre | C23: -64.62042 | D23: -78.056257 | E23: -66.745619 | F23: -43.930629 | G23: -47.209012 | H23: -31.629532 | I23: -59.387867 | J23: -87.182079 | K23: -58.990568 | L23: -49.14422 | M23: -14.087563 | N23: -51.990111 | O23: -85.249431
B24: Noviembre | C24: -58.52513 | D24: -69.279397 | E24: -65.518921 | F24: -41.503957 | G24: -44.176751 | H24: -30.770898 | I24: -54.15455 | J24: -76.115859 | K24: -47.265661 | L24: -39.128458 | M24: -17.853408 | N24: -33.430884 | O24: -81.663434
B25: Diciembre | C25: -49.210413 | D25: -61.3674 | E25: -57.744202 | F25: -32.386539 | G25: -33.654236 | H25: -23.927143 | I25: -44.06187 | J25: -59.861954 | K25: -44.4446 | L25: -36.278678 | M25: -20.439927 | N25: -23.29827 | O25: -79.003701
A26: 2021 | B26: Enero | C26: -45.63107 | D26: -67.120622 | E26: -50.675983 | F26: -33.503713 | G26: -19.987423 | H26: -31.415671 | I26: -46.967551 | J26: -49.320007 | K26: -49.349177 | L26: -26.936172 | M26: -18.304446 | N26: -19.629106 | O26: -70.801847
B27: Febrero | C27: -52.237015 | D27: -70.516092 | E27: -60.941559 | F27: -26.294812 | G27: -35.634633 | H27: -27.959966 | I27: -47.512491 | J27: -44.452965 | K27: -48.181735 | L27: -29.007899 | M27: -18.981262 | N27: -10.455199 | O27: -77.813801
B28: Marzo | C28: 14.987629 | D28: -34.816903 | E28: 18.362192 | F28: 114.82226 | G28: 58.954767 | H28: 84.868615 | I28: 19.51917 | J28: 4.7572936 | K28: 24.979728 | L28: 47.482545 | M28: 64.738131 | N28: 72.774889 | O28: -49.699243
B29: Abril | C29: 1001.3294 | D29: 185.49313 | E29: 5550.7855 | F29: 2526.2643 | G29: 1440.011 | H29: 3116.2162 | I29: 859.53295 | J29: - | K29: 1316.0423 | L29: 1092.9945 | M29: 1376.723 | N29: 4712.1939 | O29: 430.22793
B30: Mayo | C30: 816.71485 | D30: 228.51608 | E30: 3453.3624 | F30: 839.25605 | G30: 1489.1371 | H30: 1025.375 | I30: 739.45384 | J30: - | K30: 504.32238 | L30: 874.95341 | M30: 800.87442 | N30: 3594.5239 | O30: 314.58067
B31: Junio | C31: 873.80879 | D31: 206.42671 | E31: 4447.1262 | F31: 2028.038 | G31: 1519.6119 | H31: 2374.9697 | I31: 616.33977 | J31: - | K31: 541.22041 | L31: 566.53853 | M31: 532.76088 | N31: 1275.795 | O31: 252.08288
B32: Julio | C32: 888.63954 | D32: 289.43019 | E32: 5644.6571 | F32: 1469.5531 | G32: 1321.7703 | H32: 1222.2118 | I32: 500.65797 | J32: - | K32: 483.24652 | L32: 475.69546 | M32: 379.43036 | N32: 880.81863 | O32: 318.78266
B33: Agosto | C33: 826.51612 | D33: 315.72586 | E33: 6234.4442 | F33: 907.33197 | G33: 1275.2712 | H33: 536.59049 | I33: 581.22927 | J33: * | K33: 481.66932 | L33: 435.42597 | M33: 368.29154 | N33: 735.78348 | O33: 432.82194
B34: Septiembre | C34: 392.73397 | D34: 257.65387 | E34: 1246.6095 | F34: 310.38406 | G34: 443.31513 | H34: 166.19494 | I34: 265.33787 | J34: * | K34: 217.68287 | L34: 188.6674 | M34: 145.34615 | N34: 264.701 | O34: 314.84657
B35: Octubre | C35: 173.95844 | D35: 179.60344 | E35: 234.45396 | F35: 117.20735 | G35: 170.32639 | H35: 68.836453 | I35: 147.12768 | J35: 662.95363 | K35: 115.01056 | L35: 117.4761 | M35: 54.992986 | N35: 139.64101 | O35: 354.68383
B36: Noviembre | C36: 132.14787 | D36: 127.62322 | E36: 202.41419 | F36: 72.115261 | G36: 112.63862 | H36: 55.449844 | I36: 121.90765 | J36: 323.43631 | K36: 108.27034 | L36: 74.782636 | M36: 52.190821 | N36: 95.874224 | O36: 301.34132
B37: Diciembre | C37: 102.89509 | D37: 95.232383 | E37: 163.39863 | F37: 62.085883 | G37: 80.169149 | H37: 55.204167 | I37: 95.674176 | J37: 148.52618 | K37: 93.026454 | L37: 78.189739 | M37: 43.472174 | N37: 78.080978 | O37: 284.65644
A38: 2022 | B38: Enero | C38: 79.764096 | D38: 97.015328 | E38: 109.81857 | F38: 61.795559 | G38: 47.479183 | H38: 45.147079 | I38: 92.416544 | J38: 102.07787 | K38: 67.792068 | L38: 51.59347 | M38: 39.505276 | N38: 50.616838 | O38: 149.34764
B39: Febrero | C39: 85.392327 | D39: 120.4622 | E39: 147.03643 | F39: 38.742098 | G39: 51.982596 | H39: 41.29432 | I39: 82.305302 | J39: 75.417589 | K39: 60.366528 | L39: 42.931334 | M39: 24.271361 | N39: 28.050761 | O39: 284.09106
B40: Marzo | C40: 68.804305 | D40: 139.46511 | E40: 92.904757 | F40: 6.802379 | G40: 56.98634 | H40: 23.650867 | I40: 69.412635 | J40: 45.774959 | K40: 38.914005 | L40: 33.375852 | M40: 8.6370282 | N40: 22.851626 | O40: 328.76079
B41: Abril | C41: 109.41139 | D41: 152.02888 | E41: 125.6119 | F41: 75.412511 | G41: 161.56026 | H41: 75.574233 | I41: 151.89537 | J41: 43.182737 | K41: 55.557471 | L41: 52.19909 | M41: 51.886129 | N41: 91.686063 | O41: 360.28477
B42: Mayo | C42: 113.43087 | D42: 171.9583 | E42: 143.86269 | F42: 71.391241 | G42: 89.949891 | H42: 160.1098 | I42: 121.76887 | J42: 29.282043 | K42: 139.01206 | L42: 72.513765 | M42: 50.827219 | N42: 47.82459 | O42: 416.52136
B43: Junio | C43: 57.600283 | D43: 115.37142 | E43: 73.982818 | F43: 26.236991 | G43: 31.014327 | H43: 47.320527 | I43: 74.816725 | J43: 6.7693774 | K43: 60.710612 | L43: 45.363096 | M43: 22.386599 | N43: 34.491591 | O43: 286.23112
B44: Julio | C44: 46.358962 | D44: 94.515789 | E44: 58.41376 | F44: 24.445647 | G44: 27.962263 | H44: 39.779813 | I44: 49.684977 | J44: 2.061225 | K44: 59.659924 | L44: 34.658835 | M44: 21.091465 | N44: 27.571143 | O44: 120.16724
B45: Agosto | C45: 36.545684 | D45: 71.78733 | E45: 52.525218 | F45: 8.517734 | G45: 17.861511 | H45: 31.284736 | I45: 47.139081 | J45: -3.1474402 | K45: 35.472861 | L45: 15.059601 | M45: 14.27145 | N45: 25.028131 | O45: 52.216582
B46: Septiembre | C46: 31.27843 | D46: 70.428933 | E46: 48.739873 | F46: 5.0774058 | G46: 10.679367 | H46: 18.52476 | I46: 31.545399 | J46: -1.5683666 | K46: 16.018201 | L46: 7.4892983 | M46: 6.9064708 | N46: 16.969169 | O46: 45.381567
B47: Octubre | C47: 15.437077 | D47: 58.722944 | E47: 15.903149 | F47: -6.7520961 | G47: -8.3176224 | H47: 4.3067277 | I47: 26.523493 | J47: -12.361956 | K47: 16.889179 | L47: -1.565935 | M47: 1.542283 | N47: 4.769652 | O47: 34.561123
...

Sheet 1.2 V.A.C Ing.real
L4: Inicio
A7: ENCUESTA MENSUAL DE ALOJAMIENTO - EMA
A9: 1.2 Variaciones año corrido de los ingresos reales
A10: Total nacional y 12 regiones
A11: Enero 2020 - agosto 2026ᵖ
A13: Año | B13: Meses | C13: Total nacional | D13: Bogotá, D. C. | E13: Cartagena | F13: Central | G13: Caribe | H13: Eje Cafetero | I13: Antioquia | J13: San Andrés y Providencia | K13: Pacífico | L13: Santanderes | M13: Llanos Orinoquía | N13: Golfo Morrosquillo y Sabana | O13: Amazonía
A14: 2020 | B14: Enero | C14: 8.2597033 | D14: 4.1461737 | E14: 10.435386 | F14: 3.8402207 | G14: 11.935972 | H14: 17.277027 | I14: 10.440741 | J14: 1.9024447 | K14: 9.3417746 | L14: 13.013758 | M14: -0.30359756 | N14: 11.290652 | O14: 13.939336
B15: Febrero | C15: 9.3118569 | D15: 5.7297639 | E15: 10.065934 | F15: 4.7753594 | G15: 19.244872 | H15: 12.989189 | I15: 12.259207 | J15: 5.6603985 | K15: 8.4175018 | L15: 8.7832884 | M15: -1.958833 | N15: 8.689924 | O15: 10.361868
B16: Marzo | C16: -9.4407134 | D16: -12.778853 | E16: -9.6006242 | F16: -12.442493 | G16: -5.6892461 | H16: -7.1066814 | I16: -6.7493797 | J16: -6.5067107 | K16: -9.5317997 | L16: -8.5652701 | M16: -15.384345 | N16: -10.036244 | O16: -7.5331662
B17: Abril | C17: -30.050036 | D17: -32.033573 | E17: -29.309804 | F17: -33.579826 | G17: -27.33557 | H17: -29.08668 | I17: -27.712971 | J17: -28.509035 | K17: -31.304044 | L17: -31.129608 | M17: -36.38728 | N17: -31.85613 | O17: -28.519684
B18: Mayo | C18: -42.944135 | D18: -46.151395 | E18: -41.15142 | F18: -43.962151 | G18: -39.228096 | H18: -41.286881 | I18: -41.489295 | J18: -42.015027 | K18: -45.343925 | L18: -43.932423 | M18: -46.469559 | N18: -44.596745 | O18: -41.875343
B19: Junio | C19: -51.320553 | D19: -53.055633 | E19: -49.111336 | F19: -54.581523 | G19: -48.593498 | H19: -51.405463 | I19: -50.203124 | J19: -52.017432 | K19: -53.695969 | L19: -52.388675 | M19: -51.119737 | N19: -53.323545 | O19: -51.27248
B20: Julio | C20: -57.482038 | D20: -58.559808 | E20: -55.96245 | F20: -60.803178 | G20: -55.25877 | H20: -57.647814 | I20: -56.199808 | J20: -59.213782 | K20: -59.100793 | L20: -57.312602 | M20: -53.803462 | N20: -58.581419 | O20: -59.056619
B21: Agosto | C21: -62.203987 | D21: -62.700033 | E21: -61.634274 | F21: -64.778996 | G21: -60.611837 | H21: -61.614896 | I21: -61.074478 | J21: -64.546983 | K21: -63.187963 | L21: -60.977535 | M21: -55.749402 | N21: -62.360197 | O21: -63.600603
B22: Septiembre | C22: -64.6426 | D22: -65.631628 | E22: -64.857411 | F22: -65.84807 | G22: -62.841604 | H22: -61.53058 | I22: -62.902628 | J22: -68.566873 | K22: -64.439617 | L22: -61.693773 | M22: -55.089619 | N22: -63.267081 | O22: -66.481875
B23: Octubre | C23: -64.640269 | D23: -67.057532 | E23: -65.0346 | F23: -63.42375 | G23: -61.319322 | H23: -58.404745 | I23: -62.544522 | J23: -70.484252 | K23: -63.830267 | L23: -60.266386 | M23: -50.816351 | N23: -62.01026 | O23: -68.71777
B24: Noviembre | C24: -64.025123 | D24: -67.293481 | E24: -65.082217 | F24: -61.116904 | G24: -59.611598 | H24: -55.786449 | I24: -61.723384 | J24: -71.008069 | K24: -62.150691 | L24: -58.074804 | M24: -47.548219 | N24: -59.302487 | O24: -70.054592
B25: Diciembre | C25: -62.618959 | D25: -66.810266 | E25: -64.31366 | F25: -58.083242 | G25: -56.918899 | H25: -52.630856 | I25: -60.117003 | J25: -69.963031 | K25: -60.492024 | L25: -55.935039 | M25: -44.618819 | N25: -55.960983 | O25: -70.945247
A26: 2021 | B26: Enero | C26: -45.63107 | D26: -67.120622 | E26: -50.675983 | F26: -33.503713 | G26: -19.987423 | H26: -31.415671 | I26: -46.967551 | J26: -49.320007 | K26: -49.349177 | L26: -26.936172 | M26: -18.304446 | N26: -19.629106 | O26: -70.801847
B27: Febrero | C27: -48.813619 | D27: -69.08223 | E27: -55.322979 | F27: -30.658485 | G27: -27.131634 | H27: -30.131128 | I27: -47.237003 | J27: -47.076952 | K27: -48.747478 | L27: -27.946085 | M27: -18.602426 | N27: -15.732256 | O27: -73.673855
B28: Marzo | C28: -35.543973 | D28: -60.554774 | E28: -41.918397 | F28: -7.1132125 | G28: -11.484952 | H28: -11.659109 | I28: -33.141058 | J28: -35.008895 | K28: -32.013012 | L28: -10.682458 | M28: 0.46150864 | N28: 1.9307196 | O28: -69.864412
B29: Abril | C29: -17.6633 | D29: -49.76797 | E29: -23.442209 | F29: 18.089206 | G29: 5.4009146 | H29: 13.39099 | I29: -17.202518 | J29: -11.660917 | K29: -8.5338072 | L29: 17.146979 | M29: 29.25125 | N29: 27.276811 | O29: -62.447736
B30: Mayo | C30: -2.1755497 | D30: -38.731737 | E30: -8.7632759 | F30: 35.805656 | G30: 24.012645 | H30: 25.733337 | I30: -0.84566068 | J30: 11.835549 | K30: 4.9480508 | L30: 39.074157 | M30: 49.202883 | N30: 50.774979 | O30: -56.166161
B31: Junio | C31: 19.091046 | D31: -26.906326 | E31: 12.944772 | F31: 68.584488 | G31: 53.64987 | H31: 51.662077 | I31: 18.868124 | J31: 42.657921 | K31: 22.781456 | L31: 62.264469 | M31: 73.615646 | N31: 80.669387 | O31: -47.406522
B32: Julio | C32: 44.266399 | D32: -13.513248 | E32: 41.175927 | F32: 105.10214 | G32: 87.163214 | H32: 83.292985 | I32: 43.222865 | J32: 77.680307 | K32: 44.814627 | L32: 85.729058 | M32: 95.516641 | N32: 113.89241 | O32: -31.392113
B33: Agosto | C33: 68.615585 | D33: 1.053384 | E33: 70.11053 | F33: 134.03032 | G33: 118.30974 | H33: 106.1804 | I33: 67.087225 | J33: 112.26845 | K33: 68.606416 | L33: 108.12961 | M33: 114.16388 | N33: 142.1509 | O33: -10.492478
B34: Septiembre | C34: 86.498904 | D34: 15.292623 | E34: 94.086428 | F34: 147.78036 | G34: 137.45761 | H34: 112.37352 | I34: 82.239506 | J34: 145.35422 | K34: 82.765275 | L34: 116.98125 | M34: 117.92633 | N34: 153.08257 | O34: 6.2443376
B35: Octubre | C35: 95.693473 | D35: 27.853719 | E35: 106.61393 | F35: 142.59636 | G35: 141.82592 | H35: 104.89245 | I35: 89.407906 | J35: 168.50671 | K35: 86.853649 | L35: 117.05329 | M35: 106.46934 | N35: 151.18938 | O35: 25.818453
B36: Noviembre | C36: 99.921205 | D36: 37.805344 | E36: 115.91492 | F36: 131.43749 | G36: 137.80714 | H36: 97.557248 | I36: 93.217673 | J36: 180.37845 | K36: 89.879215 | L36: 110.69012 | M36: 98.041213 | N36: 142.61686 | O36: 43.240324
B37: Diciembre | C37: 100.30473 | D37: 43.255883 | E37: 121.80372 | F37: 119.62536 | G37: 128.5992 | H37: 90.820289 | I37: 93.531043 | J37: 176.38775 | K37: 90.293794 | L37: 106.07624 | M37: 89.569803 | N37: 132.1851 | O37: 60.603183
A38: 2022 | B38: Enero | C38: 79.764096 | D38: 97.015328 | E38: 109.81857 | F38: 61.795559 | G38: 47.479183 | H38: 45.147079 | I38: 92.416544 | J38: 102.07787 | K38: 67.792068 | L38: 51.59347 | M38: 39.505276 | N38: 50.616838 | O38: 149.34764
B39: Febrero | C39: 82.294262 | D39: 109.9327 | E39: 124.5475 | F39: 52.124169 | G39: 49.295419 | H39: 43.670442 | I39: 87.443021 | J39: 89.181852 | K39: 63.922707 | L39: 47.433131 | M39: 32.829487 | N39: 40.431056 | O39: 195.858
B40: Marzo | C40: 77.288983 | D40: 122.07788 | E40: 112.81686 | F40: 35.160078 | G40: 51.805701 | H40: 36.941082 | I40: 80.637116 | J40: 72.892282 | K40: 53.487789 | L40: 42.120606 | M40: 23.754822 | N40: 34.484495 | O40: 231.10636
B41: Abril | C41: 84.6985 | D41: 129.54064 | E41: 115.93684 | F41: 44.065667 | G41: 70.461316 | H41: 45.716884 | I41: 95.381735 | J41: 65.040064 | K41: 54.045867 | L41: 44.708611 | M41: 30.478254 | N41: 46.122207 | O41: 258.15687
B42: Mayo | C42: 89.696357 | D42: 138.56051 | E42: 120.52872 | F42: 48.143043 | G42: 73.59392 | H42: 58.204228 | I42: 100.21097 | J42: 57.527362 | K42: 66.907456 | L42: 49.691213 | M42: 33.655146 | N42: 46.396988 | O42: 283.11154
B43: Junio | C43: 83.324762 | D43: 133.8713 | E43: 111.39939 | F43: 43.593379 | G43: 64.699809 | H43: 56.243921 | I43: 95.322835 | J43: 46.560698 | K43: 65.831253 | L43: 48.909559 | M43: 31.581727 | N43: 44.184608 | O43: 283.705
B44: Julio | C44: 75.99053 | D44: 126.36862 | E44: 100.59128 | F44: 39.773957 | G44: 57.324565 | H44: 53.034585 | I44: 85.6475 | J44: 37.789452 | K44: 64.641933 | L44: 46.402527 | M44: 29.739541 | N44: 41.021444 | O44: 240.04959
B45: Agosto | C45: 69.243936 | D45: 116.43408 | E45: 92.229217 | F45: 34.922645 | G45: 50.807386 | H45: 49.643938 | I45: 78.68335 | J45: 31.118055 | K45: 59.161501 | L45: 41.237507 | M45: 27.427386 | N45: 38.513136 | O45: 189.7094
B46: Septiembre | C46: 63.709545 | D46: 108.51459 | E46: 86.080101 | F46: 31.068589 | G46: 45.39806 | H46: 45.618808 | I46: 71.460872 | J46: 26.710097 | K46: 52.038998 | L46: 36.302925 | M46: 24.639796 | N46: 35.743816 | O46: 160.71805
B47: Octubre | C47: 56.605068 | D47: 100.1903 | E47: 75.941706 | F47: 25.326812 | G47: 37.41781 | H47: 39.769268 | I47: 64.983666 | J47: 21.744024 | K47: 46.910789 | L47: 30.779313 | M47: 21.483255 | N47: 31.58179 | O47: 135.10678
...

Sheet 1.3 V.12Meses Ing.real
L4: Inicio
A7: ENCUESTA MENSUAL DE ALOJAMIENTO - EMA
A9: 1.3 Variaciones 12 meses de los ingresos reales
A10: Total nacional y 12 regiones
A11: Diciembre 2020 - agosto 2026ᵖ
A13: Año | B13: Meses | C13: Total nacional | D13: Bogotá, D. C. | E13: Cartagena | F13: Central | G13: Caribe | H13: Eje Cafetero | I13: Antioquia | J13: San Andrés y Providencia | K13: Pacífico | L13: Santanderes | M13: Llanos Orinoquía | N13: Golfo Morrosquillo y Sabana | O13: Amazonía
A14: 2020 | B14: Diciembre | C14: -62.618959 | D14: -66.810266 | E14: -64.31366 | F14: -58.083242 | G14: -56.918899 | H14: -52.630856 | I14: -60.117003 | J14: -69.963031 | K14: -60.492024 | L14: -55.935039 | M14: -44.618819 | N14: -55.960983 | O14: -70.945247
A15: 2021 | B15: Enero | C15: -66.878201 | D15: -70.897089 | E15: -70.213066 | F15: -61.635207 | G15: -59.416481 | H15: -57.119561 | I15: -64.392208 | J15: -74.735684 | K15: -64.297199 | L15: -58.390548 | M15: -46.362443 | N15: -58.326091 | O15: -78.039071
B16: Febrero | C16: -71.365949 | D16: -76.780277 | E16: -75.905574 | F16: -63.514122 | G16: -63.170876 | H16: -59.223516 | I16: -68.629035 | J16: -78.537249 | K16: -68.167301 | L16: -60.634958 | M16: -47.633479 | N16: -59.234074 | O16: -83.247727
B17: Marzo | C17: -69.594966 | D17: -77.618174 | E17: -73.957515 | F17: -58.321901 | G17: -59.000678 | H17: -54.475228 | I17: -66.661669 | J17: -77.716756 | K17: -66.003468 | L17: -57.242566 | M17: -42.175325 | N17: -54.451184 | O17: -84.276596
B18: Abril | C18: -63.007384 | D18: -74.235603 | E18: -66.694237 | F18: -49.222253 | G18: -51.381756 | H18: -44.399863 | I18: -60.569332 | J18: -69.882045 | K18: -58.439233 | L18: -47.745614 | M18: -28.691474 | N18: -44.432718 | O18: -81.836799
B19: Mayo | C19: -55.646936 | D19: -69.375993 | E19: -59.451513 | F19: -41.112464 | G19: -42.44089 | H19: -36.413639 | I19: -52.902082 | J19: -60.605071 | K19: -51.303959 | L19: -37.838121 | M19: -16.138899 | N19: -33.174586 | O19: -79.209633
B20: Junio | C20: -44.96222 | D20: -63.781596 | E20: -48.750389 | F20: -24.58141 | G20: -27.388541 | H20: -21.202302 | I20: -42.531315 | J20: -46.68215 | K20: -41.499192 | L20: -24.62336 | M20: -1.0892096 | N20: -16.681602 | O20: -75.38709
B21: Julio | C21: -29.80421 | D21: -55.76283 | E21: -32.489106 | F21: -2.8017988 | G21: -6.7248675 | H21: -0.20761775 | I21: -27.153102 | J21: -27.603274 | K21: -27.598191 | L21: -8.1410712 | M21: 16.653558 | N21: 5.2825207 | O21: -67.64651
B22: Agosto | C22: -9.7868249 | D22: -44.589232 | E22: -10.416108 | F22: 22.420773 | G22: 20.414304 | H22: 24.458292 | I22: -5.9500418 | J22: -3.0297698 | K22: -7.5970476 | L22: 13.982405 | M22: 36.832677 | N22: 32.223864 | O22: -55.887173
B23: Septiembre | C23: 12.765739 | D23: -29.243102 | E23: 13.918905 | F23: 46.501837 | G23: 48.056148 | H23: 43.365477 | I23: 16.177293 | J23: 28.873006 | K23: 13.879303 | L23: 36.491931 | M23: 54.934561 | N23: 58.028527 | O23: -42.056237
B24: Octubre | C24: 37.030461 | D24: -9.4070241 | E24: 38.478119 | F24: 69.884618 | G24: 72.916347 | H24: 58.411418 | I24: 38.262472 | J24: 68.587939 | K24: 35.567853 | L24: 59.227273 | M24: 64.710414 | N24: 85.855318 | O24: -20.072852
B25: Noviembre | C25: 66.260233 | D25: 16.632755 | E25: 72.333387 | F25: 93.282096 | G25: 99.615658 | H25: 73.365487 | I25: 64.769458 | J25: 117.19534 | K25: 61.065993 | L25: 80.395663 | M25: 75.809202 | N25: 109.288 | O25: 10.285103
B26: Diciembre | C26: 100.30473 | D26: 43.255883 | E26: 121.80372 | F26: 119.62536 | G26: 128.5992 | H26: 90.820289 | I26: 93.531043 | J26: 176.38775 | K26: 90.293794 | L26: 106.07624 | M26: 89.569803 | N26: 132.1851 | O26: 60.603183
A27: 2022 | B27: Enero | C27: 136.04973 | D27: 69.529166 | E27: 182.84084 | F27: 149.91305 | G27: 149.54947 | H27: 115.60685 | I27: 126.63805 | J27: 247.60523 | K27: 116.21778 | L27: 123.25926 | M27: 101.57451 | N27: 152.50022 | O27: 128.94497
B28: Febrero | C28: 182.49217 | D28: 123.79522 | E28: 268.26383 | F28: 166.91738 | G28: 177.37955 | H28: 130.81564 | I28: 165.87439 | J28: 321.88141 | K28: 148.70524 | L28: 140.85423 | M28: 109.96595 | N28: 161.626 | O28: 223.89668
B29: Marzo | C29: 188.03768 | D29: 160.22504 | E29: 275.74505 | F29: 143.52989 | G29: 169.80363 | H29: 118.49191 | I29: 170.13065 | J29: 328.74331 | K29: 146.92271 | L29: 133.89859 | M29: 98.795001 | N29: 147.03869 | O29: 289.03333
B30: Abril | C30: 169.08904 | D30: 158.42312 | E30: 238.16771 | F30: 125.09332 | G30: 161.23654 | H30: 102.67681 | I30: 160.87309 | J30: 252.42333 | K30: 124.5483 | L30: 113.28093 | M30: 83.683228 | N30: 130.17834 | O30: 293.17081
B31: Mayo | C31: 156.07507 | D31: 157.5953 | E31: 217.63725 | F31: 114.06321 | G31: 146.25411 | H31: 101.22087 | I31: 149.927 | J31: 198.7451 | K31: 120.70428 | L31: 101.56116 | M31: 74.53747 | N31: 113.22786 | O31: 302.38078
B32: Junio | C32: 133.75238 | D32: 150.81628 | E32: 184.03747 | F32: 90.820797 | G32: 118.58768 | H32: 85.61533 | I32: 133.30821 | J32: 146.50522 | K32: 108.03118 | L32: 87.716356 | M32: 61.223273 | N32: 93.501808 | O32: 302.18086
B33: Julio | C33: 110.64061 | D33: 139.48346 | E33: 149.41507 | F33: 69.7278 | G33: 93.3439 | H33: 68.874751 | I33: 112.23472 | J33: 105.20608 | K33: 94.008237 | L33: 73.583773 | M33: 49.220101 | N33: 73.842996 | O33: 269.15793
B34: Agosto | C34: 90.996494 | D34: 125.19826 | E34: 122.45703 | F34: 53.394705 | G34: 73.097142 | H34: 56.740265 | I34: 94.257371 | J34: 75.409973 | K34: 77.368314 | L34: 58.593698 | M34: 38.540399 | N34: 58.769773 | O34: 218.80495
B35: Septiembre | C35: 76.799323 | D35: 112.90223 | E35: 103.93515 | F35: 42.309472 | G35: 59.008331 | H35: 48.984197 | I35: 80.854432 | J35: 54.113861 | K35: 63.898209 | L35: 47.601448 | M35: 30.847527 | N35: 48.697327 | O35: 186.05897
B36: Octubre | C36: 64.435764 | D36: 101.82529 | E36: 87.661367 | F36: 31.543403 | G36: 45.078199 | H36: 42.288363 | I36: 70.749888 | J36: 37.03648 | K36: 55.166004 | L36: 37.478214 | M36: 25.711989 | N36: 39.244223 | O36: 151.85787
B37: Noviembre | C37: 53.849485 | D37: 89.763155 | E37: 72.653185 | F37: 25.042168 | G37: 36.178658 | H37: 37.703069 | I37: 62.240941 | J37: 23.818107 | K37: 41.622098 | L37: 30.82161 | M37: 20.762717 | N37: 30.293614 | O37: 125.30661
B38: Diciembre | C38: 44.315194 | D38: 79.969833 | E38: 58.064712 | F38: 19.03091 | G38: 28.542073 | H38: 31.886349 | I38: 53.904597 | J38: 14.036614 | K38: 32.041688 | L38: 23.56015 | M38: 16.401166 | N38: 22.243419 | O38: 97.577746
A39: 2023p | B39: Enero | C39: 38.258893 | D39: 76.521737 | E39: 48.989149 | F39: 13.207551 | G39: 23.353595 | H39: 26.398059 | I39: 47.724721 | J39: 6.0140558 | K39: 28.802159 | L39: 19.142877 | M39: 12.45693 | N39: 17.035953 | O39: 84.709605
B40: Febrero | C40: 33.983252 | D40: 70.725591 | E40: 42.501023 | F40: 11.08668 | G40: 21.75453 | H40: 24.176513 | I40: 42.879133 | J40: 0.15128419 | K40: 24.827676 | L40: 16.060784 | M40: 11.215087 | N40: 14.392483 | O40: 72.462822
B41: Marzo | C41: 28.71807 | D41: 60.53954 | E41: 36.084748 | F41: 10.503222 | G41: 16.698416 | H41: 22.184046 | I41: 37.594836 | J41: -5.4845305 | K41: 21.386989 | L41: 12.505524 | M41: 10.098467 | N41: 12.042505 | O41: 56.760389
B42: Abril | C42: 21.337226 | D42: 51.327049 | E42: 27.726094 | F42: 5.472688 | G42: 8.3063718 | H42: 15.292448 | I42: 29.0555 | J42: -11.245703 | K42: 16.593415 | L42: 7.4412743 | M42: 5.246858 | N42: 5.4249758 | O42: 43.061637
B43: Mayo | C43: 15.623021 | D43: 40.993994 | E43: 21.355271 | F43: 2.7677152 | G43: 3.8344585 | H43: 9.0648562 | I43: 23.562627 | J43: -15.007299 | K43: 10.494759 | L43: 2.9962411 | M43: 3.7768751 | N43: 3.0211014 | O43: 30.41462
B44: Junio | C44: 11.681547 | D44: 34.579315 | E44: 16.944677 | F44: 0.71628131 | G44: 0.70569717 | H44: 5.6585181 | I44: 18.817748 | J44: -17.831528 | K44: 7.126074 | L44: -0.81466279 | M44: 2.150124 | N44: 0.13955522 | O44: 19.515152
B45: Julio | C45: 7.3799418 | D45: 27.838712 | E45: 12.173521 | F45: -1.8236179 | G45: -2.7895587 | H45: 1.6714032 | I45: 14.706237 | J45: -19.868872 | K45: 0.663467 | L45: -4.7086822 | M45: -1.1831465 | N45: -4.3615644 | O45: 13.088803
B46: Agosto | C46: 4.1427631 | D46: 22.930897 | E46: 8.0391927 | F46: -2.2441742 | G46: -4.800556 | H46: -1.020465 | I46: 10.557352 | J46: -21.494149 | K46: -4.3069913 | L46: -6.8667287 | M46: -4.5477132 | N46: -7.3566896 | O46: 9.6171392
B47: Septiembre | C47: 0.96552517 | D47: 16.73303 | E47: 3.8002047 | F47: -2.7374042 | G47: -5.8490556 | H47: -2.8998535 | I47: 7.3978856 | J47: -24.380547 | K47: -6.8825767 | L47: -7.783308 | M47: -6.6884982 | N47: -9.9875231 | O47: 6.8563741
...

Sheet 2.1 V.A Per.categ
L4: Inicio
A6: ENCUESTA MENSUAL DE ALOJAMIENTO - EMA
A8: 2.1 Variaciones anuales del personal total y por categoría
A9: Total nacional y 12 regiones
A10: ='1.1 V.A Ing.real'!A11 -> Enero 2020 - agosto 2026ᵖ
A12: Año | B12: Meses | C12: Total nacional | F12: Bogotá, D. C. | I12: Cartagena | L12: Central | O12: Caribe | R12: Eje Cafetero | U12: Antioquia | X12: San Andrés y Providencia | AA12: Pacífico | AD12: Santanderes | AG12: Llanos Orinoquía | AJ12: Golfo Morrosquillo y Sabana | AM12: Amazonía
C13: Total del personal | D13: Personal permanente | E13: Resto de personal1 | F13: Total del personal | G13: Personal permanente | H13: Resto de personal1 | I13: Total del personal | J13: Personal permanente | K13: Resto de personal1 | L13: Total del personal | M13: Personal permanente | N13: Resto de personal1 | O13: Total del personal | P13: Personal permanente | Q13: Resto de personal1 | R13: Total del personal | S13: Personal permanente | T13: Resto de personal1 | U13: Total del personal | V13: Personal permanente | W13: Resto de personal1 | X13: Total del personal | Y13: Personal permanente | Z13: Resto de personal1 | AA13: Total del personal | AB13: Personal permanente | AC13: Resto de personal1 | AD13: Total del personal | AE13: Personal permanente | AF13: Resto de personal1 | AG13: Total del personal | AH13: Personal permanente | AI13: Resto de personal1 | AJ13: Total del personal | AK13: Personal permanente | AL13: Resto de personal1 | AM13: Total del personal | AN13: Personal permanente | AO13: Resto de personal1
A14: 2020 | B14: Enero | C14: 2.1753621 | D14: 1.0528688 | E14: 3.6576573 | F14: 1.3476145 | G14: 2.2650545 | H14: -0.44416244 | I14: 3.9930471 | J14: 2.2090602 | K14: 6.4614258 | L14: 1.6286857 | M14: 4.0744566 | N14: -0.70868107 | O14: 4.7674563 | P14: -0.94763238 | Q14: 12.224642 | R14: 4.1703674 | S14: 8.2823025 | T14: 2.362939 | U14: 3.8327482 | V14: 0.90153469 | W14: 8.4332521 | X14: -6.8581622 | Y14: -0.92100287 | Z14: -15.238006 | AA14: 1.9267154 | AB14: -0.097443393 | AC14: 5.1582266 | AD14: 2.7836219 | AE14: -1.0038205 | AF14: 6.2809117 | AG14: -8.2130078 | AH14: -14.400871 | AI14: -2.4307818 | AJ14: 8.3571272 | AK14: -3.5000699 | AL14: 21.408797 | AM14: 0.96618357 | AN14: 11.260054 | AO14: -11.146162
B15: Febrero | C15: 2.4015149 | D15: 0.29471804 | E15: 5.3225802 | F15: 2.044 | G15: 1.4240517 | H15: 3.2363325 | I15: 4.1387457 | J15: 2.3209316 | K15: 6.8077568 | L15: 2.1870988 | M15: 4.3693347 | N15: -0.018698692 | O15: 2.7718323 | P15: -3.333541 | Q15: 11.226286 | R15: 6.6262601 | S15: 4.8020127 | T15: 7.4917485 | U15: 3.674772 | V15: -2.8959359 | W15: 15.692727 | X15: -4.2476602 | Y15: -0.15185351 | Z15: -10.315622 | AA15: 2.0165543 | AB15: 1.3387302 | AC15: 3.0764189 | AD15: 4.0441651 | AE15: 0.65197499 | AF15: 7.21907 | AG15: -8.1596492 | AH15: -12.222374 | AI15: -4.2927546 | AJ15: 3.7019494 | AK15: -3.5271754 | AL15: 11.456839 | AM15: 2.6666667 | AN15: 13.388735 | AO15: -9.6602972
B16: Marzo | C16: -6.6820855 | D16: -2.9127443 | E16: -11.780878 | F16: -6.257584 | G16: -1.7847118 | H16: -14.59523 | I16: -6.159635 | J16: 1.9250636 | K16: -17.562463 | L16: -5.7614015 | M16: -0.10178239 | N16: -11.371311 | O16: -6.7471244 | P16: -6.3018544 | Q16: -7.3527447 | R16: -6.7589385 | S16: 1.4760228 | T16: -10.728591 | U16: -6.1121867 | V16: -5.9789435 | W16: -6.3422921 | X16: -11.966506 | Y16: -6.7209412 | Z16: -19.388013 | AA16: -6.2003504 | AB16: -1.6040276 | AC16: -13.210842 | AD16: -4.4640073 | AE16: -8.7393365 | AF16: -0.45825932 | AG16: -12.079414 | AH16: -16.314396 | AI16: -8.0627396 | AJ16: -5.0819136 | AK16: -4.3101016 | AL16: -5.9012956 | AM16: -5.0756467 | AN16: 3.240324 | AO16: -14.925373
B17: Abril | C17: -24.592592 | D17: -11.074891 | E17: -42.880125 | F17: -24.642457 | G17: -12.962374 | H17: -47.007496 | I17: -24.957286 | J17: -6.6133298 | K17: -51.530412 | L17: -21.722348 | M17: -6.9380673 | N17: -36.284894 | O17: -24.666247 | P17: -8.3551536 | Q17: -46.104866 | R17: -29.465395 | S17: -20.548965 | T17: -33.673923 | U17: -26.473937 | V17: -13.651547 | W17: -48.130343 | X17: -20.078478 | Y17: -11.368726 | Z17: -32.511059 | AA17: -21.166703 | AB17: -8.349898 | AC17: -41.373663 | AD17: -25.236644 | AE17: -14.471084 | AF17: -35.205967 | AG17: -37.033798 | AH17: -35.883281 | AI17: -38.059208 | AJ17: -16.614008 | AK17: -10.142776 | AL17: -23.143856 | AM17: -22.516226 | AN17: -5.1959891 | AO17: -43.487859
B18: Mayo | C18: -30.963093 | D18: -18.878389 | E18: -47.666581 | F18: -33.495014 | G18: -22.085224 | H18: -54.881618 | I18: -31.804577 | J18: -15.443074 | K18: -55.658881 | L18: -24.653736 | M18: -11.978461 | N18: -37.549053 | O18: -30.05295 | P18: -17.204483 | Q18: -47.991938 | R18: -36.76747 | S18: -26.031963 | T18: -41.821507 | U18: -35.121265 | V18: -25.69167 | W18: -52.07726 | X18: -21.289199 | Y18: -11.805865 | Z18: -35.597095 | AA18: -25.800895 | AB18: -10.614381 | AC18: -49.027997 | AD18: -33.29952 | AE18: -22.241477 | AF18: -43.541521 | AG18: -36.719195 | AH18: -39.256706 | AI18: -34.155534 | AJ18: -24.953202 | AK18: -23.194131 | AL18: -26.717125 | AM18: -31.065089 | AN18: -13.26624 | AO18: -51.871658
B19: Junio | C19: -37.913628 | D19: -25.433975 | E19: -55.043255 | F19: -41.753682 | G19: -31.430353 | H19: -61.228103 | I19: -38.637938 | J19: -23.925704 | K19: -60.916844 | L19: -32.248954 | M19: -15.330585 | N19: -48.353468 | O19: -38.590749 | P19: -25.743467 | Q19: -56.776192 | R19: -45.810029 | S19: -34.783576 | T19: -50.770371 | U19: -41.446825 | V19: -31.376664 | W19: -58.344663 | X19: -26.612369 | Y19: -12.697849 | Z19: -48.326751 | AA19: -30.141926 | AB19: -15.900591 | AC19: -52.192818 | AD19: -40.891039 | AE19: -23.495823 | AF19: -56.381817 | AG19: -35.671831 | AH19: -36.173336 | AI19: -35.162191 | AJ19: -28.069136 | AK19: -24.201301 | AL19: -31.830366 | AM19: -32.070831 | AN19: -13.394495 | AO19: -53.658537
B20: Julio | C20: -42.744077 | D20: -29.349694 | E20: -60.44021 | F20: -48.665213 | G20: -35.029565 | H20: -71.190214 | I20: -41.239708 | J20: -26.221034 | K20: -63.076385 | L20: -33.639287 | M20: -15.583307 | N20: -50.512088 | O20: -42.722827 | P20: -30.015612 | Q20: -60.202171 | R20: -48.863135 | S20: -40.037034 | T20: -53.095656 | U20: -47.281297 | V20: -37.315057 | W20: -63.415649 | X20: -37.363299 | Y20: -17.332057 | Z20: -69.321492 | AA20: -36.320982 | AB20: -22.505425 | AC20: -57.391849 | AD20: -43.974843 | AE20: -28.531676 | AF20: -57.747484 | AG20: -33.633769 | AH20: -34.070707 | AI20: -33.20425 | AJ20: -36.08776 | AK20: -33.249016 | AL20: -38.886195 | AM20: -36.194213 | AN20: -25.760286 | AO20: -48.859935
B21: Agosto | C21: -45.064407 | D21: -32.428769 | E21: -61.823104 | F21: -50.089873 | G21: -39.197064 | H21: -68.779625 | I21: -42.91999 | J21: -28.499882 | K21: -64.286882 | L21: -34.97265 | M21: -17.18137 | N21: -51.731077 | O21: -47.041655 | P21: -34.854973 | Q21: -63.540013 | R21: -50.802085 | S21: -41.366143 | T21: -55.240157 | U21: -48.997708 | V21: -39.645508 | W21: -64.084157 | X21: -37.58111 | Y21: -16.515451 | Z21: -71.011084 | AA21: -42.664371 | AB21: -30.272775 | AC21: -61.492532 | AD21: -46.700282 | AE21: -30.57206 | AF21: -60.784249 | AG21: -35.925346 | AH21: -30.559892 | AI21: -40.985376 | AJ21: -38.52479 | AK21: -35.637848 | AL21: -41.353383 | AM21: -41.863834 | AN21: -25.670841 | AO21: -60.860441
B22: Septiembre | C22: -44.668567 | D22: -34.00327 | E22: -58.882863 | F22: -52.580842 | G22: -41.837274 | H22: -70.786491 | I22: -42.870429 | J22: -28.855149 | K22: -63.915933 | L22: -34.609272 | M22: -20.368195 | N22: -48.464974 | O22: -44.637627 | P22: -37.182295 | Q22: -54.676603 | R22: -42.859961 | S22: -40.721257 | T22: -43.930263 | U22: -47.111328 | V22: -39.51743 | W22: -59.123636 | X22: -37.544089 | Y22: -16.214632 | Z22: -71.748798 | AA22: -44.48508 | AB22: -36.027993 | AC22: -57.293717 | AD22: -45.310256 | AE22: -29.15922 | AF22: -59.424432 | AG22: -34.669051 | AH22: -33.475769 | AI22: -35.785317 | AJ22: -40.335752 | AK22: -34.937179 | AL22: -45.542169 | AM22: -40.970221 | AN22: -22.232223 | AO22: -62.409887
B23: Octubre | C23: -41.632478 | D23: -34.900282 | E23: -50.443389 | F23: -53.375589 | G23: -44.484784 | H23: -68.681104 | I23: -40.592699 | J23: -29.59231 | K23: -56.515146 | L23: -28.976223 | M23: -18.855004 | N23: -38.499804 | O23: -38.207338 | P23: -36.231427 | Q23: -40.717883 | R23: -35.738279 | S23: -41.056162 | T23: -33.064449 | U23: -44.987852 | V23: -39.360374 | W23: -53.734906 | X23: -30.59494 | Y23: -16.640488 | Z23: -53.024128 | AA23: -43.243264 | AB23: -37.29899 | AC23: -52.301975 | AD23: -45.759798 | AE23: -34.633124 | AF23: -55.247505 | AG23: -27.253881 | AH23: -32.167199 | AI23: -22.812169 | AJ23: -34.420577 | AK23: -36.907449 | AL23: -32.042895 | AM23: -36.131211 | AN23: -29.133155 | AO23: -44.339623
B24: Noviembre | C24: -40.307782 | D24: -35.452606 | E24: -46.652302 | F24: -54.095795 | G24: -46.483855 | H24: -66.942863 | I24: -40.158499 | J24: -30.203131 | K24: -54.45278 | L24: -27.221642 | M24: -19.630652 | N24: -34.639449 | O24: -36.049743 | P24: -39.536936 | Q24: -31.497808 | R24: -32.411778 | S24: -35.797462 | T24: -30.775681 | U24: -42.117818 | V24: -37.146354 | W24: -49.80988 | X24: -28.906131 | Y24: -15.735175 | Z24: -50.293164 | AA24: -40.875225 | AB24: -37.098358 | AC24: -46.666927 | AD24: -42.48489 | AE24: -32.50057 | AF24: -50.924051 | AG24: -27.493485 | AH24: -32.507365 | AI24: -23.171119 | AJ24: -32.289223 | AK24: -38.856368 | AL24: -26.148198 | AM24: -34.608121 | AN24: -33.611343 | AO24: -35.908596
B25: Diciembre | C25: -38.056617 | D25: -34.228 | E25: -42.833364 | F25: -53.062108 | G25: -47.414005 | H25: -62.894731 | I25: -37.76886 | J25: -29.592864 | K25: -48.925625 | L25: -28.44845 | M25: -20.822387 | N25: -35.495798 | O25: -30.30976 | P25: -36.798341 | Q25: -22.6247 | R25: -31.703556 | S25: -36.16794 | T25: -29.620578 | U25: -38.869308 | V25: -33.003385 | W25: -46.922575 | X25: -25.50444 | Y25: -13.44255 | Z25: -45.507949 | AA25: -40.288533 | AB25: -35.873486 | AC25: -46.699216 | AD25: -39.883619 | AE25: -29.05696 | AF25: -48.924308 | AG25: -28.75547 | AH25: -25.792889 | AI25: -30.991655 | AJ25: -31.858407 | AK25: -39.350384 | AL25: -24.856785 | AM25: -28.943489 | AN25: -30.099502 | AO25: -27.261761
A26: 2021 | B26: Enero | C26: -37.633247 | D26: -35.040306 | E26: -40.971283 | F26: -53.149096 | G26: -49.467861 | H26: -60.534264 | I26: -37.228732 | J26: -29.685621 | K26: -47.248734 | L26: -28.402912 | M26: -20.884347 | N26: -35.934367 | O26: -29.052773 | P26: -33.705219 | Q26: -23.694682 | R26: -32.815785 | S26: -36.33334 | T26: -31.180211 | U26: -40.328999 | V26: -37.855132 | W26: -43.942011 | X26: -22.357826 | Y26: -11.201922 | Z26: -40.763104 | AA26: -41.440306 | AB26: -38.580302 | AC26: -45.77802 | AD26: -38.833779 | AE26: -31.581536 | AF26: -45.071431 | AG26: -29.650523 | AH26: -32.115042 | AI26: -27.630096 | AJ26: -28.232154 | AK26: -37.776008 | AL26: -19.882189 | AM26: -27.416268 | AN26: -24.899598 | AO26: -31.12426
B27: Febrero | C27: -38.0634 | D27: -34.972369 | E27: -42.144512 | F27: -54.564039 | G27: -48.927418 | H27: -65.214519 | I27: -40.471871 | J27: -32.272727 | K27: -52.004573 | L27: -25.23286 | M27: -18.547848 | N27: -32.286614 | O27: -29.257911 | P27: -32.759215 | Q27: -25.044134 | R27: -32.518205 | S27: -41.388164 | T27: -28.415279 | U27: -40.033312 | V27: -38.077319 | W27: -43.036048 | X27: -22.634364 | Y27: -11.404097 | Z27: -41.157592 | AA27: -39.531514 | AB27: -37.697607 | AC27: -42.35072 | AD27: -37.028966 | AE27: -29.823099 | AF27: -43.360181 | AG27: -27.063789 | AH27: -28.552209 | AI27: -25.764488 | AJ27: -20.009838 | AK27: -19.81318 | AL27: -20.192438 | AM27: -31.216931 | AN27: -35.423453 | AO27: -25.146886
B28: Marzo | C28: -30.635252 | D28: -32.540537 | E28: -27.798891 | F28: -50.936187 | G28: -47.386843 | H28: -58.544739 | I28: -31.632872 | J28: -32.042793 | K28: -30.918038 | L28: -19.108778 | M28: -16.045261 | N28: -22.531505 | O28: -19.813529 | P28: -30.258262 | Q28: -5.4463089 | R28: -21.067767 | S28: -39.734086 | T28: -10.839532 | U28: -33.105464 | V28: -35.23879 | W28: -29.407004 | X28: -12.9099 | Y28: -2.5631804 | Z28: -29.848871 | AA28: -32.891871 | AB28: -34.921202 | AC28: -29.382716 | AD28: -27.407806 | AE28: -22.758621 | AF28: -31.401449 | AG28: -18.016049 | AH28: -22.3869 | AI28: -14.242584 | AJ28: -10.65442 | AK28: -18.186509 | AL28: -2.522881 | AM28: -24.37018 | AN28: -29.642546 | AO28: -16.79198
B29: Abril | C29: -15.222803 | D29: -27.303519 | E29: 10.221005 | F29: -40.587979 | G29: -42.884886 | H29: -33.364278 | I29: -13.330706 | J29: -26.066021 | K29: 22.213998 | L29: -4.8045194 | M29: -12.663141 | N29: 6.5015875 | O29: -4.166298 | P29: -28.894473 | Q29: 51.100498 | R29: 4.2259968 | S29: -23.866329 | T29: 20.109347 | U29: -16.009326 | V29: -30.061093 | W29: 23.49908 | X29: -2.4165765 | Y29: 4.6372151 | Z29: -15.639652 | AA29: -20.624714 | AB29: -31.514287 | AC29: 6.2146503 | AD29: -7.0930149 | AE29: -18.314587 | AF29: 6.6240341 | AG29: 10.249288 | AH29: 1.3747196 | AI29: 18.436686 | AJ29: -1.4347141 | AK29: -10.56399 | AL29: 9.3355605 | AM29: -8.7628866 | AN29: -24.326923 | AO29: 22.851562
B30: Mayo | C30: -9.7622123 | D30: -20.899738 | E30: 14.100362 | F30: -34.727387 | G30: -36.251752 | H30: -29.793157 | I30: -7.3930935 | J30: -19.74913 | K30: 26.959955 | L30: -1.8999125 | M30: -7.8765412 | N30: 6.6700877 | O30: 2.5898444 | P30: -21.271933 | Q30: 55.62765 | R30: 4.8428369 | S30: -13.438181 | T30: 15.784867 | U30: -6.3841423 | V30: -20.224529 | W30: 32.205816 | X30: -0.20601355 | Y30: 2.2967305 | Z30: -5.3769054 | AA30: -21.253664 | AB30: -30.129795 | AC30: 2.5528952 | AD30: 5.1056434 | AE30: -10.459765 | AF30: 24.961374 | AG30: 10.452295 | AH30: 8.4739174 | AI30: 12.29621 | AJ30: 7.1959714 | AK30: 3.6737693 | AL30: 10.897683 | AM30: -0.35765379 | AN30: -17.510549 | AO30: 35.777778
B31: Junio | C31: 3.4900338 | D31: -14.114416 | E31: 43.568767 | F31: -22.369253 | G31: -27.315127 | H31: -5.8685369 | I31: 7.7341733 | J31: -11.28943 | K31: 63.807501 | L31: 8.1204074 | M31: -4.6904603 | N31: 28.112262 | O31: 19.693678 | P31: -14.674475 | Q31: 103.26946 | R31: 27.199633 | S31: 1.6720696 | T31: 42.412657 | U31: 7.6204325 | V31: -13.31495 | W31: 65.493543 | X31: 10.895415 | Y31: 4.9609683 | Z31: 26.541968 | AA31: -15.310575 | AB31: -26.702183 | AC31: 15.717888 | AD31: 21.038969 | AE31: -6.5771678 | AF31: 64.173382 | AG31: 15.636944 | AH31: 1.7808118 | AI31: 29.498219 | AJ31: 10.144366 | AK31: 4.2148452 | AL31: 16.555757 | AM31: 2.7516293 | AN31: -18.855932 | AO31: 49.427918
B32: Julio | C32: 16.801827 | D32: -7.3115845 | E32: 73.696867 | F32: -11.951643 | G32: -20.95605 | H32: 21.592746 | I32: 19.556941 | J32: -6.1484662 | K32: 94.23754 | L32: 13.312099 | M32: -1.5401587 | N32: 36.986981 | O32: 33.148415 | P32: -6.9900048 | Q32: 130.23893 | R32: 44.719944 | S32: 0.73474603 | T32: 71.685344 | U32: 25.535938 | V32: -4.0878835 | W32: 107.70895 | X32: 34.197933 | Y32: 12.311795 | Z32: 128.28856 | AA32: 0.018268399 | AB32: -16.998608 | AC32: 47.221584 | AD32: 34.020784 | AE32: 2.0641101 | AF32: 82.22705 | AG32: 22.170665 | AH32: 5.0865635 | AI32: 38.746841 | AJ32: 26.82421 | AK32: 16.189474 | AL32: 38.274963 | AM32: 15.603382 | AN32: -5.6626506 | AO32: 53.078556
B33: Agosto | C33: 25.391271 | D33: -0.59001102 | E33: 86.382146 | F33: -3.9136713 | G33: -13.207803 | H33: 27.143289 | I33: 26.901841 | J33: -1.7876771 | K33: 112.01076 | L33: 18.164149 | M33: 2.8460778 | N33: 42.920723 | O33: 46.964752 | P33: 0.54609613 | Q33: 159.24737 | R33: 52.243417 | S33: 8.6468886 | T33: 79.104345 | U33: 32.958168 | V33: 3.6038521 | W33: 112.53173 | X33: 39.017392 | Y33: 14.811427 | Z33: 149.64347 | AA33: 14.441512 | AB33: -4.5710719 | AC33: 66.750846 | AD33: 42.758161 | AE33: 6.0014263 | AF33: 99.584429 | AG33: 28.595641 | AH33: 7.8231547 | AI33: 51.646433 | AJ33: 33.291771 | AK33: 22.55524 | AL33: 44.836509 | AM33: 27.740864 | AN33: 8.543923 | AO33: 70.509383
B34: Septiembre | C34: 28.409436 | D34: 4.0345806 | E34: 80.552193 | F34: 5.8256141 | G34: -6.6667454 | H34: 47.972273 | I34: 29.349019 | J34: -0.40643458 | K34: 117.44419 | L34: 22.864412 | M34: 9.0734409 | N34: 43.59753 | O34: 45.682728 | P34: 8.1531693 | Q34: 115.72423 | R34: 39.447788 | S34: 11.194269 | T34: 54.396319 | U34: 29.099801 | V34: 4.9919039 | W34: 85.525773 | X34: 44.431598 | Y34: 15.580012 | Z34: 181.64832 | AA34: 20.613564 | AB34: 5.5884009 | AC34: 54.701401 | AD34: 43.292584 | AE34: 6.350314 | AF34: 99.65602 | AG34: 29.746713 | AH34: 21.698261 | AI34: 37.546497 | AJ34: 42.169878 | AK34: 24.467852 | AL34: 62.566372 | AM34: 25.874695 | AN34: 8.2175926 | AO34: 67.671233
B35: Octubre | C35: 26.52207 | D35: 9.1147628 | E35: 56.449758 | F35: 16.169912 | G35: 4.9524657 | H35: 50.399879 | I35: 27.43226 | J35: 0.81080565 | K35: 89.822349 | L35: 16.080187 | M35: 9.8009791 | N35: 23.87593 | O35: 32.224143 | P35: 11.225248 | Q35: 60.924021 | R35: 25.931475 | S35: 16.488727 | T35: 30.112426 | U35: 30.616291 | V35: 8.0421787 | W35: 76.60611 | X35: 34.19432 | Y35: 17.294751 | Z35: 82.395393 | AA35: 22.56021 | AB35: 8.7890945 | AC35: 50.147614 | AD35: 52.956207 | AE35: 20.700916 | AF35: 93.129494 | AG35: 22.61069 | AH35: 35.544391 | AI35: 12.335516 | AJ35: 35.315457 | AK35: 34.950805 | AL35: 35.639143 | AM35: 19.637462 | AN35: 18.537201 | AO35: 21.280603
B36: Noviembre | C36: 26.822152 | D36: 11.114014 | E36: 51.658148 | F36: 19.708391 | G36: 7.4168113 | H36: 53.292662 | I36: 29.980875 | J36: 2.7317691 | K36: 89.936693 | L36: 14.918428 | M36: 9.1462352 | N36: 21.854166 | O36: 33.781571 | P36: 23.387896 | Q36: 45.756555 | R36: 20.242666 | S36: 9.2705959 | T36: 25.16017 | U36: 27.447368 | V36: 7.5102536 | W36: 66.07811 | X36: 29.810039 | Y36: 13.978495 | Z36: 73.389992 | AA36: 27.805273 | AB36: 10.536775 | AC36: 59.036896 | AD36: 51.441551 | AE36: 18.65247 | AF36: 89.560548 | AG36: 17.82727 | AH36: 34.585704 | AI36: 5.1357733 | AJ36: 32.270226 | AK36: 41.704612 | AL36: 24.966103 | AM36: 16.750903 | AN36: 20.728643 | AO36: 11.375212
B37: Diciembre | C37: 26.38379 | D37: 11.676501 | E37: 47.495397 | F37: 23.195021 | G37: 11.951381 | H37: 50.935132 | I37: 34.722633 | J37: 4.4208074 | K37: 91.723321 | L37: 16.350966 | M37: 8.8975206 | N37: 24.80564 | O37: 24.224861 | P37: 21.884388 | Q37: 26.489126 | R37: 19.707785 | S37: 12.907067 | T37: 22.585653 | U37: 28.278061 | V37: 8.9850661 | W37: 61.711295 | X37: 24.015573 | Y37: 9.2229782 | Z37: 62.983425 | AA37: 26.542137 | AB37: 10.380713 | AC37: 54.774857 | AD37: 46.016789 | AE37: 11.894507 | AF37: 85.593586 | AG37: 19.226551 | AH37: 29.560716 | AI37: 10.838585 | AJ37: 35.784216 | AK37: 45.782993 | AL37: 28.242201 | AM37: 12.30982 | AN37: 13.16726 | AO37: 11.111111
A38: 2022 | B38: Enero | C38: 26.325476 | D38: 13.494941 | E38: 44.502533 | F38: 25.654445 | G38: 19.404923 | H38: 41.707625 | I38: 33.531609 | J38: 5.0816207 | K38: 83.906095 | L38: 16.371742 | M38: 4.4713012 | N38: 31.092979 | O38: 22.624649 | P38: 19.67164 | Q38: 25.579381 | R38: 22.212362 | S38: 13.184443 | T38: 26.095797 | U38: 31.817435 | V38: 15.612326 | W38: 58.05436 | X38: 20.53692 | Y38: 0.72064327 | Z38: 69.545369 | AA38: 22.23 | AB38: 15.746913 | AC38: 33.368036 | AD38: 44.596991 | AE38: 25.886191 | AF38: 64.642455 | AG38: 26.276159 | AH38: 35.370426 | AI38: 19.282666 | AJ38: 27.758426 | AK38: 47.760326 | AL38: 14.167128 | AM38: 12.656559 | AN38: 6.4171123 | AO38: 22.680412
B39: Febrero | C39: 27.214309 | D39: 15.490078 | E39: 44.612854 | F39: 33.256372 | G39: 19.335266 | H39: 71.876513 | I39: 37.319069 | J39: 10.206457 | K39: 91.133367 | L39: 14.187391 | M39: 4.7915541 | N39: 26.113027 | O39: 23.820505 | P39: 23.550998 | Q39: 24.111468 | R39: 18.13548 | S39: 21.547119 | T39: 16.843369 | U39: 32.568766 | V39: 18.429393 | W39: 56.164287 | X39: 18.623569 | Y39: 2.3401409 | Z39: 59.062128 | AA39: 20.551476 | AB39: 15.045955 | AC39: 29.698056 | AD39: 40.327481 | AE39: 24.349563 | AF39: 57.721236 | AG39: 20.408028 | AH39: 29.88847 | AI39: 12.442957 | AJ39: 20.996222 | AK39: 24.717874 | AL39: 17.524198 | AM39: 21.258741 | AN39: 24.968474 | AO39: 16.640502
B40: Marzo | C40: 26.97419 | D40: 17.467793 | E40: 40.196774 | F40: 43.496469 | G40: 26.315789 | H40: 90.238651 | I40: 33.899561 | J40: 11.395279 | K40: 72.504311 | L40: 15.468734 | M40: 6.896724 | N40: 25.847718 | O40: 21.323484 | P40: 22.937665 | Q40: 19.685756 | R40: 18.910483 | S40: 26.198734 | T40: 16.211098 | U40: 29.414877 | V40: 18.196355 | W40: 47.257251 | X40: 13.056334 | Y40: 0.32974875 | Z40: 41.995412 | AA40: 22.395177 | AB40: 16.80312 | AC40: 31.306656 | AD40: 37.85635 | AE40: 26.285499 | AF40: 49.047966 | AG40: 15.879788 | AH40: 34.501502 | AI40: 1.3299804 | AJ40: 18.294354 | AK40: 30.104523 | AL40: 7.5930764 | AM40: 18.626784 | AN40: 26.146221 | AO40: 9.4879518
B41: Abril | C41: 29.773414 | D41: 18.814268 | E41: 44.996936 | F41: 47.319498 | G41: 31.058401 | H41: 91.153395 | I41: 36.61412 | J41: 11.949174 | K41: 78.259662 | L41: 20.280372 | M41: 8.1078726 | N41: 34.64148 | O41: 27.539652 | P41: 25.206537 | Q41: 29.993489 | R41: 22.147331 | S41: 28.854713 | T41: 19.74348 | U41: 32.981506 | V41: 19.461893 | W41: 54.50823 | X41: 10.183685 | Y41: -2.1146341 | Z41: 38.779561 | AA41: 23.800507 | AB41: 16.841697 | AC41: 34.859406 | AD41: 27.5984 | AE41: 22.479586 | AF41: 32.392043 | AG41: 23.288405 | AH41: 39.390479 | AI41: 10.573184 | AJ41: 21.639599 | AK41: 26.613896 | AL41: 16.839246 | AM41: 25.423729 | AN41: 35.70521 | AO41: 12.559618
B42: Mayo | C42: 34.995262 | D42: 21.05257 | E42: 55.704596 | F42: 56.00306 | G42: 31.3753 | H42: 128.38733 | I42: 43.30454 | J42: 17.643189 | K42: 88.401638 | L42: 21.987883 | M42: 9.9953823 | N42: 36.839096 | O42: 30.682804 | P42: 26.200713 | Q42: 35.722523 | R42: 34.629691 | S42: 22.453975 | T42: 40.078061 | U42: 35.95471 | V42: 21.255356 | W42: 60.685794 | X42: 8.646546 | Y42: 0.5260948 | Z42: 26.784729 | AA42: 35.583837 | AB42: 20.469369 | AC42: 63.202957 | AD42: 29.634127 | AE42: 27.821664 | AF42: 31.290801 | AG42: 31.727276 | AH42: 39.310543 | AI42: 24.899987 | AJ42: 21.578786 | AK42: 26.080794 | AL42: 17.15554 | AM42: 26.058866 | AN42: 34.015345 | AO42: 15.875614
B43: Junio | C43: 32.742877 | D43: 22.566348 | E43: 46.602504 | F43: 56.721871 | G43: 35.648466 | H43: 111.00984 | I43: 40.173118 | J43: 18.408729 | K43: 74.914863 | L43: 21.790684 | M43: 11.590687 | N43: 33.632553 | O43: 28.129122 | P43: 27.311937 | Q43: 28.963286 | R43: 27.198598 | S43: 23.044135 | T43: 28.966157 | U43: 31.290815 | V43: 22.530076 | W43: 43.976088 | X43: 6.7145446 | Y43: -0.8406415 | Z43: 23.237086 | AA43: 32.853547 | AB43: 22.713437 | AC43: 50.348326 | AD43: 30.17435 | AE43: 27.383378 | AF43: 32.655006 | AG43: 25.048936 | AH43: 44.448495 | AI43: 9.7959418 | AJ43: 23.693702 | AK43: 27.46063 | AL43: 20.051903 | AM43: 21.775899 | AN43: 34.725849 | AO43: 6.5849923
B44: Julio | C44: 29.34759 | D44: 22.777293 | E44: 37.620042 | F44: 53.92247 | G44: 37.004458 | H44: 94.893327 | I44: 34.85128 | J44: 18.78144 | K44: 57.409409 | L44: 21.767959 | M44: 9.3869402 | N44: 35.953031 | O44: 25.287257 | P44: 27.024001 | Q44: 23.590173 | R44: 21.794776 | S44: 33.213531 | T44: 17.687394 | U44: 27.476795 | V44: 25.212268 | W44: 30.377369 | X44: 5.1324638 | Y44: -2.2662957 | Z44: 20.781131 | AA44: 27.860309 | AB44: 18.597409 | AC44: 42.346477 | AD44: 23.209286 | AE44: 24.895485 | AF44: 21.784626 | AG44: 26.811796 | AH44: 47.426739 | AI44: 11.662292 | AJ44: 21.65849 | AK44: 25.104186 | AL44: 18.540984 | AM44: 17.68617 | AN44: 41.890166 | AO44: -8.5991678
B45: Agosto | C45: 26.609709 | D45: 20.827019 | E45: 33.850066 | F45: 44.175562 | G45: 33.614179 | H45: 68.266746 | I45: 32.28732 | J45: 16.743044 | K45: 53.648755 | L45: 19.359777 | M45: 10.29284 | N45: 29.904607 | O45: 24.086216 | P45: 28.766186 | Q45: 19.695717 | R45: 19.62257 | S45: 25.111555 | T45: 17.571066 | U45: 25.465853 | V45: 20.745887 | W45: 31.703026 | X45: 2.9641508 | Y45: -4.0229616 | Z45: 17.649956 | AA45: 27.310054 | AB45: 15.997538 | AC45: 45.121914 | AD45: 24.253313 | AE45: 25.208301 | AF45: 23.469171 | AG45: 25.945565 | AH45: 43.741747 | AI45: 11.90437 | AJ45: 21.098733 | AK45: 24.500179 | AL45: 18.003898 | AM45: 21.651495 | AN45: 29.822616 | AO45: 10.062893
B46: Septiembre | C46: 24.256886 | D46: 19.641201 | E46: 29.94624 | F46: 42.579635 | G46: 32.722695 | H46: 63.555352 | I46: 30.900011 | J46: 17.882365 | K46: 48.552317 | L46: 18.692664 | M46: 10.376469 | N46: 28.189227 | O46: 20.314237 | P46: 25.38645 | Q46: 15.568324 | R46: 17.090404 | S46: 23.480769 | T46: 14.655415 | U46: 23.58598 | V46: 20.101004 | W46: 28.202034 | X46: -0.060036022 | Y46: -5.6200964 | Z46: 10.79153 | AA46: 23.600954 | AB46: 14.542823 | AC46: 37.627179 | AD46: 21.412084 | AE46: 22.890168 | AF46: 20.210846 | AG46: 18.823355 | AH46: 25.469876 | AI46: 13.124345 | AJ46: 18.642317 | AK46: 27.371298 | AL46: 10.941753 | AM46: 18.293471 | AN46: 23.636364 | AO46: 10.130719
...

Sheet 2.2 V.A.C Per.categ
L4: Inicio
A6: ENCUESTA MENSUAL DE ALOJAMIENTO - EMA
A8: 2.2 Variaciones año corrido del personal total y por categoría
A9: Total nacional y 12 regiones
A10: ='1.1 V.A Ing.real'!A11 -> Enero 2020 - agosto 2026ᵖ
A12: Año | B12: Meses | C12: Total nacional | F12: Bogotá, D. C. | I12: Cartagena | L12: Central | O12: Caribe | R12: Eje Cafetero | U12: Antioquia | X12: San Andrés y Providencia | AA12: Pacífico | AD12: Santanderes | AG12: Llanos Orinoquía | AJ12: Golfo Morrosquillo y Sabana | AM12: Amazonía
C13: Total del personal | D13: Personal permanente | E13: Resto de personal1 | F13: Total del personal | G13: Personal permanente | H13: Resto de personal1 | I13: Total del personal | J13: Personal permanente | K13: Resto de personal1 | L13: Total del personal | M13: Personal permanente | N13: Resto de personal1 | O13: Total del personal | P13: Personal permanente | Q13: Resto de personal1 | R13: Total del personal | S13: Personal permanente | T13: Resto de personal1 | U13: Total del personal | V13: Personal permanente | W13: Resto de personal1 | X13: Total del personal | Y13: Personal permanente | Z13: Resto de personal1 | AA13: Total del personal | AB13: Personal permanente | AC13: Resto de personal1 | AD13: Total del personal | AE13: Personal permanente | AF13: Resto de personal1 | AG13: Total del personal | AH13: Personal permanente | AI13: Resto de personal1 | AJ13: Total del personal | AK13: Personal permanente | AL13: Resto de personal1 | AM13: Total del personal | AN13: Personal permanente | AO13: Resto de personal1
A14: 2020 | B14: Enero | C14: 2.1753621 | D14: 1.0528688 | E14: 3.6576573 | F14: 1.3476145 | G14: 2.2650545 | H14: -0.44416244 | I14: 3.9930471 | J14: 2.2090602 | K14: 6.4614258 | L14: 1.6286857 | M14: 4.0744566 | N14: -0.70868107 | O14: 4.7674563 | P14: -0.94763238 | Q14: 12.224642 | R14: 4.1703674 | S14: 8.2823025 | T14: 2.362939 | U14: 3.8327482 | V14: 0.90153469 | W14: 8.4332521 | X14: -6.8581622 | Y14: -0.92100287 | Z14: -15.238006 | AA14: 1.9267154 | AB14: -0.097443393 | AC14: 5.1582266 | AD14: 2.7836219 | AE14: -1.0038205 | AF14: 6.2809117 | AG14: -8.2130078 | AH14: -14.400871 | AI14: -2.4307818 | AJ14: 8.3571272 | AK14: -3.5000699 | AL14: 21.408797 | AM14: 0.96618357 | AN14: 11.260054 | AO14: -11.146162
B15: Febrero | C15: 2.2873328 | D15: 0.6735744 | E15: 4.4703162 | F15: 1.6994358 | G15: 1.841269 | H15: 1.4245749 | I15: 4.0651423 | J15: 2.2651014 | K15: 6.6297796 | L15: 1.9000322 | M15: 4.2198288 | N15: -0.37819035 | O15: 3.7849315 | P15: -2.1374369 | Q15: 11.741616 | R15: 5.3659489 | S15: 6.542424 | T15: 4.8290903 | U15: 3.7549043 | V15: -1.0236225 | W15: 11.836068 | X15: -5.5683278 | Y15: -0.53716107 | Z15: -12.841125 | AA15: 1.9713347 | AB15: 0.61295234 | AC15: 4.1176531 | AD15: 3.4060913 | AE15: -0.18327476 | AF15: 6.7426584 | AG15: -8.1870083 | AH15: -13.334223 | AI15: -3.3338925 | AJ15: 6.0241404 | AK15: -3.5135704 | AL15: 16.387883 | AM15: 1.8070818 | AN15: 12.306994 | AO15: -10.406762
B16: Marzo | C16: -0.7077651 | D16: -0.52397319 | E16: -0.95638448 | F16: -0.99624669 | G16: 0.62371707 | H16: -4.0943767 | I16: 0.64648533 | J16: 2.1517263 | K16: -1.4908828 | L16: -0.61630808 | M16: 2.7959806 | N16: -3.9776536 | O16: 0.27656131 | P16: -3.5295019 | Q16: 5.4109713 | R16: 1.4234439 | S16: 4.8532789 | T16: -0.17003289 | U16: 0.44231652 | V16: -2.6957876 | W16: 5.7866981 | X16: -7.7087297 | Y16: -2.5936835 | Z16: -15.049746 | AA16: -0.77067278 | AB16: -0.1241328 | AC16: -1.780179 | AD16: 0.79568336 | AE16: -3.0289656 | AF16: 4.3602943 | AG16: -9.4445621 | AH16: -14.299034 | AI16: -4.8587137 | AJ16: 2.3088514 | AK16: -3.7780484 | AL16: 8.8716602 | AM16: -0.48828125 | AN16: 9.2665258 | AO16: -11.903921
B17: Abril | C17: -6.7126409 | D17: -3.1766604 | E17: -11.495961 | F17: -7.0495416 | G17: -2.8553274 | H17: -15.073348 | I17: -5.7232235 | J17: -0.042317112 | K17: -13.829969 | L17: -5.9037542 | M17: 0.35748924 | N17: -12.071414 | O17: -5.9882667 | P17: -4.7314486 | Q17: -7.6726643 | R17: -6.2320724 | S17: -1.4935658 | T17: -8.4422111 | U17: -6.3171972 | V17: -5.4407692 | W17: -7.8066898 | X17: -10.774881 | Y17: -4.7651566 | Z17: -19.388353 | AA17: -5.9001608 | AB17: -2.1987121 | AC17: -11.693683 | AD17: -5.7996884 | AE17: -5.9206559 | AF17: -5.687129 | AG17: -16.354825 | AH17: -19.583191 | AI17: -13.349194 | AJ17: -2.5167254 | AK17: -5.3622322 | AL17: 0.49982282 | AM17: -5.9040137 | AN17: 5.6689342 | AO17: -19.561145
B18: Mayo | C18: -11.562124 | D18: -6.3395237 | E18: -18.657476 | F18: -12.509857 | G18: -6.803629 | H18: -23.380215 | I18: -10.919917 | J18: -3.1325429 | K18: -22.080144 | L18: -9.5907616 | M18: -2.0998395 | N18: -17.016694 | O18: -10.714759 | P18: -7.2154549 | Q18: -15.442308 | R18: -12.264468 | S18: -6.3659036 | T18: -15.020747 | U18: -12.059718 | V18: -9.5448761 | W18: -16.381761 | X18: -12.850936 | Y18: -6.1786719 | Z18: -22.511027 | AA18: -9.9208043 | AB18: -3.8866983 | AC18: -19.32134 | AD18: -11.312697 | AE18: -9.1862963 | AF18: -13.289467 | AG18: -20.172539 | AH18: -23.39736 | AI18: -17.123815 | AJ18: -7.0942684 | AK18: -8.9216818 | AL18: -5.1788771 | AM18: -10.918919 | AN18: 1.9080502 | AO18: -26.027397
B19: Junio | C19: -15.994926 | D19: -9.5631683 | E19: -24.748115 | F19: -17.5032 | G19: -10.996838 | H19: -29.877094 | I19: -15.529985 | J19: -6.6555899 | K19: -28.364639 | L19: -13.444361 | M19: -4.3118757 | N19: -22.43535 | O19: -15.416921 | P19: -10.391978 | Q19: -22.259067 | R19: -17.905375 | S19: -11.041862 | T19: -21.092248 | U19: -17.03751 | V19: -13.215757 | W19: -23.579015 | X19: -15.102107 | Y19: -7.2721112 | Z19: -26.57743 | AA19: -13.333743 | AB19: -5.9103673 | AC19: -24.886649 | AD19: -16.266386 | AE19: -11.538244 | AF19: -20.630316 | AG19: -22.607574 | AH19: -25.467044 | AI19: -19.87338 | AJ19: -10.688418 | AK19: -11.459972 | AL19: -9.8900431 | AM19: -14.44135 | AN19: -0.62187168 | AO19: -30.667854
B20: Julio | C20: -19.861177 | D20: -12.392201 | E20: -29.982386 | F20: -22.13732 | G20: -14.418892 | H20: -36.506817 | I20: -19.191193 | J20: -9.4470085 | K20: -33.294458 | L20: -16.373209 | M20: -5.909701 | N20: -26.596997 | O20: -19.363046 | P20: -13.238322 | Q20: -27.714943 | R20: -22.365391 | S20: -15.29812 | T20: -25.662237 | U20: -21.464286 | V20: -16.680674 | W20: -29.585262 | X20: -18.200697 | Y20: -8.7133356 | Z20: -32.269036 | AA20: -16.653321 | AB20: -8.2905906 | AC20: -29.630138 | AD20: -20.25682 | AE20: -13.948095 | AF20: -26.050887 | AG20: -24.044019 | AH20: -26.601661 | AI20: -21.589594 | AJ20: -14.400938 | AK20: -14.57977 | AL20: -14.217196 | AM20: -17.554573 | AN20: -4.2666321 | AO20: -33.231334
